BEGIN:VCALENDAR
VERSION:2.0
PRODID:-//127.0.1.1//NONSGML kigkonsult.se iCalcreator 2.41.92//
CALSCALE:GREGORIAN
METHOD:PUBLISH
UID:32656337-6364-4338-a565-366662326435
X-WR-CALNAME:Space Informatics Calendar
X-WR-CALDESC:Events of the lecture Space Informatics
X-WR-TIMEZONE:Europe/Berlin
BEGIN:VEVENT
UID:30373233-3161-4166-b639-353930333061
DTSTAMP:20260422T193410Z
DESCRIPTION:
DTSTART:20181015T080000Z
DTEND:20181015T090000Z
LOCATION:HS003 Building E1.3
SUMMARY:Spic18: Final Exam
END:VEVENT
END:VCALENDAR
