BEGIN:VCALENDAR
VERSION:2.0
PRODID:-//127.0.1.1//NONSGML kigkonsult.se iCalcreator 2.41.92//
CALSCALE:GREGORIAN
METHOD:PUBLISH
UID:36363230-3130-4665-b135-336566353438
X-WR-CALNAME:Space Informatics Calendar
X-WR-CALDESC:Events of the lecture Space Informatics
X-WR-TIMEZONE:Europe/Berlin
BEGIN:VEVENT
UID:64616166-6131-4566-b333-626134323132
DTSTAMP:20260422T193357Z
DESCRIPTION:
DTSTART:20181015T080000Z
DTEND:20181015T090000Z
LOCATION:HS003 Building E1.3
SUMMARY:Final Exam
END:VEVENT
END:VCALENDAR
