BEGIN:VCALENDAR
VERSION:2.0
PRODID:-//127.0.1.1//NONSGML kigkonsult.se iCalcreator 2.41.92//
CALSCALE:GREGORIAN
METHOD:PUBLISH
UID:36333831-3137-4765-b336-306239353034
X-WR-CALNAME:Space Informatics Calendar
X-WR-CALDESC:Events of the lecture Space Informatics
X-WR-TIMEZONE:Europe/Berlin
BEGIN:VEVENT
UID:64633136-3264-4564-a564-383436643738
DTSTAMP:20260421T073508Z
DESCRIPTION:
DTSTART:20210419T075900Z
DTEND:20210419T075900Z
SUMMARY:Submission P0
END:VEVENT
BEGIN:VEVENT
UID:36326666-6166-4532-b463-383239313939
DTSTAMP:20260421T073508Z
DESCRIPTION:
DTSTART:20210503T075900Z
DTEND:20210503T075900Z
SUMMARY:Submission P1
END:VEVENT
BEGIN:VEVENT
UID:32396138-3363-4730-a564-353065623738
DTSTAMP:20260421T073508Z
DESCRIPTION:
DTSTART:20210520T075900Z
DTEND:20210520T075900Z
SUMMARY:A1 deadline
END:VEVENT
BEGIN:VEVENT
UID:38356464-6634-4265-a361-333264613263
DTSTAMP:20260421T073508Z
DESCRIPTION:
DTSTART:20210527T075900Z
DTEND:20210527T075900Z
SUMMARY:deadline A2
END:VEVENT
BEGIN:VEVENT
UID:35336630-3732-4539-b539-633937366133
DTSTAMP:20260421T073508Z
DESCRIPTION:
DTSTART:20210607T075900Z
DTEND:20210607T075900Z
SUMMARY:Submission P2
END:VEVENT
BEGIN:VEVENT
UID:33333435-3138-4136-b733-303466363431
DTSTAMP:20260421T073508Z
DESCRIPTION:
DTSTART:20210617T075900Z
DTEND:20210617T075900Z
SUMMARY:Deadline A3
END:VEVENT
BEGIN:VEVENT
UID:31616431-3566-4032-b836-646634396633
DTSTAMP:20260421T073508Z
DESCRIPTION:
DTSTART:20210621T075900Z
DTEND:20210621T075900Z
SUMMARY:Milestone P3
END:VEVENT
BEGIN:VEVENT
UID:35656136-6365-4337-b334-383737616364
DTSTAMP:20260421T073508Z
DESCRIPTION:
DTSTART:20210708T075900Z
DTEND:20210708T075900Z
SUMMARY:Deadline A4
END:VEVENT
BEGIN:VEVENT
UID:63633938-3730-4533-b834-356663383131
DTSTAMP:20260421T073508Z
DESCRIPTION:
DTSTART:20210715T075900Z
DTEND:20210715T075900Z
SUMMARY:Deadline A5
END:VEVENT
BEGIN:VEVENT
UID:37346564-3165-4134-b566-636632396363
DTSTAMP:20260421T073508Z
DESCRIPTION:
DTSTART:20210725T215900Z
DTEND:20210725T215900Z
SUMMARY:Submission P3
END:VEVENT
END:VCALENDAR
