BEGIN:VCALENDAR
VERSION:2.0
PRODID:-//127.0.1.1//NONSGML kigkonsult.se iCalcreator 2.41.92//
CALSCALE:GREGORIAN
METHOD:PUBLISH
UID:35366239-3338-4962-b663-316636326530
X-WR-CALNAME:Space Informatics Calendar
X-WR-CALDESC:Events of the lecture Space Informatics
X-WR-TIMEZONE:Europe/Berlin
BEGIN:VEVENT
UID:31623634-3832-4366-b061-333831623335
DTSTAMP:20260424T061331Z
DESCRIPTION:
DTSTART;VALUE=DATE:20210419
DTEND;VALUE=DATE:20210420
SUMMARY:Spain21: Release of Material B
END:VEVENT
BEGIN:VEVENT
UID:62616630-6437-4334-b537-306666333831
DTSTAMP:20260424T061331Z
DESCRIPTION:
DTSTART;VALUE=DATE:20210426
DTEND;VALUE=DATE:20210427
SUMMARY:Spain21: Release of Material C
END:VEVENT
BEGIN:VEVENT
UID:64323066-3462-4239-b562-653065343332
DTSTAMP:20260424T061331Z
DESCRIPTION:
DTSTART;VALUE=DATE:20210503
DTEND;VALUE=DATE:20210504
SUMMARY:Spain21: Release of Material D
END:VEVENT
BEGIN:VEVENT
UID:65306537-6530-4862-b936-616435616666
DTSTAMP:20260424T061331Z
DESCRIPTION:
DTSTART;VALUE=DATE:20210510
DTEND;VALUE=DATE:20210511
SUMMARY:Spain21: Release of Material E
END:VEVENT
BEGIN:VEVENT
UID:37653231-3432-4162-b365-393936626238
DTSTAMP:20260424T061331Z
DESCRIPTION:
DTSTART;VALUE=DATE:20210517
DTEND;VALUE=DATE:20210518
SUMMARY:Spain21: Release of Material F
END:VEVENT
BEGIN:VEVENT
UID:33316132-3364-4666-b734-326536663438
DTSTAMP:20260424T061331Z
DESCRIPTION:
DTSTART;VALUE=DATE:20210524
DTEND;VALUE=DATE:20210525
SUMMARY:Spain21: Release of Material G
END:VEVENT
BEGIN:VEVENT
UID:34353030-6530-4137-b031-393662323033
DTSTAMP:20260424T061331Z
DESCRIPTION:
DTSTART;VALUE=DATE:20210531
DTEND;VALUE=DATE:20210601
SUMMARY:Spain21: Release of Material H
END:VEVENT
BEGIN:VEVENT
UID:38353332-3564-4564-a335-353339323434
DTSTAMP:20260424T061331Z
DESCRIPTION:
DTSTART;VALUE=DATE:20210607
DTEND;VALUE=DATE:20210608
SUMMARY:Spain21: Release of Material I
END:VEVENT
BEGIN:VEVENT
UID:36323062-6365-4864-b766-383331663831
DTSTAMP:20260424T061331Z
DESCRIPTION:
DTSTART;VALUE=DATE:20210614
DTEND;VALUE=DATE:20210615
SUMMARY:Spain21: Release of Material J
END:VEVENT
BEGIN:VEVENT
UID:31323665-6535-4238-b162-313837333333
DTSTAMP:20260424T061331Z
DESCRIPTION:
DTSTART;VALUE=DATE:20210621
DTEND;VALUE=DATE:20210622
SUMMARY:Spain21: Release of Material K
END:VEVENT
BEGIN:VEVENT
UID:33316661-3730-4334-b332-656238326561
DTSTAMP:20260424T061331Z
DESCRIPTION:
DTSTART;VALUE=DATE:20210628
DTEND;VALUE=DATE:20210629
SUMMARY:Spain21: Release of Material L
END:VEVENT
BEGIN:VEVENT
UID:32313837-3031-4335-a262-306363643436
DTSTAMP:20260424T061331Z
DESCRIPTION:
DTSTART;VALUE=DATE:20210705
DTEND;VALUE=DATE:20210706
SUMMARY:Spain21: Release of Material M
END:VEVENT
BEGIN:VEVENT
UID:35393162-3761-4430-a161-623366306439
DTSTAMP:20260424T061331Z
DESCRIPTION:
DTSTART;VALUE=DATE:20210712
DTEND;VALUE=DATE:20210713
SUMMARY:Spain21: Release of Material N
END:VEVENT
END:VCALENDAR
