BEGIN:VCALENDAR
VERSION:2.0
PRODID:-//127.0.1.1//NONSGML kigkonsult.se iCalcreator 2.41.92//
CALSCALE:GREGORIAN
METHOD:PUBLISH
UID:34643633-3435-4936-b161-303666383933
X-WR-CALNAME:Space Informatics Calendar
X-WR-CALDESC:Events of the lecture Space Informatics
X-WR-TIMEZONE:Europe/Berlin
BEGIN:VEVENT
UID:34633731-6435-4136-b435-303666326165
DTSTAMP:20260421T134539Z
DESCRIPTION:
DTSTART;VALUE=DATE:20210419
DTEND;VALUE=DATE:20210420
SUMMARY:Release of Material B
END:VEVENT
BEGIN:VEVENT
UID:62663161-3735-4234-b338-313435616662
DTSTAMP:20260421T134539Z
DESCRIPTION:
DTSTART;VALUE=DATE:20210426
DTEND;VALUE=DATE:20210427
SUMMARY:Release of Material C
END:VEVENT
BEGIN:VEVENT
UID:65333035-3035-4465-a131-636631373534
DTSTAMP:20260421T134539Z
DESCRIPTION:
DTSTART;VALUE=DATE:20210503
DTEND;VALUE=DATE:20210504
SUMMARY:Release of Material D
END:VEVENT
BEGIN:VEVENT
UID:33613831-6535-4338-b265-653439633331
DTSTAMP:20260421T134539Z
DESCRIPTION:
DTSTART;VALUE=DATE:20210510
DTEND;VALUE=DATE:20210511
SUMMARY:Release of Material E
END:VEVENT
BEGIN:VEVENT
UID:31306438-3264-4437-b931-336437343634
DTSTAMP:20260421T134539Z
DESCRIPTION:
DTSTART;VALUE=DATE:20210517
DTEND;VALUE=DATE:20210518
SUMMARY:Release of Material F
END:VEVENT
BEGIN:VEVENT
UID:62386239-3934-4666-b532-323634333138
DTSTAMP:20260421T134539Z
DESCRIPTION:
DTSTART;VALUE=DATE:20210524
DTEND;VALUE=DATE:20210525
SUMMARY:Release of Material G
END:VEVENT
BEGIN:VEVENT
UID:66376463-3963-4235-b232-356334333266
DTSTAMP:20260421T134539Z
DESCRIPTION:
DTSTART;VALUE=DATE:20210531
DTEND;VALUE=DATE:20210601
SUMMARY:Release of Material H
END:VEVENT
BEGIN:VEVENT
UID:39663864-3166-4761-b363-346237653163
DTSTAMP:20260421T134539Z
DESCRIPTION:
DTSTART;VALUE=DATE:20210607
DTEND;VALUE=DATE:20210608
SUMMARY:Release of Material I
END:VEVENT
BEGIN:VEVENT
UID:33636133-3339-4564-b436-323737633031
DTSTAMP:20260421T134539Z
DESCRIPTION:
DTSTART;VALUE=DATE:20210614
DTEND;VALUE=DATE:20210615
SUMMARY:Release of Material J
END:VEVENT
BEGIN:VEVENT
UID:63393131-3566-4238-b831-653633336264
DTSTAMP:20260421T134539Z
DESCRIPTION:
DTSTART;VALUE=DATE:20210621
DTEND;VALUE=DATE:20210622
SUMMARY:Release of Material K
END:VEVENT
BEGIN:VEVENT
UID:34353932-3738-4639-a161-353163383830
DTSTAMP:20260421T134539Z
DESCRIPTION:
DTSTART;VALUE=DATE:20210628
DTEND;VALUE=DATE:20210629
SUMMARY:Release of Material L
END:VEVENT
BEGIN:VEVENT
UID:63356633-3366-4631-a164-333439346439
DTSTAMP:20260421T134539Z
DESCRIPTION:
DTSTART;VALUE=DATE:20210705
DTEND;VALUE=DATE:20210706
SUMMARY:Release of Material M
END:VEVENT
BEGIN:VEVENT
UID:39636563-3038-4634-a465-643436356237
DTSTAMP:20260421T134539Z
DESCRIPTION:
DTSTART;VALUE=DATE:20210712
DTEND;VALUE=DATE:20210713
SUMMARY:Release of Material N
END:VEVENT
END:VCALENDAR
