BEGIN:VCALENDAR
VERSION:2.0
PRODID:-//127.0.1.1//NONSGML kigkonsult.se iCalcreator 2.41.92//
CALSCALE:GREGORIAN
METHOD:PUBLISH
UID:62383338-6664-4637-a238-633733656332
X-WR-CALNAME:Space Informatics Calendar
X-WR-CALDESC:Events of the lecture Space Informatics
X-WR-TIMEZONE:Europe/Berlin
BEGIN:VEVENT
UID:34626261-3532-4531-b033-343835373034
DTSTAMP:20260424T061331Z
DESCRIPTION:Meeting-ID: 933 1776 5839\nPassword: altitude of GEO in km
DTSTART:20210415T120000Z
DTEND:20210415T140000Z
LOCATION:Zoom
SUMMARY:Lift-Off
END:VEVENT
BEGIN:VEVENT
UID:35303366-6565-4063-a638-616533643764
DTSTAMP:20260424T061331Z
DESCRIPTION:Meeting-ID: 933 1776 5839\nPassword: altitude of GEO in km
DTSTART:20210422T120000Z
DTEND:20210422T121500Z
LOCATION:Zoom
SUMMARY:Live Event
END:VEVENT
BEGIN:VEVENT
UID:38353066-6333-4363-a538-653734366461
DTSTAMP:20260424T061331Z
DESCRIPTION:Meeting-ID: 933 1776 5839\nPassword: altitude of GEO in km
DTSTART:20210429T120000Z
DTEND:20210429T121500Z
LOCATION:Zoom
SUMMARY:Live Event
END:VEVENT
BEGIN:VEVENT
UID:39383765-6562-4363-a539-383738623534
DTSTAMP:20260424T061331Z
DESCRIPTION:Meeting-ID: 933 1776 5839\nPassword: altitude of GEO in km
DTSTART:20210506T120000Z
DTEND:20210506T121500Z
LOCATION:Zoom
SUMMARY:Live Event
END:VEVENT
BEGIN:VEVENT
UID:30663263-3638-4335-b239-663166346233
DTSTAMP:20260424T061331Z
DESCRIPTION:Meeting-ID: 933 1776 5839\nPassword: altitude of GEO in km
DTSTART:20210520T120000Z
DTEND:20210520T121500Z
LOCATION:Zoom
SUMMARY:Live Event
END:VEVENT
BEGIN:VEVENT
UID:37363164-3865-4332-a536-633436313336
DTSTAMP:20260424T061331Z
DESCRIPTION:Meeting-ID: 933 1776 5839\nPassword: altitude of GEO in km
DTSTART:20210527T120000Z
DTEND:20210527T121500Z
LOCATION:Zoom
SUMMARY:Live Event
END:VEVENT
BEGIN:VEVENT
UID:63363138-3537-4536-a530-306463353238
DTSTAMP:20260424T061331Z
DESCRIPTION:Meeting-ID: 933 1776 5839\nPassword: altitude of GEO in km
DTSTART:20210610T120000Z
DTEND:20210610T121500Z
LOCATION:Zoom
SUMMARY:Live Event
END:VEVENT
BEGIN:VEVENT
UID:64666561-6338-4235-a165-396462303333
DTSTAMP:20260424T061331Z
DESCRIPTION:Meeting-ID: 933 1776 5839\nPassword: altitude of GEO in km
DTSTART:20210617T120000Z
DTEND:20210617T121500Z
LOCATION:Zoom
SUMMARY:Live Event
END:VEVENT
BEGIN:VEVENT
UID:31333032-3938-4233-a535-613339363662
DTSTAMP:20260424T061331Z
DESCRIPTION:Meeting-ID: 933 1776 5839\nPassword: altitude of GEO in km
DTSTART:20210624T120000Z
DTEND:20210624T121500Z
LOCATION:Zoom
SUMMARY:Live Event
END:VEVENT
BEGIN:VEVENT
UID:38343562-3637-4233-b938-666163356365
DTSTAMP:20260424T061331Z
DESCRIPTION:Meeting-ID: 933 1776 5839\nPassword: altitude of GEO in km
DTSTART:20210624T150000Z
DTEND:20210624T160000Z
LOCATION:Zoom
SUMMARY:Guest Lecture SCOTT BURLEIGH
END:VEVENT
BEGIN:VEVENT
UID:31393832-3761-4463-b930-343137353635
DTSTAMP:20260424T061331Z
DESCRIPTION:Meeting-ID: 933 1776 5839\nPassword: altitude of GEO in km
DTSTART:20210701T120000Z
DTEND:20210701T121500Z
LOCATION:Zoom
SUMMARY:Live Event
END:VEVENT
BEGIN:VEVENT
UID:30333831-3365-4162-a337-303335646338
DTSTAMP:20260424T061331Z
DESCRIPTION:Meeting-ID: 933 1776 5839\nPassword: altitude of GEO in km
DTSTART:20210708T120000Z
DTEND:20210708T121500Z
LOCATION:Zoom
SUMMARY:Live Event
END:VEVENT
BEGIN:VEVENT
UID:66306262-3766-4064-a532-396634336465
DTSTAMP:20260424T061331Z
DESCRIPTION:Meeting-ID: 933 1776 5839\nPassword: altitude of GEO in km
DTSTART:20210715T120000Z
DTEND:20210715T121500Z
LOCATION:Zoom
SUMMARY:Live Event
END:VEVENT
END:VCALENDAR
