BEGIN:VCALENDAR
VERSION:2.0
PRODID:-//127.0.1.1//NONSGML kigkonsult.se iCalcreator 2.41.92//
CALSCALE:GREGORIAN
METHOD:PUBLISH
UID:32366165-6233-4964-a437-306339613230
X-WR-CALNAME:Space Informatics Calendar
X-WR-CALDESC:Events of the lecture Space Informatics
X-WR-TIMEZONE:Europe/Berlin
BEGIN:VEVENT
UID:64303531-3461-4366-b130-343930363130
DTSTAMP:20260425T010210Z
DESCRIPTION:
DTSTART:20221111T130000Z
DTEND:20221111T140000Z
LOCATION:Zoom
SUMMARY:Spain2022: Kick-off
END:VEVENT
BEGIN:VEVENT
UID:38653362-6265-4563-a333-393263393430
DTSTAMP:20260425T010210Z
DESCRIPTION:
DTSTART:20221209T130000Z
DTEND:20221209T140000Z
LOCATION:Zoom
SUMMARY:Spain2022: SPAIN PI Presentation
END:VEVENT
BEGIN:VEVENT
UID:64316361-6339-4332-b437-363731373563
DTSTAMP:20260425T010210Z
DESCRIPTION:
DTSTART:20230203T130000Z
DTEND:20230203T140000Z
LOCATION:Zoom
SUMMARY:Spain2022: SPAIN PII Presentation
END:VEVENT
BEGIN:VEVENT
UID:66663035-6361-4466-a466-633734646337
DTSTAMP:20260425T010210Z
DESCRIPTION:
DTSTART:20230324T130000Z
DTEND:20230324T140000Z
LOCATION:Zoom
SUMMARY:Spain2022: SPAIN PIII Presentation
END:VEVENT
END:VCALENDAR
