BEGIN:VCALENDAR
VERSION:2.0
PRODID:-//127.0.1.1//NONSGML kigkonsult.se iCalcreator 2.41.92//
CALSCALE:GREGORIAN
METHOD:PUBLISH
UID:34636430-3933-4433-b139-323130656132
X-WR-CALNAME:Space Informatics Calendar
X-WR-CALDESC:Events of the lecture Space Informatics
X-WR-TIMEZONE:Europe/Berlin
BEGIN:VEVENT
UID:32326532-3265-4962-b037-323937363635
DTSTAMP:20260425T010050Z
DESCRIPTION:
DTSTART:20221111T130000Z
DTEND:20221111T140000Z
LOCATION:Zoom
SUMMARY:Kick-off
END:VEVENT
BEGIN:VEVENT
UID:30623037-6563-4831-b863-643735373136
DTSTAMP:20260425T010050Z
DESCRIPTION:
DTSTART:20221209T130000Z
DTEND:20221209T140000Z
LOCATION:Zoom
SUMMARY:SPAIN PI Presentation
END:VEVENT
BEGIN:VEVENT
UID:66393530-6366-4232-b065-613461383439
DTSTAMP:20260425T010050Z
DESCRIPTION:
DTSTART:20230203T130000Z
DTEND:20230203T140000Z
LOCATION:Zoom
SUMMARY:SPAIN PII Presentation
END:VEVENT
BEGIN:VEVENT
UID:62363465-3562-4631-b237-346131633230
DTSTAMP:20260425T010050Z
DESCRIPTION:
DTSTART:20230324T130000Z
DTEND:20230324T140000Z
LOCATION:Zoom
SUMMARY:SPAIN PIII Presentation
END:VEVENT
END:VCALENDAR
