BEGIN:VCALENDAR
VERSION:2.0
PRODID:-//127.0.1.1//NONSGML kigkonsult.se iCalcreator 2.41.92//
CALSCALE:GREGORIAN
METHOD:PUBLISH
UID:38646663-3833-4631-b733-303366623265
X-WR-CALNAME:[Fall Break] Sustainable Computing Systems Calendar
X-WR-CALDESC:Events of the lecture [Fall Break] Sustainable Computing Syste
 ms
X-WR-TIMEZONE:Europe/Berlin
BEGIN:VEVENT
UID:66633835-3761-4237-b735-346138643963
DTSTAMP:20260424T170422Z
DESCRIPTION:
DTSTART;VALUE=DATE:20260907
DTEND;VALUE=DATE:20260912
SUMMARY:Scs: Presence Period
END:VEVENT
BEGIN:VEVENT
UID:36373930-3335-4766-b131-346135663564
DTSTAMP:20260424T170422Z
DESCRIPTION:
DTSTART;VALUE=DATE:20260914
DTEND;VALUE=DATE:20260919
SUMMARY:Scs: Presence Period
END:VEVENT
BEGIN:VEVENT
UID:63633232-3830-4333-a561-613136613239
DTSTAMP:20260424T170422Z
DESCRIPTION:
DTSTART;VALUE=DATE:20260921
DTEND;VALUE=DATE:20260926
SUMMARY:Scs: Presence Period
END:VEVENT
END:VCALENDAR
