BEGIN:VCALENDAR
VERSION:2.0
PRODID:-//127.0.1.1//NONSGML kigkonsult.se iCalcreator 2.41.92//
CALSCALE:GREGORIAN
METHOD:PUBLISH
UID:66666166-3664-4235-b836-663761613361
X-WR-CALNAME:[Fall Break] Sustainable Computing Systems Calendar
X-WR-CALDESC:Events of the lecture [Fall Break] Sustainable Computing Syste
 ms
X-WR-TIMEZONE:Europe/Berlin
BEGIN:VEVENT
UID:64303661-3165-4339-b137-313335333738
DTSTAMP:20260424T170349Z
DESCRIPTION:
DTSTART;VALUE=DATE:20260907
DTEND;VALUE=DATE:20260912
SUMMARY:Presence Period
END:VEVENT
BEGIN:VEVENT
UID:62326165-6530-4638-b163-663933353735
DTSTAMP:20260424T170349Z
DESCRIPTION:
DTSTART;VALUE=DATE:20260914
DTEND;VALUE=DATE:20260919
SUMMARY:Presence Period
END:VEVENT
BEGIN:VEVENT
UID:36623830-3139-4032-b233-396563663636
DTSTAMP:20260424T170349Z
DESCRIPTION:
DTSTART;VALUE=DATE:20260921
DTEND;VALUE=DATE:20260926
SUMMARY:Presence Period
END:VEVENT
END:VCALENDAR
