BEGIN:VCALENDAR
VERSION:2.0
PRODID:-//127.0.1.1//NONSGML kigkonsult.se iCalcreator 2.41.92//
CALSCALE:GREGORIAN
METHOD:PUBLISH
UID:34346665-3233-4838-a261-383331353263
X-WR-CALNAME:Retake Tutorial Programming 1 Calendar
X-WR-CALDESC:Events of the lecture Retake Tutorial Programming 1
X-WR-TIMEZONE:Europe/Berlin
BEGIN:VEVENT
UID:37663337-3134-4536-a636-666366333837
DTSTAMP:20260424T181453Z
DESCRIPTION:General Information & Revision of General Concepts (Week A-F)
DTSTART:20230320T090000Z
DTEND:20230320T110000Z
LOCATION:English: E1 3\, SR 107 - German: E1 3\, SR 015
SUMMARY:Rt: Morning Tutorial
END:VEVENT
BEGIN:VEVENT
UID:30646162-3066-4138-a537-353764373738
DTSTAMP:20260424T181453Z
DESCRIPTION:
DTSTART:20230320T110000Z
DTEND:20230320T120000Z
SUMMARY:Rt: Office Hour
END:VEVENT
BEGIN:VEVENT
UID:33653630-6366-4437-b534-306661363139
DTSTAMP:20260424T181453Z
DESCRIPTION:Constructor Types & Trees
DTSTART:20230321T090000Z
DTEND:20230321T110000Z
LOCATION:English: E1 3\, SR 107 - German: E1 3\, SR 015
SUMMARY:Rt: Morning Tutorial
END:VEVENT
BEGIN:VEVENT
UID:62666562-3134-4466-a534-343532623938
DTSTAMP:20260424T181453Z
DESCRIPTION:
DTSTART:20230321T110000Z
DTEND:20230321T120000Z
SUMMARY:Rt: Office Hour
END:VEVENT
BEGIN:VEVENT
UID:35613038-6134-4364-a132-643631396430
DTSTAMP:20260424T181453Z
DESCRIPTION:Static & Dynamic Semantics
DTSTART:20230322T090000Z
DTEND:20230322T110000Z
LOCATION:English: E1 3\, SR 107 - German: E1 3\, SR 015
SUMMARY:Rt: Morning Tutorial
END:VEVENT
BEGIN:VEVENT
UID:37313733-6466-4437-a466-643730323261
DTSTAMP:20260424T181453Z
DESCRIPTION:
DTSTART:20230322T110000Z
DTEND:20230322T120000Z
SUMMARY:Rt: Office Hour
END:VEVENT
BEGIN:VEVENT
UID:35383832-3362-4638-a338-613433653364
DTSTAMP:20260424T181453Z
DESCRIPTION:
DTSTART:20230322T120000Z
DTEND:20230322T130000Z
SUMMARY:Rt: Self Study / Mensa
END:VEVENT
BEGIN:VEVENT
UID:63373735-3630-4132-a131-323438636565
DTSTAMP:20260424T181453Z
DESCRIPTION:Static & Dynamic Semantics
DTSTART:20230322T130000Z
DTEND:20230322T143000Z
LOCATION:English: E1 3\, SR 107 - German: E1 3\, SR 015
SUMMARY:Rt: Afternoon Tutorial
END:VEVENT
BEGIN:VEVENT
UID:39663661-3534-4339-b031-616266373434
DTSTAMP:20260424T181453Z
DESCRIPTION:
DTSTART:20230322T143000Z
DTEND:20230322T160000Z
SUMMARY:Rt: Office Hour
END:VEVENT
BEGIN:VEVENT
UID:39343337-3632-4239-b739-363064663465
DTSTAMP:20260424T181453Z
DESCRIPTION:Lexer & Parser
DTSTART:20230323T090000Z
DTEND:20230323T110000Z
LOCATION:English: E1 3\, SR 107 - German: E1 3\, SR 015
SUMMARY:Rt: Morning Tutorial
END:VEVENT
BEGIN:VEVENT
UID:35663538-3632-4239-b861-383335646361
DTSTAMP:20260424T181453Z
DESCRIPTION:
DTSTART:20230323T110000Z
DTEND:20230323T120000Z
SUMMARY:Rt: Office Hour
END:VEVENT
BEGIN:VEVENT
UID:35626661-6330-4831-b032-346166366630
DTSTAMP:20260424T181453Z
DESCRIPTION:
DTSTART:20230323T120000Z
DTEND:20230323T130000Z
SUMMARY:Rt: Self Study / Mensa
END:VEVENT
BEGIN:VEVENT
UID:61313766-3861-4464-a465-373239653939
DTSTAMP:20260424T181453Z
DESCRIPTION:Lexer & Parser
DTSTART:20230323T130000Z
DTEND:20230323T143000Z
LOCATION:English: E1 3\, SR 107 - German: E1 3\, SR 015
SUMMARY:Rt: Afternoon Tutorial
END:VEVENT
BEGIN:VEVENT
UID:39333937-6332-4535-a364-626565343361
DTSTAMP:20260424T181453Z
DESCRIPTION:
DTSTART:20230323T143000Z
DTEND:20230323T160000Z
SUMMARY:Rt: Office Hour
END:VEVENT
BEGIN:VEVENT
UID:38323433-3937-4264-a531-626234363937
DTSTAMP:20260424T181453Z
DESCRIPTION:Mutable Objects & Data Structures
DTSTART:20230324T090000Z
DTEND:20230324T110000Z
LOCATION:English: E1 3\, SR 107 - German: E1 3\, SR 015
SUMMARY:Rt: Morning Tutorial
END:VEVENT
BEGIN:VEVENT
UID:36326338-3132-4839-b531-666238373731
DTSTAMP:20260424T181453Z
DESCRIPTION:
DTSTART:20230324T110000Z
DTEND:20230324T120000Z
SUMMARY:Rt: Office Hour
END:VEVENT
BEGIN:VEVENT
UID:33363136-6664-4366-a366-666437306433
DTSTAMP:20260424T181453Z
DESCRIPTION:
DTSTART:20230324T120000Z
DTEND:20230324T130000Z
SUMMARY:Rt: Self Study / Mensa
END:VEVENT
BEGIN:VEVENT
UID:31663838-3663-4737-b434-623232653164
DTSTAMP:20260424T181453Z
DESCRIPTION:Mutable Objects & Data Structures
DTSTART:20230324T130000Z
DTEND:20230324T143000Z
LOCATION:English: E1 3\, SR 107 - German: E1 3\, SR 015
SUMMARY:Rt: Afternoon Tutorial
END:VEVENT
BEGIN:VEVENT
UID:35323361-3430-4530-b361-303334626430
DTSTAMP:20260424T181453Z
DESCRIPTION:
DTSTART:20230324T143000Z
DTEND:20230324T160000Z
SUMMARY:Rt: Office Hour
END:VEVENT
BEGIN:VEVENT
UID:66323665-6530-4461-b362-663432623762
DTSTAMP:20260424T181453Z
DESCRIPTION:Mathematical Correctness
DTSTART:20230327T080000Z
DTEND:20230327T100000Z
LOCATION:English: E1 1\, SR 106 - German: E1 1\, SR 206
SUMMARY:Rt: Morning Tutorial
END:VEVENT
BEGIN:VEVENT
UID:65353539-3031-4866-b134-663031303366
DTSTAMP:20260424T181453Z
DESCRIPTION:
DTSTART:20230327T100000Z
DTEND:20230327T110000Z
SUMMARY:Rt: Office Hour
END:VEVENT
BEGIN:VEVENT
UID:34383830-3765-4766-a366-383239633139
DTSTAMP:20260424T181453Z
DESCRIPTION:
DTSTART:20230327T110000Z
DTEND:20230327T120000Z
SUMMARY:Rt: Self Study / Mensa
END:VEVENT
BEGIN:VEVENT
UID:61636663-6230-4965-b839-636432346364
DTSTAMP:20260424T181453Z
DESCRIPTION:Mathematical Correctness
DTSTART:20230327T120000Z
DTEND:20230327T133000Z
LOCATION:English: E1 1\, SR 106 - German: E1 1\, SR 206
SUMMARY:Rt: Afternoon Tutorial
END:VEVENT
BEGIN:VEVENT
UID:63626665-3561-4365-b264-363662646138
DTSTAMP:20260424T181453Z
DESCRIPTION:
DTSTART:20230327T133000Z
DTEND:20230327T150000Z
SUMMARY:Rt: Office Hour
END:VEVENT
BEGIN:VEVENT
UID:37366665-3333-4235-a330-393763373264
DTSTAMP:20260424T181453Z
DESCRIPTION:Induction
DTSTART:20230329T080000Z
DTEND:20230329T100000Z
LOCATION:English: E1 3\, SR 107 - German: E1 3\, SR 015
SUMMARY:Rt: Morning Tutorial
END:VEVENT
BEGIN:VEVENT
UID:61656139-3464-4134-b837-663639346263
DTSTAMP:20260424T181453Z
DESCRIPTION:
DTSTART:20230329T100000Z
DTEND:20230329T110000Z
SUMMARY:Rt: Office Hour
END:VEVENT
BEGIN:VEVENT
UID:39313565-3635-4535-b833-346238323666
DTSTAMP:20260424T181453Z
DESCRIPTION:
DTSTART:20230329T110000Z
DTEND:20230329T120000Z
SUMMARY:Rt: Self Study / Mensa
END:VEVENT
BEGIN:VEVENT
UID:63343234-3030-4365-a430-613164396638
DTSTAMP:20260424T181453Z
DESCRIPTION:Induction
DTSTART:20230329T120000Z
DTEND:20230329T133000Z
LOCATION:English: E1 3\, SR 107 - German: E1 3\, SR 015
SUMMARY:Rt: Afternoon Tutorial
END:VEVENT
BEGIN:VEVENT
UID:65643264-3836-4464-a435-623232656236
DTSTAMP:20260424T181453Z
DESCRIPTION:
DTSTART:20230329T133000Z
DTEND:20230329T150000Z
SUMMARY:Rt: Office Hour
END:VEVENT
BEGIN:VEVENT
UID:33313666-6364-4536-b137-383139643363
DTSTAMP:20260424T181453Z
DESCRIPTION:Runtime
DTSTART:20230330T080000Z
DTEND:20230330T100000Z
LOCATION:English: E1 3\, SR 107 - German: E1 3\, SR 015
SUMMARY:Rt: Morning Tutorial
END:VEVENT
BEGIN:VEVENT
UID:62373731-6332-4331-b562-336634633361
DTSTAMP:20260424T181453Z
DESCRIPTION:
DTSTART:20230330T100000Z
DTEND:20230330T110000Z
SUMMARY:Rt: Office Hour
END:VEVENT
BEGIN:VEVENT
UID:62643939-6631-4339-b935-386565643061
DTSTAMP:20260424T181453Z
DESCRIPTION:
DTSTART:20230330T110000Z
DTEND:20230330T120000Z
SUMMARY:Rt: Self Study / Mensa
END:VEVENT
BEGIN:VEVENT
UID:31306238-3834-4537-b036-643836386432
DTSTAMP:20260424T181453Z
DESCRIPTION:Runtime
DTSTART:20230330T120000Z
DTEND:20230330T133000Z
LOCATION:English: E1 3\, SR 107 - German: E1 3\, SR 015
SUMMARY:Rt: Afternoon Tutorial
END:VEVENT
BEGIN:VEVENT
UID:31336336-6530-4562-b031-623761386137
DTSTAMP:20260424T181453Z
DESCRIPTION:
DTSTART:20230330T133000Z
DTEND:20230330T150000Z
SUMMARY:Rt: Office Hour
END:VEVENT
BEGIN:VEVENT
UID:66656461-6565-4039-a433-623934313534
DTSTAMP:20260424T181453Z
DESCRIPTION:Recap
DTSTART:20230331T080000Z
DTEND:20230331T100000Z
LOCATION:English: E1 3\, SR 107 - German: E1 3\, SR 015
SUMMARY:Rt: Morning Tutorial
END:VEVENT
BEGIN:VEVENT
UID:37323332-3630-4239-a162-376264333165
DTSTAMP:20260424T181453Z
DESCRIPTION:
DTSTART:20230331T100000Z
DTEND:20230331T110000Z
SUMMARY:Rt: Office Hour
END:VEVENT
BEGIN:VEVENT
UID:33316262-3734-4166-a638-653637333463
DTSTAMP:20260424T181453Z
DESCRIPTION:
DTSTART:20230331T110000Z
DTEND:20230331T120000Z
SUMMARY:Rt: Self Study / Mensa
END:VEVENT
BEGIN:VEVENT
UID:63373832-3864-4532-b463-653565363866
DTSTAMP:20260424T181453Z
DESCRIPTION:
DTSTART:20230331T120000Z
DTEND:20230331T150000Z
SUMMARY:Rt: Office Hour
END:VEVENT
END:VCALENDAR
