BEGIN:VCALENDAR
VERSION:2.0
PRODID:-//127.0.1.1//NONSGML kigkonsult.se iCalcreator 2.41.92//
CALSCALE:GREGORIAN
METHOD:PUBLISH
UID:33393562-3465-4232-a434-656137633633
X-WR-CALNAME:Retake Tutorial Programming 1 Calendar
X-WR-CALDESC:Events of the lecture Retake Tutorial Programming 1
X-WR-TIMEZONE:Europe/Berlin
BEGIN:VEVENT
UID:39653434-6336-4534-b063-316435643133
DTSTAMP:20260424T181453Z
DESCRIPTION:
DTSTART:20230320T110000Z
DTEND:20230320T120000Z
SUMMARY:Office Hour
END:VEVENT
BEGIN:VEVENT
UID:63323662-3836-4739-a334-333639386435
DTSTAMP:20260424T181453Z
DESCRIPTION:
DTSTART:20230321T110000Z
DTEND:20230321T120000Z
SUMMARY:Office Hour
END:VEVENT
BEGIN:VEVENT
UID:39313863-3063-4130-b765-366439653433
DTSTAMP:20260424T181453Z
DESCRIPTION:
DTSTART:20230322T110000Z
DTEND:20230322T120000Z
SUMMARY:Office Hour
END:VEVENT
BEGIN:VEVENT
UID:31616166-3139-4734-b064-366330323034
DTSTAMP:20260424T181453Z
DESCRIPTION:
DTSTART:20230322T143000Z
DTEND:20230322T160000Z
SUMMARY:Office Hour
END:VEVENT
BEGIN:VEVENT
UID:61616333-3164-4862-a165-323037616562
DTSTAMP:20260424T181453Z
DESCRIPTION:
DTSTART:20230323T110000Z
DTEND:20230323T120000Z
SUMMARY:Office Hour
END:VEVENT
BEGIN:VEVENT
UID:33363938-3061-4164-a362-646163366530
DTSTAMP:20260424T181453Z
DESCRIPTION:
DTSTART:20230323T143000Z
DTEND:20230323T160000Z
SUMMARY:Office Hour
END:VEVENT
BEGIN:VEVENT
UID:34333033-3530-4231-b664-633532313234
DTSTAMP:20260424T181453Z
DESCRIPTION:
DTSTART:20230324T110000Z
DTEND:20230324T120000Z
SUMMARY:Office Hour
END:VEVENT
BEGIN:VEVENT
UID:35326334-3166-4530-b665-663435363334
DTSTAMP:20260424T181453Z
DESCRIPTION:
DTSTART:20230324T143000Z
DTEND:20230324T160000Z
SUMMARY:Office Hour
END:VEVENT
BEGIN:VEVENT
UID:31383433-3138-4263-a638-333866353235
DTSTAMP:20260424T181453Z
DESCRIPTION:
DTSTART:20230327T100000Z
DTEND:20230327T110000Z
SUMMARY:Office Hour
END:VEVENT
BEGIN:VEVENT
UID:61303332-6634-4662-a137-663634353963
DTSTAMP:20260424T181453Z
DESCRIPTION:
DTSTART:20230327T133000Z
DTEND:20230327T150000Z
SUMMARY:Office Hour
END:VEVENT
BEGIN:VEVENT
UID:31623236-3362-4136-a435-623234316366
DTSTAMP:20260424T181453Z
DESCRIPTION:
DTSTART:20230329T100000Z
DTEND:20230329T110000Z
SUMMARY:Office Hour
END:VEVENT
BEGIN:VEVENT
UID:61343638-3437-4861-b038-383732316333
DTSTAMP:20260424T181453Z
DESCRIPTION:
DTSTART:20230329T133000Z
DTEND:20230329T150000Z
SUMMARY:Office Hour
END:VEVENT
BEGIN:VEVENT
UID:35393337-3164-4466-a532-373338653365
DTSTAMP:20260424T181453Z
DESCRIPTION:
DTSTART:20230330T100000Z
DTEND:20230330T110000Z
SUMMARY:Office Hour
END:VEVENT
BEGIN:VEVENT
UID:35613761-3637-4830-b638-343339366266
DTSTAMP:20260424T181453Z
DESCRIPTION:
DTSTART:20230330T133000Z
DTEND:20230330T150000Z
SUMMARY:Office Hour
END:VEVENT
BEGIN:VEVENT
UID:64336637-3365-4437-b066-343131613135
DTSTAMP:20260424T181453Z
DESCRIPTION:
DTSTART:20230331T100000Z
DTEND:20230331T110000Z
SUMMARY:Office Hour
END:VEVENT
BEGIN:VEVENT
UID:35643366-6334-4261-a239-373937386336
DTSTAMP:20260424T181453Z
DESCRIPTION:
DTSTART:20230331T120000Z
DTEND:20230331T150000Z
SUMMARY:Office Hour
END:VEVENT
END:VCALENDAR
