BEGIN:VCALENDAR
VERSION:2.0
PRODID:-//127.0.1.1//NONSGML kigkonsult.se iCalcreator 2.41.92//
CALSCALE:GREGORIAN
METHOD:PUBLISH
UID:30626330-6434-4933-b139-343935653162
X-WR-CALNAME:Retake Tutorial Programming 1 Calendar
X-WR-CALDESC:Events of the lecture Retake Tutorial Programming 1
X-WR-TIMEZONE:Europe/Berlin
BEGIN:VEVENT
UID:39303136-6631-4335-b866-646235626636
DTSTAMP:20260424T181417Z
DESCRIPTION:General Information & Revision of General Concepts (Week A-F)
DTSTART:20230320T090000Z
DTEND:20230320T110000Z
LOCATION:English: E1 3\, SR 107 - German: E1 3\, SR 015
SUMMARY:Morning Tutorial
END:VEVENT
BEGIN:VEVENT
UID:34623239-3231-4933-b937-633830623266
DTSTAMP:20260424T181417Z
DESCRIPTION:
DTSTART:20230320T110000Z
DTEND:20230320T120000Z
SUMMARY:Office Hour
END:VEVENT
BEGIN:VEVENT
UID:62633138-3233-4834-a162-363266643638
DTSTAMP:20260424T181417Z
DESCRIPTION:Constructor Types & Trees
DTSTART:20230321T090000Z
DTEND:20230321T110000Z
LOCATION:English: E1 3\, SR 107 - German: E1 3\, SR 015
SUMMARY:Morning Tutorial
END:VEVENT
BEGIN:VEVENT
UID:37643566-6362-4233-b435-323665396462
DTSTAMP:20260424T181417Z
DESCRIPTION:
DTSTART:20230321T110000Z
DTEND:20230321T120000Z
SUMMARY:Office Hour
END:VEVENT
BEGIN:VEVENT
UID:39366661-3637-4562-b338-636130616638
DTSTAMP:20260424T181417Z
DESCRIPTION:Static & Dynamic Semantics
DTSTART:20230322T090000Z
DTEND:20230322T110000Z
LOCATION:English: E1 3\, SR 107 - German: E1 3\, SR 015
SUMMARY:Morning Tutorial
END:VEVENT
BEGIN:VEVENT
UID:35326666-3135-4661-b233-333765376234
DTSTAMP:20260424T181417Z
DESCRIPTION:
DTSTART:20230322T110000Z
DTEND:20230322T120000Z
SUMMARY:Office Hour
END:VEVENT
BEGIN:VEVENT
UID:66343533-3462-4262-a637-393538313732
DTSTAMP:20260424T181417Z
DESCRIPTION:
DTSTART:20230322T120000Z
DTEND:20230322T130000Z
SUMMARY:Self Study / Mensa
END:VEVENT
BEGIN:VEVENT
UID:31643162-6133-4537-a538-346534306431
DTSTAMP:20260424T181417Z
DESCRIPTION:Static & Dynamic Semantics
DTSTART:20230322T130000Z
DTEND:20230322T143000Z
LOCATION:English: E1 3\, SR 107 - German: E1 3\, SR 015
SUMMARY:Afternoon Tutorial
END:VEVENT
BEGIN:VEVENT
UID:65636430-3833-4665-b661-616334613661
DTSTAMP:20260424T181417Z
DESCRIPTION:
DTSTART:20230322T143000Z
DTEND:20230322T160000Z
SUMMARY:Office Hour
END:VEVENT
BEGIN:VEVENT
UID:64646439-6162-4164-a538-323335326433
DTSTAMP:20260424T181417Z
DESCRIPTION:Lexer & Parser
DTSTART:20230323T090000Z
DTEND:20230323T110000Z
LOCATION:English: E1 3\, SR 107 - German: E1 3\, SR 015
SUMMARY:Morning Tutorial
END:VEVENT
BEGIN:VEVENT
UID:66393063-3766-4965-b130-343237303061
DTSTAMP:20260424T181417Z
DESCRIPTION:
DTSTART:20230323T110000Z
DTEND:20230323T120000Z
SUMMARY:Office Hour
END:VEVENT
BEGIN:VEVENT
UID:63306134-6530-4130-a664-343639393066
DTSTAMP:20260424T181417Z
DESCRIPTION:
DTSTART:20230323T120000Z
DTEND:20230323T130000Z
SUMMARY:Self Study / Mensa
END:VEVENT
BEGIN:VEVENT
UID:38323338-3766-4039-b262-306665646434
DTSTAMP:20260424T181417Z
DESCRIPTION:Lexer & Parser
DTSTART:20230323T130000Z
DTEND:20230323T143000Z
LOCATION:English: E1 3\, SR 107 - German: E1 3\, SR 015
SUMMARY:Afternoon Tutorial
END:VEVENT
BEGIN:VEVENT
UID:38623234-3333-4964-b965-396334323235
DTSTAMP:20260424T181417Z
DESCRIPTION:
DTSTART:20230323T143000Z
DTEND:20230323T160000Z
SUMMARY:Office Hour
END:VEVENT
BEGIN:VEVENT
UID:31303334-6132-4662-b662-353435376163
DTSTAMP:20260424T181417Z
DESCRIPTION:Mutable Objects & Data Structures
DTSTART:20230324T090000Z
DTEND:20230324T110000Z
LOCATION:English: E1 3\, SR 107 - German: E1 3\, SR 015
SUMMARY:Morning Tutorial
END:VEVENT
BEGIN:VEVENT
UID:63363333-6235-4533-b136-626431393238
DTSTAMP:20260424T181417Z
DESCRIPTION:
DTSTART:20230324T110000Z
DTEND:20230324T120000Z
SUMMARY:Office Hour
END:VEVENT
BEGIN:VEVENT
UID:38393163-3163-4737-b335-396533313865
DTSTAMP:20260424T181417Z
DESCRIPTION:
DTSTART:20230324T120000Z
DTEND:20230324T130000Z
SUMMARY:Self Study / Mensa
END:VEVENT
BEGIN:VEVENT
UID:62393761-3964-4235-a333-303431363663
DTSTAMP:20260424T181417Z
DESCRIPTION:Mutable Objects & Data Structures
DTSTART:20230324T130000Z
DTEND:20230324T143000Z
LOCATION:English: E1 3\, SR 107 - German: E1 3\, SR 015
SUMMARY:Afternoon Tutorial
END:VEVENT
BEGIN:VEVENT
UID:36633236-6139-4133-b832-333265366339
DTSTAMP:20260424T181417Z
DESCRIPTION:
DTSTART:20230324T143000Z
DTEND:20230324T160000Z
SUMMARY:Office Hour
END:VEVENT
BEGIN:VEVENT
UID:64643564-6366-4330-b230-333933343165
DTSTAMP:20260424T181417Z
DESCRIPTION:Mathematical Correctness
DTSTART:20230327T080000Z
DTEND:20230327T100000Z
LOCATION:English: E1 1\, SR 106 - German: E1 1\, SR 206
SUMMARY:Morning Tutorial
END:VEVENT
BEGIN:VEVENT
UID:39356634-6563-4136-a265-646436353334
DTSTAMP:20260424T181417Z
DESCRIPTION:
DTSTART:20230327T100000Z
DTEND:20230327T110000Z
SUMMARY:Office Hour
END:VEVENT
BEGIN:VEVENT
UID:35383932-3337-4661-a534-653832653764
DTSTAMP:20260424T181417Z
DESCRIPTION:
DTSTART:20230327T110000Z
DTEND:20230327T120000Z
SUMMARY:Self Study / Mensa
END:VEVENT
BEGIN:VEVENT
UID:66383237-6236-4339-a631-663265643365
DTSTAMP:20260424T181417Z
DESCRIPTION:Mathematical Correctness
DTSTART:20230327T120000Z
DTEND:20230327T133000Z
LOCATION:English: E1 1\, SR 106 - German: E1 1\, SR 206
SUMMARY:Afternoon Tutorial
END:VEVENT
BEGIN:VEVENT
UID:34653964-3962-4536-b839-313334616638
DTSTAMP:20260424T181417Z
DESCRIPTION:
DTSTART:20230327T133000Z
DTEND:20230327T150000Z
SUMMARY:Office Hour
END:VEVENT
BEGIN:VEVENT
UID:61366338-6265-4966-b430-343666313665
DTSTAMP:20260424T181417Z
DESCRIPTION:Induction
DTSTART:20230329T080000Z
DTEND:20230329T100000Z
LOCATION:English: E1 3\, SR 107 - German: E1 3\, SR 015
SUMMARY:Morning Tutorial
END:VEVENT
BEGIN:VEVENT
UID:32383130-6463-4561-a534-316662383731
DTSTAMP:20260424T181417Z
DESCRIPTION:
DTSTART:20230329T100000Z
DTEND:20230329T110000Z
SUMMARY:Office Hour
END:VEVENT
BEGIN:VEVENT
UID:31333263-3337-4634-a338-383731623764
DTSTAMP:20260424T181417Z
DESCRIPTION:
DTSTART:20230329T110000Z
DTEND:20230329T120000Z
SUMMARY:Self Study / Mensa
END:VEVENT
BEGIN:VEVENT
UID:32396331-3036-4635-a265-653132353637
DTSTAMP:20260424T181417Z
DESCRIPTION:Induction
DTSTART:20230329T120000Z
DTEND:20230329T133000Z
LOCATION:English: E1 3\, SR 107 - German: E1 3\, SR 015
SUMMARY:Afternoon Tutorial
END:VEVENT
BEGIN:VEVENT
UID:64353566-3736-4964-b135-373966623430
DTSTAMP:20260424T181417Z
DESCRIPTION:
DTSTART:20230329T133000Z
DTEND:20230329T150000Z
SUMMARY:Office Hour
END:VEVENT
BEGIN:VEVENT
UID:63613262-3533-4233-b862-333165633934
DTSTAMP:20260424T181417Z
DESCRIPTION:Runtime
DTSTART:20230330T080000Z
DTEND:20230330T100000Z
LOCATION:English: E1 3\, SR 107 - German: E1 3\, SR 015
SUMMARY:Morning Tutorial
END:VEVENT
BEGIN:VEVENT
UID:38313230-3631-4831-a362-663530333963
DTSTAMP:20260424T181417Z
DESCRIPTION:
DTSTART:20230330T100000Z
DTEND:20230330T110000Z
SUMMARY:Office Hour
END:VEVENT
BEGIN:VEVENT
UID:36383636-6564-4665-a535-616132356233
DTSTAMP:20260424T181417Z
DESCRIPTION:
DTSTART:20230330T110000Z
DTEND:20230330T120000Z
SUMMARY:Self Study / Mensa
END:VEVENT
BEGIN:VEVENT
UID:32306134-3366-4235-a563-316535643835
DTSTAMP:20260424T181417Z
DESCRIPTION:Runtime
DTSTART:20230330T120000Z
DTEND:20230330T133000Z
LOCATION:English: E1 3\, SR 107 - German: E1 3\, SR 015
SUMMARY:Afternoon Tutorial
END:VEVENT
BEGIN:VEVENT
UID:31366663-6137-4661-b630-373663313431
DTSTAMP:20260424T181417Z
DESCRIPTION:
DTSTART:20230330T133000Z
DTEND:20230330T150000Z
SUMMARY:Office Hour
END:VEVENT
BEGIN:VEVENT
UID:36393363-3334-4236-a166-656137633933
DTSTAMP:20260424T181417Z
DESCRIPTION:Recap
DTSTART:20230331T080000Z
DTEND:20230331T100000Z
LOCATION:English: E1 3\, SR 107 - German: E1 3\, SR 015
SUMMARY:Morning Tutorial
END:VEVENT
BEGIN:VEVENT
UID:39383734-6464-4431-b434-393966656662
DTSTAMP:20260424T181417Z
DESCRIPTION:
DTSTART:20230331T100000Z
DTEND:20230331T110000Z
SUMMARY:Office Hour
END:VEVENT
BEGIN:VEVENT
UID:30626233-3764-4366-b533-396130633538
DTSTAMP:20260424T181417Z
DESCRIPTION:
DTSTART:20230331T110000Z
DTEND:20230331T120000Z
SUMMARY:Self Study / Mensa
END:VEVENT
BEGIN:VEVENT
UID:30313632-6236-4164-b136-313535303230
DTSTAMP:20260424T181417Z
DESCRIPTION:
DTSTART:20230331T120000Z
DTEND:20230331T150000Z
SUMMARY:Office Hour
END:VEVENT
END:VCALENDAR
