BEGIN:VCALENDAR
VERSION:2.0
PRODID:-//127.0.1.1//NONSGML kigkonsult.se iCalcreator 2.41.92//
CALSCALE:GREGORIAN
METHOD:PUBLISH
UID:35636465-6134-4237-b430-386465633266
X-WR-CALNAME:Quantitative Model Checking Calendar
X-WR-CALDESC:Events of the lecture Quantitative Model Checking
X-WR-TIMEZONE:Europe/Berlin
BEGIN:VEVENT
UID:37336562-3333-4563-a261-383430613465
DTSTAMP:20260425T152759Z
DESCRIPTION:
DTSTART:20170419T120000Z
DTEND:20170419T140000Z
LOCATION:E 1.3\, SR 016
SUMMARY:Qmc17: Lecture 1
END:VEVENT
BEGIN:VEVENT
UID:66306266-3632-4639-b332-623762306338
DTSTAMP:20260425T152759Z
DESCRIPTION:
DTSTART:20170424T060000Z
DTEND:20170424T080000Z
LOCATION:E 1.3\, SR 016
SUMMARY:Qmc17: Lecture 2
END:VEVENT
BEGIN:VEVENT
UID:63393661-6266-4434-a562-666562353833
DTSTAMP:20260425T152759Z
DESCRIPTION:
DTSTART:20170426T120000Z
DTEND:20170426T140000Z
LOCATION:E1.1\, SR U12
SUMMARY:Qmc17: Tutorial
END:VEVENT
BEGIN:VEVENT
UID:39626562-3530-4063-a132-646334666265
DTSTAMP:20260425T152759Z
DESCRIPTION:
DTSTART:20170508T060000Z
DTEND:20170508T080000Z
LOCATION:E 1.3\, SR 016
SUMMARY:Qmc17: Lecture 3
END:VEVENT
BEGIN:VEVENT
UID:31323739-3965-4664-b537-356666343931
DTSTAMP:20260425T152759Z
DESCRIPTION:
DTSTART:20170510T120000Z
DTEND:20170510T140000Z
LOCATION:E1.1\, SR U12
SUMMARY:Qmc17: Tutorial
END:VEVENT
BEGIN:VEVENT
UID:37623464-3331-4362-a537-646265633736
DTSTAMP:20260425T152759Z
DESCRIPTION:
DTSTART:20170515T060000Z
DTEND:20170515T080000Z
LOCATION:E 1.3\, SR 016
SUMMARY:Qmc17: Lecture 4
END:VEVENT
BEGIN:VEVENT
UID:65353630-3130-4364-a162-613733366133
DTSTAMP:20260425T152759Z
DESCRIPTION:
DTSTART:20170517T120000Z
DTEND:20170517T140000Z
LOCATION:E1.1\, SR U12
SUMMARY:Qmc17: Tutorial
END:VEVENT
BEGIN:VEVENT
UID:31393537-3433-4238-b833-323932313866
DTSTAMP:20260425T152759Z
DESCRIPTION:
DTSTART:20170522T060000Z
DTEND:20170522T080000Z
LOCATION:E 1.3\, SR 016
SUMMARY:Qmc17: Lecture 5
END:VEVENT
BEGIN:VEVENT
UID:64363331-6637-4539-a639-343565353532
DTSTAMP:20260425T152759Z
DESCRIPTION:
DTSTART;VALUE=DATE:20170524
DTEND;VALUE=DATE:20170525
SUMMARY:Qmc17: No Tutorial
END:VEVENT
BEGIN:VEVENT
UID:36656238-3664-4935-b434-653266636361
DTSTAMP:20260425T152759Z
DESCRIPTION:
DTSTART:20170529T060000Z
DTEND:20170529T080000Z
LOCATION:E 1.3\, SR 016
SUMMARY:Qmc17: Lecture 6
END:VEVENT
BEGIN:VEVENT
UID:30323539-3464-4463-b462-656232373138
DTSTAMP:20260425T152759Z
DESCRIPTION:
DTSTART:20170531T120000Z
DTEND:20170531T140000Z
LOCATION:E1.1\, SR U12
SUMMARY:Qmc17: Tutorial
END:VEVENT
BEGIN:VEVENT
UID:38323163-3865-4337-b432-383262643033
DTSTAMP:20260425T152759Z
DESCRIPTION:
DTSTART:20170612T060000Z
DTEND:20170612T080000Z
LOCATION:E 1.3\, SR 016
SUMMARY:Qmc17: Lecture 7
END:VEVENT
BEGIN:VEVENT
UID:38326436-6533-4663-a231-366666643933
DTSTAMP:20260425T152759Z
DESCRIPTION:
DTSTART:20170616T215900Z
DTEND:20170616T215900Z
SUMMARY:Qmc17: Deadline: Practical Assignment 1
END:VEVENT
BEGIN:VEVENT
UID:34396563-6533-4536-b630-323835396135
DTSTAMP:20260425T152759Z
DESCRIPTION:
DTSTART:20170619T060000Z
DTEND:20170619T080000Z
LOCATION:E 1.3\, SR 016
SUMMARY:Qmc17: Lecture 8
END:VEVENT
BEGIN:VEVENT
UID:36323961-3065-4432-b533-383166633736
DTSTAMP:20260425T152759Z
DESCRIPTION:
DTSTART:20170621T120000Z
DTEND:20170621T140000Z
LOCATION:E1.1\, SR U12
SUMMARY:Qmc17: Tutorial
END:VEVENT
BEGIN:VEVENT
UID:61306464-6664-4331-b064-346565653365
DTSTAMP:20260425T152759Z
DESCRIPTION:
DTSTART:20170626T060000Z
DTEND:20170626T080000Z
LOCATION:E 1.3\, SR 016
SUMMARY:Qmc17: Lecture 9
END:VEVENT
BEGIN:VEVENT
UID:61383134-3633-4537-b561-656432323766
DTSTAMP:20260425T152759Z
DESCRIPTION:
DTSTART:20170626T215900Z
DTEND:20170626T215900Z
SUMMARY:Qmc17: Deadline: Practical Assignment 2
END:VEVENT
BEGIN:VEVENT
UID:62646334-3033-4637-b661-663463373033
DTSTAMP:20260425T152759Z
DESCRIPTION:
DTSTART:20170628T120000Z
DTEND:20170628T140000Z
LOCATION:E1.1\, SR U12
SUMMARY:Qmc17: Tutorial
END:VEVENT
BEGIN:VEVENT
UID:64366264-3234-4334-b831-663932633933
DTSTAMP:20260425T152759Z
DESCRIPTION:
DTSTART:20170703T060000Z
DTEND:20170703T080000Z
LOCATION:E 1.3\, SR 016
SUMMARY:Qmc17: Lecture 10
END:VEVENT
BEGIN:VEVENT
UID:64343632-6436-4562-a664-396138336237
DTSTAMP:20260425T152759Z
DESCRIPTION:
DTSTART:20170705T120000Z
DTEND:20170705T140000Z
LOCATION:E1.1\, SR U12
SUMMARY:Qmc17: Tutorial
END:VEVENT
BEGIN:VEVENT
UID:38323635-3530-4633-b230-366137613133
DTSTAMP:20260425T152759Z
DESCRIPTION:
DTSTART:20170710T060000Z
DTEND:20170710T080000Z
LOCATION:E 1.3\, SR 016
SUMMARY:Qmc17: Lecture 11
END:VEVENT
BEGIN:VEVENT
UID:66363365-3863-4131-b830-643165343462
DTSTAMP:20260425T152759Z
DESCRIPTION:
DTSTART:20170712T120000Z
DTEND:20170712T140000Z
LOCATION:E1.1\, SR U12
SUMMARY:Qmc17: Tutorial
END:VEVENT
BEGIN:VEVENT
UID:65306537-6139-4033-a230-376138326561
DTSTAMP:20260425T152759Z
DESCRIPTION:
DTSTART:20170717T060000Z
DTEND:20170717T080000Z
LOCATION:E 1.3\, SR 016
SUMMARY:Qmc17: Lecture 12
END:VEVENT
BEGIN:VEVENT
UID:39316630-6364-4736-b733-353365316237
DTSTAMP:20260425T152759Z
DESCRIPTION:
DTSTART:20170719T120000Z
DTEND:20170719T140000Z
LOCATION:E1.1\, SR U12
SUMMARY:Qmc17: Tutorial
END:VEVENT
BEGIN:VEVENT
UID:34343932-6639-4765-b639-383339313737
DTSTAMP:20260425T152759Z
DESCRIPTION:
DTSTART:20170724T060000Z
DTEND:20170724T080000Z
LOCATION:E 1.3\, SR 016
SUMMARY:Qmc17: Lecture 13
END:VEVENT
BEGIN:VEVENT
UID:66396537-3530-4933-b665-383530366638
DTSTAMP:20260425T152759Z
DESCRIPTION:
DTSTART:20170724T215900Z
DTEND:20170724T215900Z
SUMMARY:Qmc17: Deadline: Practical Assignment 3
END:VEVENT
BEGIN:VEVENT
UID:32356661-3065-4565-a461-666136326139
DTSTAMP:20260425T152759Z
DESCRIPTION:
DTSTART:20170726T120000Z
DTEND:20170726T140000Z
LOCATION:E1.1\, SR U12
SUMMARY:Qmc17: Tutorial
END:VEVENT
BEGIN:VEVENT
UID:37316638-3635-4163-a135-316637346664
DTSTAMP:20260425T152759Z
DESCRIPTION:
DTSTART:20170804T120000Z
DTEND:20170804T140000Z
SUMMARY:Qmc17: Final Exam
END:VEVENT
END:VCALENDAR
