BEGIN:VCALENDAR
VERSION:2.0
PRODID:-//127.0.1.1//NONSGML kigkonsult.se iCalcreator 2.41.92//
CALSCALE:GREGORIAN
METHOD:PUBLISH
UID:64333262-6639-4730-b038-633165373631
X-WR-CALNAME:Quantitative Model Checking Calendar
X-WR-CALDESC:Events of the lecture Quantitative Model Checking
X-WR-TIMEZONE:Europe/Berlin
BEGIN:VEVENT
UID:66306636-3462-4238-b466-393366613236
DTSTAMP:20260425T164806Z
DESCRIPTION:
DTSTART:20170616T215900Z
DTEND:20170616T215900Z
SUMMARY:Qmc17: Deadline: Practical Assignment 1
END:VEVENT
BEGIN:VEVENT
UID:65643338-3234-4663-a638-333936333362
DTSTAMP:20260425T164806Z
DESCRIPTION:
DTSTART:20170626T215900Z
DTEND:20170626T215900Z
SUMMARY:Qmc17: Deadline: Practical Assignment 2
END:VEVENT
BEGIN:VEVENT
UID:34353333-6539-4633-b466-323332643732
DTSTAMP:20260425T164806Z
DESCRIPTION:
DTSTART:20170724T215900Z
DTEND:20170724T215900Z
SUMMARY:Qmc17: Deadline: Practical Assignment 3
END:VEVENT
END:VCALENDAR
