BEGIN:VCALENDAR
VERSION:2.0
PRODID:-//127.0.1.1//NONSGML kigkonsult.se iCalcreator 2.41.92//
CALSCALE:GREGORIAN
METHOD:PUBLISH
UID:65663466-3530-4363-b362-313134613264
X-WR-CALNAME:Quantitative Model Checking Calendar
X-WR-CALDESC:Events of the lecture Quantitative Model Checking
X-WR-TIMEZONE:Europe/Berlin
BEGIN:VEVENT
UID:36306630-3037-4965-a463-656433633465
DTSTAMP:20260425T152626Z
DESCRIPTION:
DTSTART:20170419T120000Z
DTEND:20170419T140000Z
LOCATION:E 1.3\, SR 016
SUMMARY:Lecture 1
END:VEVENT
BEGIN:VEVENT
UID:64313930-3039-4632-b930-313634393732
DTSTAMP:20260425T152626Z
DESCRIPTION:
DTSTART:20170424T060000Z
DTEND:20170424T080000Z
LOCATION:E 1.3\, SR 016
SUMMARY:Lecture 2
END:VEVENT
BEGIN:VEVENT
UID:37343231-3331-4232-b932-333635366433
DTSTAMP:20260425T152626Z
DESCRIPTION:
DTSTART:20170426T120000Z
DTEND:20170426T140000Z
LOCATION:E1.1\, SR U12
SUMMARY:Tutorial
END:VEVENT
BEGIN:VEVENT
UID:39313061-6362-4466-a535-323966643266
DTSTAMP:20260425T152626Z
DESCRIPTION:
DTSTART:20170508T060000Z
DTEND:20170508T080000Z
LOCATION:E 1.3\, SR 016
SUMMARY:Lecture 3
END:VEVENT
BEGIN:VEVENT
UID:62636362-6136-4238-a438-623939653136
DTSTAMP:20260425T152626Z
DESCRIPTION:
DTSTART:20170510T120000Z
DTEND:20170510T140000Z
LOCATION:E1.1\, SR U12
SUMMARY:Tutorial
END:VEVENT
BEGIN:VEVENT
UID:38396539-6563-4966-b436-643533323731
DTSTAMP:20260425T152626Z
DESCRIPTION:
DTSTART:20170515T060000Z
DTEND:20170515T080000Z
LOCATION:E 1.3\, SR 016
SUMMARY:Lecture 4
END:VEVENT
BEGIN:VEVENT
UID:35323265-6462-4430-b638-323164386637
DTSTAMP:20260425T152626Z
DESCRIPTION:
DTSTART:20170517T120000Z
DTEND:20170517T140000Z
LOCATION:E1.1\, SR U12
SUMMARY:Tutorial
END:VEVENT
BEGIN:VEVENT
UID:36636632-6132-4533-a366-353166366436
DTSTAMP:20260425T152626Z
DESCRIPTION:
DTSTART:20170522T060000Z
DTEND:20170522T080000Z
LOCATION:E 1.3\, SR 016
SUMMARY:Lecture 5
END:VEVENT
BEGIN:VEVENT
UID:63623938-6662-4331-a663-336361326333
DTSTAMP:20260425T152626Z
DESCRIPTION:
DTSTART;VALUE=DATE:20170524
DTEND;VALUE=DATE:20170525
SUMMARY:No Tutorial
END:VEVENT
BEGIN:VEVENT
UID:36616438-3537-4334-b137-316434373763
DTSTAMP:20260425T152626Z
DESCRIPTION:
DTSTART:20170529T060000Z
DTEND:20170529T080000Z
LOCATION:E 1.3\, SR 016
SUMMARY:Lecture 6
END:VEVENT
BEGIN:VEVENT
UID:35643362-6539-4730-b438-376631636231
DTSTAMP:20260425T152626Z
DESCRIPTION:
DTSTART:20170531T120000Z
DTEND:20170531T140000Z
LOCATION:E1.1\, SR U12
SUMMARY:Tutorial
END:VEVENT
BEGIN:VEVENT
UID:33313833-6135-4138-a231-373062663736
DTSTAMP:20260425T152626Z
DESCRIPTION:
DTSTART:20170612T060000Z
DTEND:20170612T080000Z
LOCATION:E 1.3\, SR 016
SUMMARY:Lecture 7
END:VEVENT
BEGIN:VEVENT
UID:34303561-3965-4835-b738-383063353935
DTSTAMP:20260425T152626Z
DESCRIPTION:
DTSTART:20170616T215900Z
DTEND:20170616T215900Z
SUMMARY:Deadline: Practical Assignment 1
END:VEVENT
BEGIN:VEVENT
UID:64643637-3165-4563-a638-386632653262
DTSTAMP:20260425T152626Z
DESCRIPTION:
DTSTART:20170619T060000Z
DTEND:20170619T080000Z
LOCATION:E 1.3\, SR 016
SUMMARY:Lecture 8
END:VEVENT
BEGIN:VEVENT
UID:37386431-3238-4337-b939-303335353865
DTSTAMP:20260425T152626Z
DESCRIPTION:
DTSTART:20170621T120000Z
DTEND:20170621T140000Z
LOCATION:E1.1\, SR U12
SUMMARY:Tutorial
END:VEVENT
BEGIN:VEVENT
UID:62613230-3732-4164-a462-666231303230
DTSTAMP:20260425T152626Z
DESCRIPTION:
DTSTART:20170626T060000Z
DTEND:20170626T080000Z
LOCATION:E 1.3\, SR 016
SUMMARY:Lecture 9
END:VEVENT
BEGIN:VEVENT
UID:30636538-3762-4361-b961-356231336434
DTSTAMP:20260425T152626Z
DESCRIPTION:
DTSTART:20170626T215900Z
DTEND:20170626T215900Z
SUMMARY:Deadline: Practical Assignment 2
END:VEVENT
BEGIN:VEVENT
UID:65663738-3065-4833-b531-623335303633
DTSTAMP:20260425T152626Z
DESCRIPTION:
DTSTART:20170628T120000Z
DTEND:20170628T140000Z
LOCATION:E1.1\, SR U12
SUMMARY:Tutorial
END:VEVENT
BEGIN:VEVENT
UID:38663163-3731-4965-b439-383931333430
DTSTAMP:20260425T152626Z
DESCRIPTION:
DTSTART:20170703T060000Z
DTEND:20170703T080000Z
LOCATION:E 1.3\, SR 016
SUMMARY:Lecture 10
END:VEVENT
BEGIN:VEVENT
UID:64363466-3661-4165-b961-643261303931
DTSTAMP:20260425T152626Z
DESCRIPTION:
DTSTART:20170705T120000Z
DTEND:20170705T140000Z
LOCATION:E1.1\, SR U12
SUMMARY:Tutorial
END:VEVENT
BEGIN:VEVENT
UID:66396631-3633-4963-b138-633763396135
DTSTAMP:20260425T152626Z
DESCRIPTION:
DTSTART:20170710T060000Z
DTEND:20170710T080000Z
LOCATION:E 1.3\, SR 016
SUMMARY:Lecture 11
END:VEVENT
BEGIN:VEVENT
UID:62623237-3332-4033-a465-303739643361
DTSTAMP:20260425T152626Z
DESCRIPTION:
DTSTART:20170712T120000Z
DTEND:20170712T140000Z
LOCATION:E1.1\, SR U12
SUMMARY:Tutorial
END:VEVENT
BEGIN:VEVENT
UID:35613830-3265-4030-a461-346637353563
DTSTAMP:20260425T152626Z
DESCRIPTION:
DTSTART:20170717T060000Z
DTEND:20170717T080000Z
LOCATION:E 1.3\, SR 016
SUMMARY:Lecture 12
END:VEVENT
BEGIN:VEVENT
UID:36353963-6136-4034-b434-636435666336
DTSTAMP:20260425T152626Z
DESCRIPTION:
DTSTART:20170719T120000Z
DTEND:20170719T140000Z
LOCATION:E1.1\, SR U12
SUMMARY:Tutorial
END:VEVENT
BEGIN:VEVENT
UID:32666166-3566-4961-b364-353365646535
DTSTAMP:20260425T152626Z
DESCRIPTION:
DTSTART:20170724T060000Z
DTEND:20170724T080000Z
LOCATION:E 1.3\, SR 016
SUMMARY:Lecture 13
END:VEVENT
BEGIN:VEVENT
UID:32306134-6662-4033-b165-353730323962
DTSTAMP:20260425T152626Z
DESCRIPTION:
DTSTART:20170724T215900Z
DTEND:20170724T215900Z
SUMMARY:Deadline: Practical Assignment 3
END:VEVENT
BEGIN:VEVENT
UID:32346532-6366-4736-b935-306566636565
DTSTAMP:20260425T152626Z
DESCRIPTION:
DTSTART:20170726T120000Z
DTEND:20170726T140000Z
LOCATION:E1.1\, SR U12
SUMMARY:Tutorial
END:VEVENT
BEGIN:VEVENT
UID:66346330-3961-4532-a535-333434356665
DTSTAMP:20260425T152626Z
DESCRIPTION:
DTSTART:20170804T120000Z
DTEND:20170804T140000Z
SUMMARY:Final Exam
END:VEVENT
END:VCALENDAR
