BEGIN:VCALENDAR
VERSION:2.0
PRODID:-//127.0.1.1//NONSGML kigkonsult.se iCalcreator 2.41.92//
CALSCALE:GREGORIAN
METHOD:PUBLISH
UID:63323534-3363-4331-a163-633864653063
X-WR-CALNAME:Programmierung 1 Calendar
X-WR-CALDESC:Termine der Vorlesung Programmierung 1
X-WR-TIMEZONE:Europe/Berlin
BEGIN:VEVENT
UID:63613637-6665-4534-b533-633832653036
DTSTAMP:20260421T152045Z
DESCRIPTION:
DTSTART;VALUE=DATE:20170107
DTEND;VALUE=DATE:20170108
SUMMARY:Mittelklausur
END:VEVENT
BEGIN:VEVENT
UID:62623663-3164-4738-b834-363639376266
DTSTAMP:20260421T152045Z
DESCRIPTION:
DTSTART:20170113T140000Z
DTEND:20170113T160000Z
LOCATION:E1 1 407
SUMMARY:Klausureinsicht Mittelklausur
END:VEVENT
BEGIN:VEVENT
UID:62633333-3635-4466-a561-306334633064
DTSTAMP:20260421T152045Z
DESCRIPTION:
DTSTART;VALUE=DATE:20170218
DTEND;VALUE=DATE:20170219
SUMMARY:Nachmittelklausur
END:VEVENT
BEGIN:VEVENT
UID:31663238-3561-4234-a334-623037633130
DTSTAMP:20260421T152045Z
DESCRIPTION:
DTSTART:20170224T110000Z
DTEND:20170224T123000Z
LOCATION:E1 3 016
SUMMARY:Klausureinsicht Nachmittelklausur
END:VEVENT
BEGIN:VEVENT
UID:65303332-6266-4233-b931-663231343338
DTSTAMP:20260421T152045Z
DESCRIPTION:
DTSTART;VALUE=DATE:20170303
DTEND;VALUE=DATE:20170304
SUMMARY:Endklausur
END:VEVENT
BEGIN:VEVENT
UID:35356530-3864-4864-b562-666438323562
DTSTAMP:20260421T152045Z
DESCRIPTION:
DTSTART:20170306T130000Z
DTEND:20170306T143000Z
LOCATION:E1 3 016
SUMMARY:Klausureinsicht Endklausur
END:VEVENT
BEGIN:VEVENT
UID:34626539-6266-4434-b334-363339663064
DTSTAMP:20260421T152045Z
DESCRIPTION:
DTSTART;VALUE=DATE:20170411
DTEND;VALUE=DATE:20170412
SUMMARY:Nachendklausur
END:VEVENT
BEGIN:VEVENT
UID:31303432-6639-4161-b734-396135323862
DTSTAMP:20260421T152045Z
DESCRIPTION:
DTSTART:20170421T110000Z
DTEND:20170421T130000Z
LOCATION:E1 1 407
SUMMARY:Klausureinsicht Nachendklausur
END:VEVENT
END:VCALENDAR
