BEGIN:VCALENDAR
VERSION:2.0
PRODID:-//127.0.1.1//NONSGML kigkonsult.se iCalcreator 2.41.92//
CALSCALE:GREGORIAN
METHOD:PUBLISH
UID:64376531-3136-4232-b065-666130653230
X-WR-CALNAME:Programmierung 1 Calendar
X-WR-CALDESC:Termine der Vorlesung Programmierung 1
X-WR-TIMEZONE:Europe/Berlin
BEGIN:VEVENT
UID:36323532-3765-4662-b265-393131636266
DTSTAMP:20260421T152112Z
DESCRIPTION:
DTSTART:20161026T101500Z
DTEND:20161026T120000Z
LOCATION:E1 3 SR 014
SUMMARY:Prog1: Office Hour
END:VEVENT
BEGIN:VEVENT
UID:65323562-3730-4236-a564-626365613433
DTSTAMP:20260421T152112Z
DESCRIPTION:
DTSTART:20161027T121500Z
DTEND:20161027T140000Z
LOCATION:E1 3 SR 014
SUMMARY:Prog1: Office Hour
END:VEVENT
BEGIN:VEVENT
UID:30336232-3264-4538-a164-646633346433
DTSTAMP:20260421T152112Z
DESCRIPTION:
DTSTART:20161028T121500Z
DTEND:20161028T140000Z
LOCATION:E1 3 SR 014
SUMMARY:Prog1: Office Hour
END:VEVENT
BEGIN:VEVENT
UID:39353066-3431-4265-a136-393130616136
DTSTAMP:20260421T152112Z
DESCRIPTION:
DTSTART:20161031T091500Z
DTEND:20161031T110000Z
LOCATION:E1 3 SR 014
SUMMARY:Prog1: Office Hour
END:VEVENT
BEGIN:VEVENT
UID:35343039-3866-4537-a538-313164353730
DTSTAMP:20260421T152112Z
DESCRIPTION:
DTSTART:20161102T111500Z
DTEND:20161102T130000Z
LOCATION:E1 3 SR 014
SUMMARY:Prog1: Office Hour
END:VEVENT
BEGIN:VEVENT
UID:61656165-3236-4438-a462-323464373261
DTSTAMP:20260421T152112Z
DESCRIPTION:
DTSTART:20161103T131500Z
DTEND:20161103T150000Z
LOCATION:E1 3 SR 014
SUMMARY:Prog1: Office Hour
END:VEVENT
BEGIN:VEVENT
UID:35363432-3930-4461-b239-303765663832
DTSTAMP:20260421T152112Z
DESCRIPTION:
DTSTART:20161104T131500Z
DTEND:20161104T150000Z
LOCATION:E1 3 SR 014
SUMMARY:Prog1: Office Hour
END:VEVENT
BEGIN:VEVENT
UID:35343035-6432-4462-b965-623836613863
DTSTAMP:20260421T152112Z
DESCRIPTION:
DTSTART:20161107T091500Z
DTEND:20161107T110000Z
LOCATION:E1 3 SR 014
SUMMARY:Prog1: Office Hour
END:VEVENT
BEGIN:VEVENT
UID:33353061-3764-4638-b535-396332663633
DTSTAMP:20260421T152112Z
DESCRIPTION:
DTSTART:20161109T111500Z
DTEND:20161109T130000Z
LOCATION:E1 3 SR 014
SUMMARY:Prog1: Office Hour
END:VEVENT
BEGIN:VEVENT
UID:31396564-6165-4630-b266-316231306435
DTSTAMP:20260421T152112Z
DESCRIPTION:
DTSTART:20161110T131500Z
DTEND:20161110T150000Z
LOCATION:E1 3 SR 014
SUMMARY:Prog1: Office Hour
END:VEVENT
BEGIN:VEVENT
UID:35653664-6465-4236-b731-663362393631
DTSTAMP:20260421T152112Z
DESCRIPTION:
DTSTART:20161111T131500Z
DTEND:20161111T150000Z
LOCATION:E1 3 SR 014
SUMMARY:Prog1: Office Hour
END:VEVENT
BEGIN:VEVENT
UID:31393234-3761-4232-b265-313663336237
DTSTAMP:20260421T152112Z
DESCRIPTION:
DTSTART:20161114T091500Z
DTEND:20161114T110000Z
LOCATION:E1 3 SR 014
SUMMARY:Prog1: Office Hour
END:VEVENT
BEGIN:VEVENT
UID:35363862-6436-4163-b431-616531313133
DTSTAMP:20260421T152112Z
DESCRIPTION:
DTSTART:20161116T111500Z
DTEND:20161116T130000Z
LOCATION:E1 3 SR 014
SUMMARY:Prog1: Office Hour
END:VEVENT
BEGIN:VEVENT
UID:32316338-6266-4563-b539-363938366239
DTSTAMP:20260421T152112Z
DESCRIPTION:
DTSTART:20161117T131500Z
DTEND:20161117T150000Z
LOCATION:E1 3 SR 014
SUMMARY:Prog1: Office Hour
END:VEVENT
BEGIN:VEVENT
UID:30613037-6163-4435-a333-343163303264
DTSTAMP:20260421T152112Z
DESCRIPTION:
DTSTART:20161118T131500Z
DTEND:20161118T150000Z
LOCATION:E1 3 SR 014
SUMMARY:Prog1: Office Hour
END:VEVENT
BEGIN:VEVENT
UID:65306637-3232-4738-b664-326136313138
DTSTAMP:20260421T152112Z
DESCRIPTION:
DTSTART:20161121T091500Z
DTEND:20161121T110000Z
LOCATION:E1 3 SR 014
SUMMARY:Prog1: Office Hour
END:VEVENT
BEGIN:VEVENT
UID:34373939-6330-4161-a665-393830373164
DTSTAMP:20260421T152112Z
DESCRIPTION:
DTSTART:20161123T111500Z
DTEND:20161123T130000Z
LOCATION:E1 3 SR 014
SUMMARY:Prog1: Office Hour
END:VEVENT
BEGIN:VEVENT
UID:32323464-3330-4463-b433-356333356433
DTSTAMP:20260421T152112Z
DESCRIPTION:
DTSTART:20161124T131500Z
DTEND:20161124T150000Z
LOCATION:E1 3 SR 014
SUMMARY:Prog1: Office Hour
END:VEVENT
BEGIN:VEVENT
UID:64633734-3631-4163-a164-636535336639
DTSTAMP:20260421T152112Z
DESCRIPTION:
DTSTART:20161125T131500Z
DTEND:20161125T150000Z
LOCATION:E1 3 SR 014
SUMMARY:Prog1: Office Hour
END:VEVENT
BEGIN:VEVENT
UID:36643164-3239-4361-b732-626664613263
DTSTAMP:20260421T152112Z
DESCRIPTION:
DTSTART:20161128T091500Z
DTEND:20161128T110000Z
LOCATION:E1 3 SR 014
SUMMARY:Prog1: Office Hour
END:VEVENT
BEGIN:VEVENT
UID:30353338-3964-4532-a138-613939616132
DTSTAMP:20260421T152112Z
DESCRIPTION:
DTSTART:20161130T111500Z
DTEND:20161130T130000Z
LOCATION:E1 3 SR 014
SUMMARY:Prog1: Office Hour
END:VEVENT
BEGIN:VEVENT
UID:65313362-3930-4764-b733-373736623936
DTSTAMP:20260421T152112Z
DESCRIPTION:
DTSTART:20161201T131500Z
DTEND:20161201T150000Z
LOCATION:E1 3 SR 014
SUMMARY:Prog1: Office Hour
END:VEVENT
BEGIN:VEVENT
UID:31336633-3932-4934-b961-643061373134
DTSTAMP:20260421T152112Z
DESCRIPTION:
DTSTART:20161202T131500Z
DTEND:20161202T150000Z
LOCATION:E1 3 SR 014
SUMMARY:Prog1: Office Hour
END:VEVENT
BEGIN:VEVENT
UID:64396463-6634-4664-a364-383830376230
DTSTAMP:20260421T152112Z
DESCRIPTION:
DTSTART:20161205T091500Z
DTEND:20161205T110000Z
LOCATION:E1 3 SR 014
SUMMARY:Prog1: Office Hour
END:VEVENT
BEGIN:VEVENT
UID:31616635-6131-4334-a535-623239626665
DTSTAMP:20260421T152112Z
DESCRIPTION:
DTSTART:20161207T111500Z
DTEND:20161207T130000Z
LOCATION:E1 3 SR 014
SUMMARY:Prog1: Office Hour
END:VEVENT
BEGIN:VEVENT
UID:64626161-3164-4864-a533-613936373862
DTSTAMP:20260421T152112Z
DESCRIPTION:
DTSTART:20161208T131500Z
DTEND:20161208T150000Z
LOCATION:E1 3 SR 014
SUMMARY:Prog1: Office Hour
END:VEVENT
BEGIN:VEVENT
UID:62363436-3163-4434-a338-643838626166
DTSTAMP:20260421T152112Z
DESCRIPTION:
DTSTART:20161209T131500Z
DTEND:20161209T150000Z
LOCATION:E1 3 SR 014
SUMMARY:Prog1: Office Hour
END:VEVENT
BEGIN:VEVENT
UID:34313136-3839-4336-a535-316363613361
DTSTAMP:20260421T152112Z
DESCRIPTION:
DTSTART:20161212T091500Z
DTEND:20161212T110000Z
LOCATION:E1 3 SR 014
SUMMARY:Prog1: Office Hour
END:VEVENT
BEGIN:VEVENT
UID:62363433-6137-4339-b331-343238303831
DTSTAMP:20260421T152112Z
DESCRIPTION:
DTSTART:20161214T111500Z
DTEND:20161214T130000Z
LOCATION:E1 3 SR 014
SUMMARY:Prog1: Office Hour
END:VEVENT
BEGIN:VEVENT
UID:32396366-6664-4938-a231-313166613234
DTSTAMP:20260421T152112Z
DESCRIPTION:
DTSTART:20161215T131500Z
DTEND:20161215T150000Z
LOCATION:E1 3 SR 014
SUMMARY:Prog1: Office Hour
END:VEVENT
BEGIN:VEVENT
UID:30376161-6261-4834-a262-653831643862
DTSTAMP:20260421T152112Z
DESCRIPTION:
DTSTART:20161216T131500Z
DTEND:20161216T150000Z
LOCATION:E1 3 SR 014
SUMMARY:Prog1: Office Hour
END:VEVENT
BEGIN:VEVENT
UID:38326435-6563-4339-b834-306430646534
DTSTAMP:20260421T152112Z
DESCRIPTION:
DTSTART:20170102T091500Z
DTEND:20170102T110000Z
LOCATION:E1 3 SR 014
SUMMARY:Prog1: Office Hour
END:VEVENT
BEGIN:VEVENT
UID:65373630-6233-4133-b631-306130323639
DTSTAMP:20260421T152112Z
DESCRIPTION:
DTSTART:20170104T111500Z
DTEND:20170104T130000Z
LOCATION:E1 3 SR 014
SUMMARY:Prog1: Office Hour
END:VEVENT
BEGIN:VEVENT
UID:36643038-3633-4930-b139-653166323734
DTSTAMP:20260421T152112Z
DESCRIPTION:
DTSTART:20170105T131500Z
DTEND:20170105T150000Z
LOCATION:E1 3 SR 014
SUMMARY:Prog1: Office Hour
END:VEVENT
BEGIN:VEVENT
UID:34616262-6337-4338-a332-656434646237
DTSTAMP:20260421T152112Z
DESCRIPTION:
DTSTART:20170106T091500Z
DTEND:20170106T170000Z
LOCATION:E1 1 SR 407
SUMMARY:Prog1: Office Hour
END:VEVENT
BEGIN:VEVENT
UID:64396161-3638-4830-a535-383733363465
DTSTAMP:20260421T152112Z
DESCRIPTION:
DTSTART:20170109T091500Z
DTEND:20170109T110000Z
LOCATION:E1 3 SR 014
SUMMARY:Prog1: Office Hour
END:VEVENT
BEGIN:VEVENT
UID:66383232-3334-4462-b131-333332306434
DTSTAMP:20260421T152112Z
DESCRIPTION:
DTSTART:20170111T111500Z
DTEND:20170111T130000Z
LOCATION:E1 3 SR 014
SUMMARY:Prog1: Office Hour
END:VEVENT
BEGIN:VEVENT
UID:66396365-3861-4035-b732-353539616264
DTSTAMP:20260421T152112Z
DESCRIPTION:
DTSTART:20170112T131500Z
DTEND:20170112T150000Z
LOCATION:E1 3 SR 014
SUMMARY:Prog1: Office Hour
END:VEVENT
BEGIN:VEVENT
UID:38363365-3334-4336-b462-636538333838
DTSTAMP:20260421T152112Z
DESCRIPTION:
DTSTART:20170113T131500Z
DTEND:20170113T140000Z
LOCATION:E1 3 SR 014
SUMMARY:Prog1: Office Hour
END:VEVENT
BEGIN:VEVENT
UID:62633832-6137-4461-a430-616331626233
DTSTAMP:20260421T152112Z
DESCRIPTION:
DTSTART:20170116T091500Z
DTEND:20170116T110000Z
LOCATION:E1 3 SR 014
SUMMARY:Prog1: Office Hour
END:VEVENT
BEGIN:VEVENT
UID:33613764-6430-4064-b362-396330366338
DTSTAMP:20260421T152112Z
DESCRIPTION:
DTSTART:20170118T111500Z
DTEND:20170118T130000Z
LOCATION:E1 3 SR 014
SUMMARY:Prog1: Office Hour
END:VEVENT
BEGIN:VEVENT
UID:66353164-3662-4631-a566-313336646234
DTSTAMP:20260421T152112Z
DESCRIPTION:
DTSTART:20170119T131500Z
DTEND:20170119T150000Z
LOCATION:E1 3 SR 014
SUMMARY:Prog1: Office Hour
END:VEVENT
BEGIN:VEVENT
UID:37616235-6563-4636-b339-643365306139
DTSTAMP:20260421T152112Z
DESCRIPTION:
DTSTART:20170120T131500Z
DTEND:20170120T150000Z
LOCATION:E1 3 SR 014
SUMMARY:Prog1: Office Hour
END:VEVENT
BEGIN:VEVENT
UID:65626532-3163-4164-a231-653561653761
DTSTAMP:20260421T152112Z
DESCRIPTION:
DTSTART:20170123T091500Z
DTEND:20170123T110000Z
LOCATION:E1 3 SR 014
SUMMARY:Prog1: Office Hour
END:VEVENT
BEGIN:VEVENT
UID:35313964-3631-4936-b962-373937666564
DTSTAMP:20260421T152112Z
DESCRIPTION:
DTSTART:20170125T111500Z
DTEND:20170125T130000Z
LOCATION:E1 3 SR 014
SUMMARY:Prog1: Office Hour
END:VEVENT
BEGIN:VEVENT
UID:37653166-3934-4362-a566-303864353361
DTSTAMP:20260421T152112Z
DESCRIPTION:
DTSTART:20170126T131500Z
DTEND:20170126T150000Z
LOCATION:E1 3 SR 014
SUMMARY:Prog1: Office Hour
END:VEVENT
BEGIN:VEVENT
UID:64623864-3066-4432-a633-373765313339
DTSTAMP:20260421T152112Z
DESCRIPTION:
DTSTART:20170127T131500Z
DTEND:20170127T150000Z
LOCATION:E1 3 SR 014
SUMMARY:Prog1: Office Hour
END:VEVENT
BEGIN:VEVENT
UID:63383661-3863-4465-a130-613161643438
DTSTAMP:20260421T152112Z
DESCRIPTION:
DTSTART:20170130T091500Z
DTEND:20170130T110000Z
LOCATION:E1 3 SR 014
SUMMARY:Prog1: Office Hour
END:VEVENT
BEGIN:VEVENT
UID:61326338-6334-4161-a538-393034313436
DTSTAMP:20260421T152112Z
DESCRIPTION:
DTSTART:20170201T111500Z
DTEND:20170201T130000Z
LOCATION:E1 3 SR 014
SUMMARY:Prog1: Office Hour
END:VEVENT
BEGIN:VEVENT
UID:35626336-6265-4863-a430-303530333561
DTSTAMP:20260421T152112Z
DESCRIPTION:
DTSTART:20170202T131500Z
DTEND:20170202T150000Z
LOCATION:E1 3 SR 014
SUMMARY:Prog1: Office Hour
END:VEVENT
BEGIN:VEVENT
UID:36653466-6433-4666-b464-386333386566
DTSTAMP:20260421T152112Z
DESCRIPTION:
DTSTART:20170203T131500Z
DTEND:20170203T150000Z
LOCATION:E1 3 SR 014
SUMMARY:Prog1: Office Hour
END:VEVENT
BEGIN:VEVENT
UID:37326562-6432-4564-b830-316438316161
DTSTAMP:20260421T152112Z
DESCRIPTION:
DTSTART:20170206T091500Z
DTEND:20170206T110000Z
LOCATION:E1 3 SR 014
SUMMARY:Prog1: Office Hour
END:VEVENT
BEGIN:VEVENT
UID:39316564-3336-4236-b466-336535343436
DTSTAMP:20260421T152112Z
DESCRIPTION:
DTSTART:20170208T111500Z
DTEND:20170208T130000Z
LOCATION:E1 3 SR 014
SUMMARY:Prog1: Office Hour
END:VEVENT
BEGIN:VEVENT
UID:37653436-3139-4963-a665-376462376263
DTSTAMP:20260421T152112Z
DESCRIPTION:
DTSTART:20170209T131500Z
DTEND:20170209T150000Z
LOCATION:E1 3 SR 014
SUMMARY:Prog1: Office Hour
END:VEVENT
BEGIN:VEVENT
UID:37386235-6431-4834-b764-303332623366
DTSTAMP:20260421T152112Z
DESCRIPTION:
DTSTART:20170210T131500Z
DTEND:20170210T150000Z
LOCATION:E1 3 SR 014
SUMMARY:Prog1: Office Hour
END:VEVENT
BEGIN:VEVENT
UID:30393839-6333-4061-b238-613262323739
DTSTAMP:20260421T152112Z
DESCRIPTION:
DTSTART:20170213T091500Z
DTEND:20170213T110000Z
LOCATION:E1 3 SR 014
SUMMARY:Prog1: Office Hour
END:VEVENT
BEGIN:VEVENT
UID:31383633-6234-4434-b565-626233363266
DTSTAMP:20260421T152112Z
DESCRIPTION:
DTSTART:20170215T111500Z
DTEND:20170215T130000Z
LOCATION:E1 3 SR 014
SUMMARY:Prog1: Office Hour
END:VEVENT
BEGIN:VEVENT
UID:30376236-6232-4037-b061-386332653966
DTSTAMP:20260421T152112Z
DESCRIPTION:
DTSTART:20170216T131500Z
DTEND:20170216T150000Z
LOCATION:E1 3 SR 014
SUMMARY:Prog1: Office Hour
END:VEVENT
BEGIN:VEVENT
UID:64643537-6237-4163-b863-326332643161
DTSTAMP:20260421T152112Z
DESCRIPTION:
DTSTART:20170217T131500Z
DTEND:20170217T150000Z
LOCATION:E1 3 SR 014
SUMMARY:Prog1: Office Hour
END:VEVENT
END:VCALENDAR
