BEGIN:VCALENDAR
VERSION:2.0
PRODID:-//127.0.1.1//NONSGML kigkonsult.se iCalcreator 2.41.92//
CALSCALE:GREGORIAN
METHOD:PUBLISH
UID:34346364-3066-4536-b161-663730613436
X-WR-CALNAME:Programmierung 1 Calendar
X-WR-CALDESC:Termine der Vorlesung Programmierung 1
X-WR-TIMEZONE:Europe/Berlin
BEGIN:VEVENT
UID:37663632-3535-4936-b437-383132306337
DTSTAMP:20260421T152051Z
DESCRIPTION:
DTSTART:20161108T071500Z
DTEND:20161108T090000Z
SUMMARY:Prog1: Tutorium A
END:VEVENT
BEGIN:VEVENT
UID:64383162-3230-4331-b765-623832643961
DTSTAMP:20260421T152051Z
DESCRIPTION:
DTSTART:20161108T091500Z
DTEND:20161108T110000Z
SUMMARY:Prog1: Tutorium A
END:VEVENT
BEGIN:VEVENT
UID:30333339-6164-4266-a637-613037376136
DTSTAMP:20260421T152051Z
DESCRIPTION:
DTSTART:20161108T111500Z
DTEND:20161108T130000Z
SUMMARY:Prog1: Tutorium A
END:VEVENT
BEGIN:VEVENT
UID:66313337-6664-4933-a636-653030356461
DTSTAMP:20260421T152051Z
DESCRIPTION:
DTSTART:20161115T071500Z
DTEND:20161115T090000Z
SUMMARY:Prog1: Tutorium B
END:VEVENT
BEGIN:VEVENT
UID:65646532-6364-4838-b865-663932356562
DTSTAMP:20260421T152051Z
DESCRIPTION:
DTSTART:20161115T091500Z
DTEND:20161115T110000Z
SUMMARY:Prog1: Tutorium B
END:VEVENT
BEGIN:VEVENT
UID:66333535-3937-4963-b135-363966393735
DTSTAMP:20260421T152051Z
DESCRIPTION:
DTSTART:20161115T111500Z
DTEND:20161115T130000Z
SUMMARY:Prog1: Tutorium B
END:VEVENT
BEGIN:VEVENT
UID:35386132-3564-4839-b433-393838393836
DTSTAMP:20260421T152051Z
DESCRIPTION:
DTSTART:20161122T071500Z
DTEND:20161122T090000Z
SUMMARY:Prog1: Tutorium C
END:VEVENT
BEGIN:VEVENT
UID:63323561-6166-4532-b736-326665366332
DTSTAMP:20260421T152051Z
DESCRIPTION:
DTSTART:20161122T091500Z
DTEND:20161122T110000Z
SUMMARY:Prog1: Tutorium C
END:VEVENT
BEGIN:VEVENT
UID:33306162-3331-4934-a639-356264363864
DTSTAMP:20260421T152051Z
DESCRIPTION:
DTSTART:20161122T111500Z
DTEND:20161122T130000Z
SUMMARY:Prog1: Tutorium C
END:VEVENT
BEGIN:VEVENT
UID:30353234-3934-4435-a433-646139613864
DTSTAMP:20260421T152051Z
DESCRIPTION:
DTSTART:20161129T071500Z
DTEND:20161129T090000Z
SUMMARY:Prog1: Tutorium D
END:VEVENT
BEGIN:VEVENT
UID:66363161-6166-4666-a436-393966333064
DTSTAMP:20260421T152051Z
DESCRIPTION:
DTSTART:20161129T091500Z
DTEND:20161129T110000Z
SUMMARY:Prog1: Tutorium D
END:VEVENT
BEGIN:VEVENT
UID:31343362-6336-4163-b234-383962386133
DTSTAMP:20260421T152051Z
DESCRIPTION:
DTSTART:20161129T111500Z
DTEND:20161129T130000Z
SUMMARY:Prog1: Tutorium D
END:VEVENT
BEGIN:VEVENT
UID:39383366-3838-4239-b630-326361643032
DTSTAMP:20260421T152051Z
DESCRIPTION:
DTSTART:20161206T071500Z
DTEND:20161206T090000Z
SUMMARY:Prog1: Tutorium E
END:VEVENT
BEGIN:VEVENT
UID:32333763-3632-4231-a264-663234313863
DTSTAMP:20260421T152051Z
DESCRIPTION:
DTSTART:20161206T091500Z
DTEND:20161206T110000Z
SUMMARY:Prog1: Tutorium E
END:VEVENT
BEGIN:VEVENT
UID:63333934-3633-4930-b033-333837626237
DTSTAMP:20260421T152051Z
DESCRIPTION:
DTSTART:20161206T111500Z
DTEND:20161206T130000Z
SUMMARY:Prog1: Tutorium E
END:VEVENT
BEGIN:VEVENT
UID:36663830-3833-4638-b533-666364353262
DTSTAMP:20260421T152051Z
DESCRIPTION:
DTSTART:20161213T071500Z
DTEND:20161213T090000Z
SUMMARY:Prog1: Tutorium F
END:VEVENT
BEGIN:VEVENT
UID:35363433-6638-4834-b239-636661326262
DTSTAMP:20260421T152051Z
DESCRIPTION:
DTSTART:20161213T091500Z
DTEND:20161213T110000Z
SUMMARY:Prog1: Tutorium F
END:VEVENT
BEGIN:VEVENT
UID:34616533-3564-4936-b734-613532646431
DTSTAMP:20260421T152051Z
DESCRIPTION:
DTSTART:20161213T111500Z
DTEND:20161213T130000Z
SUMMARY:Prog1: Tutorium F
END:VEVENT
BEGIN:VEVENT
UID:34643636-3331-4331-a335-343963303662
DTSTAMP:20260421T152051Z
DESCRIPTION:
DTSTART:20170103T071500Z
DTEND:20170103T090000Z
SUMMARY:Prog1: Tutorium G
END:VEVENT
BEGIN:VEVENT
UID:63373136-6431-4234-b438-363733336332
DTSTAMP:20260421T152051Z
DESCRIPTION:
DTSTART:20170103T091500Z
DTEND:20170103T110000Z
SUMMARY:Prog1: Tutorium G
END:VEVENT
BEGIN:VEVENT
UID:35353130-6439-4664-a338-356634643031
DTSTAMP:20260421T152051Z
DESCRIPTION:
DTSTART:20170103T111500Z
DTEND:20170103T130000Z
SUMMARY:Prog1: Tutorium G
END:VEVENT
BEGIN:VEVENT
UID:65373061-3733-4139-b639-363232656536
DTSTAMP:20260421T152051Z
DESCRIPTION:
DTSTART:20170110T071500Z
DTEND:20170110T090000Z
SUMMARY:Prog1: Tutorium H
END:VEVENT
BEGIN:VEVENT
UID:63383963-3763-4232-a434-633963636538
DTSTAMP:20260421T152051Z
DESCRIPTION:
DTSTART:20170110T091500Z
DTEND:20170110T110000Z
SUMMARY:Prog1: Tutorium H
END:VEVENT
BEGIN:VEVENT
UID:65323930-3463-4562-b836-633761363765
DTSTAMP:20260421T152051Z
DESCRIPTION:
DTSTART:20170110T111500Z
DTEND:20170110T130000Z
SUMMARY:Prog1: Tutorium H
END:VEVENT
BEGIN:VEVENT
UID:66616362-6330-4031-a136-333531316530
DTSTAMP:20260421T152051Z
DESCRIPTION:
DTSTART:20170117T071500Z
DTEND:20170117T090000Z
SUMMARY:Prog1: Tutorium I
END:VEVENT
BEGIN:VEVENT
UID:31616438-3263-4132-b438-613838383864
DTSTAMP:20260421T152051Z
DESCRIPTION:
DTSTART:20170117T091500Z
DTEND:20170117T110000Z
SUMMARY:Prog1: Tutorium I
END:VEVENT
BEGIN:VEVENT
UID:39353836-3964-4632-b132-303661333832
DTSTAMP:20260421T152051Z
DESCRIPTION:
DTSTART:20170117T111500Z
DTEND:20170117T130000Z
SUMMARY:Prog1: Tutorium I
END:VEVENT
BEGIN:VEVENT
UID:65663865-3961-4063-a433-306639663463
DTSTAMP:20260421T152051Z
DESCRIPTION:
DTSTART:20170124T071500Z
DTEND:20170124T090000Z
SUMMARY:Prog1: Tutorium J
END:VEVENT
BEGIN:VEVENT
UID:62663862-3666-4537-b433-353232386461
DTSTAMP:20260421T152051Z
DESCRIPTION:
DTSTART:20170124T091500Z
DTEND:20170124T110000Z
SUMMARY:Prog1: Tutorium J
END:VEVENT
BEGIN:VEVENT
UID:32656535-6235-4330-b463-303031633734
DTSTAMP:20260421T152051Z
DESCRIPTION:
DTSTART:20170124T111500Z
DTEND:20170124T130000Z
SUMMARY:Prog1: Tutorium J
END:VEVENT
BEGIN:VEVENT
UID:66616339-3631-4666-b738-396263366332
DTSTAMP:20260421T152051Z
DESCRIPTION:
DTSTART:20170131T071500Z
DTEND:20170131T090000Z
SUMMARY:Prog1: Tutorium K
END:VEVENT
BEGIN:VEVENT
UID:33313865-6133-4931-a461-353465393838
DTSTAMP:20260421T152051Z
DESCRIPTION:
DTSTART:20170131T091500Z
DTEND:20170131T110000Z
SUMMARY:Prog1: Tutorium K
END:VEVENT
BEGIN:VEVENT
UID:64303661-3535-4938-b937-613164633962
DTSTAMP:20260421T152051Z
DESCRIPTION:
DTSTART:20170131T111500Z
DTEND:20170131T130000Z
SUMMARY:Prog1: Tutorium K
END:VEVENT
BEGIN:VEVENT
UID:37656130-6634-4331-b264-633933623436
DTSTAMP:20260421T152051Z
DESCRIPTION:
DTSTART:20170207T071500Z
DTEND:20170207T090000Z
SUMMARY:Prog1: Tutorium L
END:VEVENT
BEGIN:VEVENT
UID:35623563-6461-4536-a636-373466396138
DTSTAMP:20260421T152051Z
DESCRIPTION:
DTSTART:20170207T091500Z
DTEND:20170207T110000Z
SUMMARY:Prog1: Tutorium L
END:VEVENT
BEGIN:VEVENT
UID:34633962-3534-4435-a239-393936643465
DTSTAMP:20260421T152051Z
DESCRIPTION:
DTSTART:20170207T111500Z
DTEND:20170207T130000Z
SUMMARY:Prog1: Tutorium L
END:VEVENT
BEGIN:VEVENT
UID:34643366-6562-4761-b262-323962656461
DTSTAMP:20260421T152051Z
DESCRIPTION:
DTSTART:20170214T071500Z
DTEND:20170214T090000Z
SUMMARY:Prog1: Tutorium M
END:VEVENT
BEGIN:VEVENT
UID:34646630-3731-4231-a234-393332306437
DTSTAMP:20260421T152051Z
DESCRIPTION:
DTSTART:20170214T091500Z
DTEND:20170214T110000Z
SUMMARY:Prog1: Tutorium M
END:VEVENT
BEGIN:VEVENT
UID:31666139-6138-4633-b866-376563633362
DTSTAMP:20260421T152051Z
DESCRIPTION:
DTSTART:20170214T111500Z
DTEND:20170214T130000Z
SUMMARY:Prog1: Tutorium M
END:VEVENT
END:VCALENDAR
