BEGIN:VCALENDAR
VERSION:2.0
PRODID:-//127.0.1.1//NONSGML kigkonsult.se iCalcreator 2.41.92//
CALSCALE:GREGORIAN
METHOD:PUBLISH
UID:35626638-6631-4530-b232-633437306561
X-WR-CALNAME:Programmierung 1 Calendar
X-WR-CALDESC:Termine der Vorlesung Programmierung 1
X-WR-TIMEZONE:Europe/Berlin
BEGIN:VEVENT
UID:62363032-6337-4736-a633-373839663631
DTSTAMP:20260421T152208Z
DESCRIPTION:
DTSTART:20161025T121500Z
DTEND:20161025T140000Z
LOCATION:E2 2
SUMMARY:Prog1: Vorlesung A.1
END:VEVENT
BEGIN:VEVENT
UID:31383966-3531-4738-b965-633135643366
DTSTAMP:20260421T152208Z
DESCRIPTION:
DTSTART:20161027T081500Z
DTEND:20161027T100000Z
LOCATION:E2 2
SUMMARY:Prog1: Vorlesung A.2
END:VEVENT
BEGIN:VEVENT
UID:65333232-3865-4563-a361-313862356132
DTSTAMP:20260421T152208Z
DESCRIPTION:
DTSTART:20161103T091500Z
DTEND:20161103T110000Z
LOCATION:E2 2
SUMMARY:Prog1: Vorlesung B.1
END:VEVENT
BEGIN:VEVENT
UID:34656237-6562-4563-a536-323564353930
DTSTAMP:20260421T152208Z
DESCRIPTION:
DTSTART:20161108T131500Z
DTEND:20161108T150000Z
LOCATION:E2 2
SUMMARY:Prog1: Vorlesung B.2
END:VEVENT
BEGIN:VEVENT
UID:30633638-3633-4236-b333-363662306333
DTSTAMP:20260421T152208Z
DESCRIPTION:
DTSTART:20161110T091500Z
DTEND:20161110T110000Z
LOCATION:E2 2
SUMMARY:Prog1: Vorlesung C.1
END:VEVENT
BEGIN:VEVENT
UID:61333862-6232-4531-a561-303035363863
DTSTAMP:20260421T152208Z
DESCRIPTION:
DTSTART:20161115T131500Z
DTEND:20161115T150000Z
LOCATION:E2 2
SUMMARY:Prog1: Vorlesung C.2
END:VEVENT
BEGIN:VEVENT
UID:64333334-3961-4535-a463-636331343161
DTSTAMP:20260421T152208Z
DESCRIPTION:
DTSTART:20161117T091500Z
DTEND:20161117T110000Z
LOCATION:E2 2
SUMMARY:Prog1: Vorlesung D.1
END:VEVENT
BEGIN:VEVENT
UID:33636434-6232-4266-a238-356263633432
DTSTAMP:20260421T152208Z
DESCRIPTION:
DTSTART:20161122T131500Z
DTEND:20161122T150000Z
LOCATION:E2 2
SUMMARY:Prog1: Vorlesung D.2
END:VEVENT
BEGIN:VEVENT
UID:30303132-3734-4630-a365-363239306230
DTSTAMP:20260421T152208Z
DESCRIPTION:
DTSTART:20161124T091500Z
DTEND:20161124T110000Z
LOCATION:E2 2
SUMMARY:Prog1: Vorlesung E.1
END:VEVENT
BEGIN:VEVENT
UID:63653562-3935-4562-b064-653330336166
DTSTAMP:20260421T152208Z
DESCRIPTION:
DTSTART:20161129T131500Z
DTEND:20161129T150000Z
LOCATION:E2 2
SUMMARY:Prog1: Vorlesung E.2
END:VEVENT
BEGIN:VEVENT
UID:61323866-3365-4364-a537-633732313866
DTSTAMP:20260421T152208Z
DESCRIPTION:
DTSTART:20161201T091500Z
DTEND:20161201T110000Z
LOCATION:E2 2
SUMMARY:Prog1: Vorlesung F.1
END:VEVENT
BEGIN:VEVENT
UID:31383135-3835-4630-b563-323930613337
DTSTAMP:20260421T152208Z
DESCRIPTION:
DTSTART:20161201T150000Z
DTEND:20161201T163000Z
LOCATION:SR015 E1 3
SUMMARY:Prog1: Knobeltutorium D
END:VEVENT
BEGIN:VEVENT
UID:30316161-3063-4237-b837-623030663531
DTSTAMP:20260421T152208Z
DESCRIPTION:
DTSTART:20161206T131500Z
DTEND:20161206T150000Z
LOCATION:E2 2
SUMMARY:Prog1: Vorlesung F.2
END:VEVENT
BEGIN:VEVENT
UID:38616665-3764-4762-b036-663034613536
DTSTAMP:20260421T152208Z
DESCRIPTION:
DTSTART:20161208T091500Z
DTEND:20161208T110000Z
LOCATION:E2 2
SUMMARY:Prog1: Vorlesung G.1
END:VEVENT
BEGIN:VEVENT
UID:34643134-6664-4437-b435-613563643239
DTSTAMP:20260421T152208Z
DESCRIPTION:
DTSTART:20161209T111500Z
DTEND:20161209T124500Z
LOCATION:SR015 E1 3
SUMMARY:Prog1: Knobeltutorium E
END:VEVENT
BEGIN:VEVENT
UID:32633737-3332-4430-b661-366365386465
DTSTAMP:20260421T152208Z
DESCRIPTION:
DTSTART:20161213T131500Z
DTEND:20161213T150000Z
LOCATION:E2 2
SUMMARY:Prog1: Vorlesung G.2
END:VEVENT
BEGIN:VEVENT
UID:35306437-3636-4661-a637-643231366234
DTSTAMP:20260421T152208Z
DESCRIPTION:
DTSTART:20161215T091500Z
DTEND:20161215T110000Z
LOCATION:E2 2
SUMMARY:Prog1: Vorlesung H.1
END:VEVENT
BEGIN:VEVENT
UID:39653064-3734-4533-b737-366133353561
DTSTAMP:20260421T152208Z
DESCRIPTION:
DTSTART:20170103T131500Z
DTEND:20170103T150000Z
LOCATION:E2 2
SUMMARY:Prog1: Vorlesung H.2
END:VEVENT
BEGIN:VEVENT
UID:37346139-3639-4133-b132-356531613534
DTSTAMP:20260421T152208Z
DESCRIPTION:
DTSTART:20170105T091500Z
DTEND:20170105T110000Z
LOCATION:E2 2
SUMMARY:Prog1: Vorlesung I.1
END:VEVENT
BEGIN:VEVENT
UID:62343937-3535-4264-b363-633034336336
DTSTAMP:20260421T152208Z
DESCRIPTION:
DTSTART:20170110T131500Z
DTEND:20170110T150000Z
LOCATION:E2 2
SUMMARY:Prog1: Vorlesung I.2
END:VEVENT
BEGIN:VEVENT
UID:64326639-3737-4134-a136-323632383735
DTSTAMP:20260421T152208Z
DESCRIPTION:
DTSTART:20170112T091500Z
DTEND:20170112T110000Z
LOCATION:E2 2
SUMMARY:Prog1: Vorlesung J.1
END:VEVENT
BEGIN:VEVENT
UID:66653763-3935-4463-a563-633962396535
DTSTAMP:20260421T152208Z
DESCRIPTION:
DTSTART:20170117T131500Z
DTEND:20170117T150000Z
LOCATION:E2 2
SUMMARY:Prog1: Vorlesung J.2
END:VEVENT
BEGIN:VEVENT
UID:38366164-6136-4737-b632-643834326236
DTSTAMP:20260421T152208Z
DESCRIPTION:
DTSTART:20170119T091500Z
DTEND:20170119T110000Z
LOCATION:E2 2
SUMMARY:Prog1: Vorlesung K.1
END:VEVENT
BEGIN:VEVENT
UID:63633135-6165-4434-b733-303363333538
DTSTAMP:20260421T152208Z
DESCRIPTION:
DTSTART:20170124T131500Z
DTEND:20170124T150000Z
LOCATION:E2 2
SUMMARY:Prog1: Vorlesung K.2
END:VEVENT
BEGIN:VEVENT
UID:36376631-3937-4066-b565-376361343664
DTSTAMP:20260421T152208Z
DESCRIPTION:
DTSTART:20170126T091500Z
DTEND:20170126T110000Z
LOCATION:E2 2
SUMMARY:Prog1: Vorlesung L.1
END:VEVENT
BEGIN:VEVENT
UID:32393166-3937-4730-b139-353733353231
DTSTAMP:20260421T152208Z
DESCRIPTION:
DTSTART:20170131T131500Z
DTEND:20170131T150000Z
LOCATION:E2 2
SUMMARY:Prog1: Vorlesung L.2
END:VEVENT
BEGIN:VEVENT
UID:34613838-3963-4431-a139-316337653066
DTSTAMP:20260421T152208Z
DESCRIPTION:
DTSTART:20170202T091500Z
DTEND:20170202T110000Z
LOCATION:E2 2
SUMMARY:Prog1: Vorlesung M.1
END:VEVENT
BEGIN:VEVENT
UID:63313533-3339-4335-a462-666438623337
DTSTAMP:20260421T152208Z
DESCRIPTION:
DTSTART:20170207T131500Z
DTEND:20170207T150000Z
LOCATION:E2 2
SUMMARY:Prog1: Vorlesung M.2
END:VEVENT
BEGIN:VEVENT
UID:34346562-3465-4865-b266-373264383334
DTSTAMP:20260421T152208Z
DESCRIPTION:
DTSTART:20170209T091500Z
DTEND:20170209T110000Z
LOCATION:E2 2
SUMMARY:Prog1: Vorlesung
END:VEVENT
BEGIN:VEVENT
UID:35366232-3635-4437-b334-386665363139
DTSTAMP:20260421T152208Z
DESCRIPTION:
DTSTART:20170214T131500Z
DTEND:20170214T150000Z
LOCATION:E2 2
SUMMARY:Prog1: Vorlesung
END:VEVENT
BEGIN:VEVENT
UID:66656239-6630-4466-a535-373366626435
DTSTAMP:20260421T152208Z
DESCRIPTION:
DTSTART:20170216T091500Z
DTEND:20170216T110000Z
LOCATION:E2 2
SUMMARY:Prog1: Vorlesung
END:VEVENT
END:VCALENDAR
