BEGIN:VCALENDAR
VERSION:2.0
PRODID:-//127.0.1.1//NONSGML kigkonsult.se iCalcreator 2.41.92//
CALSCALE:GREGORIAN
METHOD:PUBLISH
UID:39396663-3662-4830-b534-366338396561
X-WR-CALNAME:Programmierung 1 Calendar
X-WR-CALDESC:Termine der Vorlesung Programmierung 1
X-WR-TIMEZONE:Europe/Berlin
BEGIN:VEVENT
UID:66326637-6530-4262-a666-623063316563
DTSTAMP:20260421T152051Z
DESCRIPTION:
DTSTART:20161025T121500Z
DTEND:20161025T140000Z
LOCATION:E2 2
SUMMARY:Vorlesung A.1
END:VEVENT
BEGIN:VEVENT
UID:66656634-3766-4664-a631-623036623032
DTSTAMP:20260421T152051Z
DESCRIPTION:
DTSTART:20161027T081500Z
DTEND:20161027T100000Z
LOCATION:E2 2
SUMMARY:Vorlesung A.2
END:VEVENT
BEGIN:VEVENT
UID:33303232-6462-4239-b262-336136666236
DTSTAMP:20260421T152051Z
DESCRIPTION:
DTSTART:20161103T091500Z
DTEND:20161103T110000Z
LOCATION:E2 2
SUMMARY:Vorlesung B.1
END:VEVENT
BEGIN:VEVENT
UID:36363033-3831-4639-b664-393066646364
DTSTAMP:20260421T152051Z
DESCRIPTION:
DTSTART:20161108T131500Z
DTEND:20161108T150000Z
LOCATION:E2 2
SUMMARY:Vorlesung B.2
END:VEVENT
BEGIN:VEVENT
UID:36653738-3139-4338-a438-656530666631
DTSTAMP:20260421T152051Z
DESCRIPTION:
DTSTART:20161110T091500Z
DTEND:20161110T110000Z
LOCATION:E2 2
SUMMARY:Vorlesung C.1
END:VEVENT
BEGIN:VEVENT
UID:36363137-3535-4137-b561-383565383363
DTSTAMP:20260421T152051Z
DESCRIPTION:
DTSTART:20161115T131500Z
DTEND:20161115T150000Z
LOCATION:E2 2
SUMMARY:Vorlesung C.2
END:VEVENT
BEGIN:VEVENT
UID:66363031-3937-4431-b865-646136386165
DTSTAMP:20260421T152051Z
DESCRIPTION:
DTSTART:20161117T091500Z
DTEND:20161117T110000Z
LOCATION:E2 2
SUMMARY:Vorlesung D.1
END:VEVENT
BEGIN:VEVENT
UID:31323933-6261-4839-b630-393565306264
DTSTAMP:20260421T152051Z
DESCRIPTION:
DTSTART:20161122T131500Z
DTEND:20161122T150000Z
LOCATION:E2 2
SUMMARY:Vorlesung D.2
END:VEVENT
BEGIN:VEVENT
UID:33666138-3135-4639-b230-646163313461
DTSTAMP:20260421T152051Z
DESCRIPTION:
DTSTART:20161124T091500Z
DTEND:20161124T110000Z
LOCATION:E2 2
SUMMARY:Vorlesung E.1
END:VEVENT
BEGIN:VEVENT
UID:33393061-3633-4661-a461-623561323562
DTSTAMP:20260421T152051Z
DESCRIPTION:
DTSTART:20161129T131500Z
DTEND:20161129T150000Z
LOCATION:E2 2
SUMMARY:Vorlesung E.2
END:VEVENT
BEGIN:VEVENT
UID:61613866-3165-4165-b664-626430633839
DTSTAMP:20260421T152051Z
DESCRIPTION:
DTSTART:20161201T091500Z
DTEND:20161201T110000Z
LOCATION:E2 2
SUMMARY:Vorlesung F.1
END:VEVENT
BEGIN:VEVENT
UID:36363261-3263-4038-b061-636337326431
DTSTAMP:20260421T152051Z
DESCRIPTION:
DTSTART:20161201T150000Z
DTEND:20161201T163000Z
LOCATION:SR015 E1 3
SUMMARY:Knobeltutorium D
END:VEVENT
BEGIN:VEVENT
UID:32386130-6365-4530-a661-663437663035
DTSTAMP:20260421T152051Z
DESCRIPTION:
DTSTART:20161206T131500Z
DTEND:20161206T150000Z
LOCATION:E2 2
SUMMARY:Vorlesung F.2
END:VEVENT
BEGIN:VEVENT
UID:31663064-3231-4264-b131-643161643565
DTSTAMP:20260421T152051Z
DESCRIPTION:
DTSTART:20161208T091500Z
DTEND:20161208T110000Z
LOCATION:E2 2
SUMMARY:Vorlesung G.1
END:VEVENT
BEGIN:VEVENT
UID:31356430-6366-4431-b664-303964643731
DTSTAMP:20260421T152051Z
DESCRIPTION:
DTSTART:20161209T111500Z
DTEND:20161209T124500Z
LOCATION:SR015 E1 3
SUMMARY:Knobeltutorium E
END:VEVENT
BEGIN:VEVENT
UID:39646332-3131-4363-a266-323638386166
DTSTAMP:20260421T152051Z
DESCRIPTION:
DTSTART:20161213T131500Z
DTEND:20161213T150000Z
LOCATION:E2 2
SUMMARY:Vorlesung G.2
END:VEVENT
BEGIN:VEVENT
UID:38363361-3233-4836-a534-663933616335
DTSTAMP:20260421T152051Z
DESCRIPTION:
DTSTART:20161215T091500Z
DTEND:20161215T110000Z
LOCATION:E2 2
SUMMARY:Vorlesung H.1
END:VEVENT
BEGIN:VEVENT
UID:61313266-3263-4834-b434-663139643830
DTSTAMP:20260421T152051Z
DESCRIPTION:
DTSTART:20170103T131500Z
DTEND:20170103T150000Z
LOCATION:E2 2
SUMMARY:Vorlesung H.2
END:VEVENT
BEGIN:VEVENT
UID:63316266-3966-4332-a364-306234623264
DTSTAMP:20260421T152051Z
DESCRIPTION:
DTSTART:20170105T091500Z
DTEND:20170105T110000Z
LOCATION:E2 2
SUMMARY:Vorlesung I.1
END:VEVENT
BEGIN:VEVENT
UID:66613938-3635-4261-a332-663866383766
DTSTAMP:20260421T152051Z
DESCRIPTION:
DTSTART:20170110T131500Z
DTEND:20170110T150000Z
LOCATION:E2 2
SUMMARY:Vorlesung I.2
END:VEVENT
BEGIN:VEVENT
UID:31623437-6464-4866-b935-383131386561
DTSTAMP:20260421T152051Z
DESCRIPTION:
DTSTART:20170112T091500Z
DTEND:20170112T110000Z
LOCATION:E2 2
SUMMARY:Vorlesung J.1
END:VEVENT
BEGIN:VEVENT
UID:36306333-6563-4566-b736-626366656636
DTSTAMP:20260421T152051Z
DESCRIPTION:
DTSTART:20170117T131500Z
DTEND:20170117T150000Z
LOCATION:E2 2
SUMMARY:Vorlesung J.2
END:VEVENT
BEGIN:VEVENT
UID:62363661-3032-4536-a439-646664643739
DTSTAMP:20260421T152051Z
DESCRIPTION:
DTSTART:20170119T091500Z
DTEND:20170119T110000Z
LOCATION:E2 2
SUMMARY:Vorlesung K.1
END:VEVENT
BEGIN:VEVENT
UID:65663865-3332-4432-b638-616533343532
DTSTAMP:20260421T152051Z
DESCRIPTION:
DTSTART:20170124T131500Z
DTEND:20170124T150000Z
LOCATION:E2 2
SUMMARY:Vorlesung K.2
END:VEVENT
BEGIN:VEVENT
UID:33636334-3136-4864-b138-633830383535
DTSTAMP:20260421T152051Z
DESCRIPTION:
DTSTART:20170126T091500Z
DTEND:20170126T110000Z
LOCATION:E2 2
SUMMARY:Vorlesung L.1
END:VEVENT
BEGIN:VEVENT
UID:61316564-3366-4338-b835-653239626532
DTSTAMP:20260421T152051Z
DESCRIPTION:
DTSTART:20170131T131500Z
DTEND:20170131T150000Z
LOCATION:E2 2
SUMMARY:Vorlesung L.2
END:VEVENT
BEGIN:VEVENT
UID:33646464-6666-4431-b839-373535393561
DTSTAMP:20260421T152051Z
DESCRIPTION:
DTSTART:20170202T091500Z
DTEND:20170202T110000Z
LOCATION:E2 2
SUMMARY:Vorlesung M.1
END:VEVENT
BEGIN:VEVENT
UID:63316539-6539-4461-a261-623935633235
DTSTAMP:20260421T152051Z
DESCRIPTION:
DTSTART:20170207T131500Z
DTEND:20170207T150000Z
LOCATION:E2 2
SUMMARY:Vorlesung M.2
END:VEVENT
BEGIN:VEVENT
UID:66656462-3861-4730-a164-636637613137
DTSTAMP:20260421T152051Z
DESCRIPTION:
DTSTART:20170209T091500Z
DTEND:20170209T110000Z
LOCATION:E2 2
SUMMARY:Vorlesung
END:VEVENT
BEGIN:VEVENT
UID:66363065-3037-4664-a432-663264633664
DTSTAMP:20260421T152051Z
DESCRIPTION:
DTSTART:20170214T131500Z
DTEND:20170214T150000Z
LOCATION:E2 2
SUMMARY:Vorlesung
END:VEVENT
BEGIN:VEVENT
UID:39656366-3136-4331-b636-656333303239
DTSTAMP:20260421T152051Z
DESCRIPTION:
DTSTART:20170216T091500Z
DTEND:20170216T110000Z
LOCATION:E2 2
SUMMARY:Vorlesung
END:VEVENT
END:VCALENDAR
