BEGIN:VCALENDAR
VERSION:2.0
PRODID:-//127.0.1.1//NONSGML kigkonsult.se iCalcreator 2.41.92//
CALSCALE:GREGORIAN
METHOD:PUBLISH
UID:34396339-3036-4034-b636-643131333336
X-WR-CALNAME:Programmierung 1 Calendar
X-WR-CALDESC:Termine der Vorlesung Programmierung 1
X-WR-TIMEZONE:Europe/Berlin
BEGIN:VEVENT
UID:66646637-6363-4265-b638-616536343261
DTSTAMP:20260421T151852Z
DESCRIPTION:
DTSTART:20161025T121500Z
DTEND:20161025T140000Z
LOCATION:E2 2
SUMMARY:Vorlesung A.1
END:VEVENT
BEGIN:VEVENT
UID:62356566-6534-4134-b434-356336393538
DTSTAMP:20260421T151852Z
DESCRIPTION:
DTSTART:20161026T101500Z
DTEND:20161026T120000Z
LOCATION:E1 3 SR 014
SUMMARY:Office Hour
END:VEVENT
BEGIN:VEVENT
UID:65393536-6637-4366-a435-323032306161
DTSTAMP:20260421T151852Z
DESCRIPTION:
DTSTART:20161027T081500Z
DTEND:20161027T100000Z
LOCATION:E2 2
SUMMARY:Vorlesung A.2
END:VEVENT
BEGIN:VEVENT
UID:30663262-3261-4430-b563-643635363037
DTSTAMP:20260421T151852Z
DESCRIPTION:
DTSTART:20161027T121500Z
DTEND:20161027T140000Z
LOCATION:E1 3 SR 014
SUMMARY:Office Hour
END:VEVENT
BEGIN:VEVENT
UID:66653336-3332-4238-b465-376662633161
DTSTAMP:20260421T151852Z
DESCRIPTION:
DTSTART:20161028T121500Z
DTEND:20161028T140000Z
LOCATION:E1 3 SR 014
SUMMARY:Office Hour
END:VEVENT
BEGIN:VEVENT
UID:38313735-3230-4266-b731-643731613133
DTSTAMP:20260421T151852Z
DESCRIPTION:
DTSTART:20161031T091500Z
DTEND:20161031T110000Z
LOCATION:E1 3 SR 014
SUMMARY:Office Hour
END:VEVENT
BEGIN:VEVENT
UID:32666563-3332-4964-a661-386136323665
DTSTAMP:20260421T151852Z
DESCRIPTION:
DTSTART:20161102T111500Z
DTEND:20161102T130000Z
LOCATION:E1 3 SR 014
SUMMARY:Office Hour
END:VEVENT
BEGIN:VEVENT
UID:30346161-3130-4066-a234-363930383839
DTSTAMP:20260421T151852Z
DESCRIPTION:
DTSTART:20161103T091500Z
DTEND:20161103T110000Z
LOCATION:E2 2
SUMMARY:Vorlesung B.1
END:VEVENT
BEGIN:VEVENT
UID:61313766-3163-4165-b532-616562633134
DTSTAMP:20260421T151852Z
DESCRIPTION:
DTSTART:20161103T131500Z
DTEND:20161103T150000Z
LOCATION:E1 3 SR 014
SUMMARY:Office Hour
END:VEVENT
BEGIN:VEVENT
UID:39376161-3439-4564-b532-303237633862
DTSTAMP:20260421T151852Z
DESCRIPTION:
DTSTART:20161104T131500Z
DTEND:20161104T150000Z
LOCATION:E1 3 SR 014
SUMMARY:Office Hour
END:VEVENT
BEGIN:VEVENT
UID:32396436-3263-4834-a632-336237393061
DTSTAMP:20260421T151852Z
DESCRIPTION:
DTSTART:20161107T091500Z
DTEND:20161107T110000Z
LOCATION:E1 3 SR 014
SUMMARY:Office Hour
END:VEVENT
BEGIN:VEVENT
UID:62653064-3032-4638-b836-363862373063
DTSTAMP:20260421T151852Z
DESCRIPTION:
DTSTART:20161108T071500Z
DTEND:20161108T090000Z
SUMMARY:Tutorium A
END:VEVENT
BEGIN:VEVENT
UID:63643062-3435-4732-b534-366538356661
DTSTAMP:20260421T151852Z
DESCRIPTION:
DTSTART:20161108T091500Z
DTEND:20161108T110000Z
SUMMARY:Tutorium A
END:VEVENT
BEGIN:VEVENT
UID:63373230-3331-4333-b934-376235623431
DTSTAMP:20260421T151852Z
DESCRIPTION:
DTSTART:20161108T111500Z
DTEND:20161108T130000Z
SUMMARY:Tutorium A
END:VEVENT
BEGIN:VEVENT
UID:61363962-3162-4665-a238-346435653636
DTSTAMP:20260421T151852Z
DESCRIPTION:
DTSTART:20161108T131500Z
DTEND:20161108T150000Z
LOCATION:E2 2
SUMMARY:Vorlesung B.2
END:VEVENT
BEGIN:VEVENT
UID:38356237-6331-4033-b364-316638626333
DTSTAMP:20260421T151852Z
DESCRIPTION:
DTSTART:20161109T111500Z
DTEND:20161109T130000Z
LOCATION:E1 3 SR 014
SUMMARY:Office Hour
END:VEVENT
BEGIN:VEVENT
UID:32323334-3066-4837-a266-643736646533
DTSTAMP:20260421T151852Z
DESCRIPTION:
DTSTART:20161110T091500Z
DTEND:20161110T110000Z
LOCATION:E2 2
SUMMARY:Vorlesung C.1
END:VEVENT
BEGIN:VEVENT
UID:34383237-6637-4164-b363-356665653737
DTSTAMP:20260421T151852Z
DESCRIPTION:
DTSTART:20161110T131500Z
DTEND:20161110T150000Z
LOCATION:E1 3 SR 014
SUMMARY:Office Hour
END:VEVENT
BEGIN:VEVENT
UID:38373835-3436-4634-b634-366230666234
DTSTAMP:20260421T151852Z
DESCRIPTION:
DTSTART:20161111T131500Z
DTEND:20161111T150000Z
LOCATION:E1 3 SR 014
SUMMARY:Office Hour
END:VEVENT
BEGIN:VEVENT
UID:36626438-3236-4261-b837-653963646339
DTSTAMP:20260421T151852Z
DESCRIPTION:
DTSTART:20161114T091500Z
DTEND:20161114T110000Z
LOCATION:E1 3 SR 014
SUMMARY:Office Hour
END:VEVENT
BEGIN:VEVENT
UID:36393030-3766-4232-b630-396634626230
DTSTAMP:20260421T151852Z
DESCRIPTION:
DTSTART:20161115T071500Z
DTEND:20161115T090000Z
SUMMARY:Tutorium B
END:VEVENT
BEGIN:VEVENT
UID:38636138-6664-4239-a465-393536656634
DTSTAMP:20260421T151852Z
DESCRIPTION:
DTSTART:20161115T091500Z
DTEND:20161115T110000Z
SUMMARY:Tutorium B
END:VEVENT
BEGIN:VEVENT
UID:34323236-6434-4534-a235-616339356335
DTSTAMP:20260421T151852Z
DESCRIPTION:
DTSTART:20161115T111500Z
DTEND:20161115T130000Z
SUMMARY:Tutorium B
END:VEVENT
BEGIN:VEVENT
UID:33326231-3866-4464-b536-663465626438
DTSTAMP:20260421T151852Z
DESCRIPTION:
DTSTART:20161115T131500Z
DTEND:20161115T150000Z
LOCATION:E2 2
SUMMARY:Vorlesung C.2
END:VEVENT
BEGIN:VEVENT
UID:38393538-3366-4637-b035-316463353539
DTSTAMP:20260421T151852Z
DESCRIPTION:
DTSTART:20161116T111500Z
DTEND:20161116T130000Z
LOCATION:E1 3 SR 014
SUMMARY:Office Hour
END:VEVENT
BEGIN:VEVENT
UID:35326165-3163-4530-a161-666130636437
DTSTAMP:20260421T151852Z
DESCRIPTION:
DTSTART:20161117T091500Z
DTEND:20161117T110000Z
LOCATION:E2 2
SUMMARY:Vorlesung D.1
END:VEVENT
BEGIN:VEVENT
UID:30666539-3963-4033-a433-643865336236
DTSTAMP:20260421T151852Z
DESCRIPTION:
DTSTART:20161117T131500Z
DTEND:20161117T150000Z
LOCATION:E1 3 SR 014
SUMMARY:Office Hour
END:VEVENT
BEGIN:VEVENT
UID:38333638-3161-4238-b565-323864313766
DTSTAMP:20260421T151852Z
DESCRIPTION:
DTSTART:20161118T131500Z
DTEND:20161118T150000Z
LOCATION:E1 3 SR 014
SUMMARY:Office Hour
END:VEVENT
BEGIN:VEVENT
UID:64613562-3830-4265-a430-623435323063
DTSTAMP:20260421T151852Z
DESCRIPTION:
DTSTART:20161121T091500Z
DTEND:20161121T110000Z
LOCATION:E1 3 SR 014
SUMMARY:Office Hour
END:VEVENT
BEGIN:VEVENT
UID:61343266-3732-4761-b137-373934363933
DTSTAMP:20260421T151852Z
DESCRIPTION:
DTSTART:20161122T071500Z
DTEND:20161122T090000Z
SUMMARY:Tutorium C
END:VEVENT
BEGIN:VEVENT
UID:33333534-3664-4062-a362-613937366262
DTSTAMP:20260421T151852Z
DESCRIPTION:
DTSTART:20161122T091500Z
DTEND:20161122T110000Z
SUMMARY:Tutorium C
END:VEVENT
BEGIN:VEVENT
UID:32383933-3631-4666-a436-333363323562
DTSTAMP:20260421T151852Z
DESCRIPTION:
DTSTART:20161122T111500Z
DTEND:20161122T130000Z
SUMMARY:Tutorium C
END:VEVENT
BEGIN:VEVENT
UID:32663434-3632-4239-b164-356630326536
DTSTAMP:20260421T151852Z
DESCRIPTION:
DTSTART:20161122T131500Z
DTEND:20161122T150000Z
LOCATION:E2 2
SUMMARY:Vorlesung D.2
END:VEVENT
BEGIN:VEVENT
UID:65306461-3731-4266-a436-633837303266
DTSTAMP:20260421T151852Z
DESCRIPTION:
DTSTART:20161123T111500Z
DTEND:20161123T130000Z
LOCATION:E1 3 SR 014
SUMMARY:Office Hour
END:VEVENT
BEGIN:VEVENT
UID:30646536-3164-4665-b266-363932393930
DTSTAMP:20260421T151852Z
DESCRIPTION:
DTSTART:20161124T091500Z
DTEND:20161124T110000Z
LOCATION:E2 2
SUMMARY:Vorlesung E.1
END:VEVENT
BEGIN:VEVENT
UID:65356133-3339-4063-a565-393533663230
DTSTAMP:20260421T151852Z
DESCRIPTION:
DTSTART:20161124T131500Z
DTEND:20161124T150000Z
LOCATION:E1 3 SR 014
SUMMARY:Office Hour
END:VEVENT
BEGIN:VEVENT
UID:35376430-6331-4761-a331-363366666364
DTSTAMP:20260421T151852Z
DESCRIPTION:
DTSTART:20161125T131500Z
DTEND:20161125T150000Z
LOCATION:E1 3 SR 014
SUMMARY:Office Hour
END:VEVENT
BEGIN:VEVENT
UID:39653164-3533-4434-a230-333761323565
DTSTAMP:20260421T151852Z
DESCRIPTION:
DTSTART:20161128T091500Z
DTEND:20161128T110000Z
LOCATION:E1 3 SR 014
SUMMARY:Office Hour
END:VEVENT
BEGIN:VEVENT
UID:62343236-3031-4539-a666-353863373630
DTSTAMP:20260421T151852Z
DESCRIPTION:
DTSTART:20161129T071500Z
DTEND:20161129T090000Z
SUMMARY:Tutorium D
END:VEVENT
BEGIN:VEVENT
UID:35656131-3965-4732-a163-333139376161
DTSTAMP:20260421T151852Z
DESCRIPTION:
DTSTART:20161129T091500Z
DTEND:20161129T110000Z
SUMMARY:Tutorium D
END:VEVENT
BEGIN:VEVENT
UID:65383462-3635-4539-b538-623234363536
DTSTAMP:20260421T151852Z
DESCRIPTION:
DTSTART:20161129T111500Z
DTEND:20161129T130000Z
SUMMARY:Tutorium D
END:VEVENT
BEGIN:VEVENT
UID:34346261-3039-4633-b138-626339333966
DTSTAMP:20260421T151852Z
DESCRIPTION:
DTSTART:20161129T131500Z
DTEND:20161129T150000Z
LOCATION:E2 2
SUMMARY:Vorlesung E.2
END:VEVENT
BEGIN:VEVENT
UID:34616465-3734-4437-b464-333239386538
DTSTAMP:20260421T151852Z
DESCRIPTION:
DTSTART:20161130T111500Z
DTEND:20161130T130000Z
LOCATION:E1 3 SR 014
SUMMARY:Office Hour
END:VEVENT
BEGIN:VEVENT
UID:39313830-3564-4366-b363-663035663232
DTSTAMP:20260421T151852Z
DESCRIPTION:
DTSTART:20161201T091500Z
DTEND:20161201T110000Z
LOCATION:E2 2
SUMMARY:Vorlesung F.1
END:VEVENT
BEGIN:VEVENT
UID:63343537-6466-4761-b065-366236613965
DTSTAMP:20260421T151852Z
DESCRIPTION:
DTSTART:20161201T131500Z
DTEND:20161201T150000Z
LOCATION:E1 3 SR 014
SUMMARY:Office Hour
END:VEVENT
BEGIN:VEVENT
UID:32636665-6231-4432-b531-353664643362
DTSTAMP:20260421T151852Z
DESCRIPTION:
DTSTART:20161201T150000Z
DTEND:20161201T163000Z
LOCATION:SR015 E1 3
SUMMARY:Knobeltutorium D
END:VEVENT
BEGIN:VEVENT
UID:35646232-6266-4261-b736-633431313737
DTSTAMP:20260421T151852Z
DESCRIPTION:
DTSTART:20161202T131500Z
DTEND:20161202T150000Z
LOCATION:E1 3 SR 014
SUMMARY:Office Hour
END:VEVENT
BEGIN:VEVENT
UID:64353237-6334-4532-b336-626530393332
DTSTAMP:20260421T151852Z
DESCRIPTION:
DTSTART:20161205T091500Z
DTEND:20161205T110000Z
LOCATION:E1 3 SR 014
SUMMARY:Office Hour
END:VEVENT
BEGIN:VEVENT
UID:31313239-6361-4439-b230-633232313061
DTSTAMP:20260421T151852Z
DESCRIPTION:
DTSTART:20161206T071500Z
DTEND:20161206T090000Z
SUMMARY:Tutorium E
END:VEVENT
BEGIN:VEVENT
UID:30313432-3266-4463-a339-613031353466
DTSTAMP:20260421T151852Z
DESCRIPTION:
DTSTART:20161206T091500Z
DTEND:20161206T110000Z
SUMMARY:Tutorium E
END:VEVENT
BEGIN:VEVENT
UID:61396562-3232-4934-b666-343138643337
DTSTAMP:20260421T151852Z
DESCRIPTION:
DTSTART:20161206T111500Z
DTEND:20161206T130000Z
SUMMARY:Tutorium E
END:VEVENT
BEGIN:VEVENT
UID:34323639-6535-4234-b261-313637316239
DTSTAMP:20260421T151852Z
DESCRIPTION:
DTSTART:20161206T131500Z
DTEND:20161206T150000Z
LOCATION:E2 2
SUMMARY:Vorlesung F.2
END:VEVENT
BEGIN:VEVENT
UID:33386365-3065-4236-b139-363466353035
DTSTAMP:20260421T151852Z
DESCRIPTION:
DTSTART:20161207T111500Z
DTEND:20161207T130000Z
LOCATION:E1 3 SR 014
SUMMARY:Office Hour
END:VEVENT
BEGIN:VEVENT
UID:37316363-3236-4261-b335-626336636633
DTSTAMP:20260421T151852Z
DESCRIPTION:
DTSTART:20161208T091500Z
DTEND:20161208T110000Z
LOCATION:E2 2
SUMMARY:Vorlesung G.1
END:VEVENT
BEGIN:VEVENT
UID:36363432-6635-4533-b161-343532303337
DTSTAMP:20260421T151852Z
DESCRIPTION:
DTSTART:20161208T131500Z
DTEND:20161208T150000Z
LOCATION:E1 3 SR 014
SUMMARY:Office Hour
END:VEVENT
BEGIN:VEVENT
UID:61316561-3362-4239-a431-316334663533
DTSTAMP:20260421T151852Z
DESCRIPTION:
DTSTART:20161209T111500Z
DTEND:20161209T124500Z
LOCATION:SR015 E1 3
SUMMARY:Knobeltutorium E
END:VEVENT
BEGIN:VEVENT
UID:30316462-3832-4035-b065-343532613531
DTSTAMP:20260421T151852Z
DESCRIPTION:
DTSTART:20161209T131500Z
DTEND:20161209T150000Z
LOCATION:E1 3 SR 014
SUMMARY:Office Hour
END:VEVENT
BEGIN:VEVENT
UID:37366562-3030-4837-b935-383264363533
DTSTAMP:20260421T151852Z
DESCRIPTION:
DTSTART:20161212T091500Z
DTEND:20161212T110000Z
LOCATION:E1 3 SR 014
SUMMARY:Office Hour
END:VEVENT
BEGIN:VEVENT
UID:62303536-3138-4166-b231-636335323238
DTSTAMP:20260421T151852Z
DESCRIPTION:Thema: Schnellkurs / Programmiersprachliches
DTSTART:20161212T151500Z
DTEND:20161212T170000Z
LOCATION:Hörsaal 1\, E2 5
SUMMARY:Zusatztutorium
END:VEVENT
BEGIN:VEVENT
UID:62303536-6636-4635-b964-386537393466
DTSTAMP:20260421T151852Z
DESCRIPTION:
DTSTART:20161213T071500Z
DTEND:20161213T090000Z
SUMMARY:Tutorium F
END:VEVENT
BEGIN:VEVENT
UID:63366233-3032-4636-b361-626436356266
DTSTAMP:20260421T151852Z
DESCRIPTION:
DTSTART:20161213T091500Z
DTEND:20161213T110000Z
SUMMARY:Tutorium F
END:VEVENT
BEGIN:VEVENT
UID:38616463-6166-4830-b532-393533303730
DTSTAMP:20260421T151852Z
DESCRIPTION:
DTSTART:20161213T111500Z
DTEND:20161213T130000Z
SUMMARY:Tutorium F
END:VEVENT
BEGIN:VEVENT
UID:64383332-3261-4137-b539-323536636561
DTSTAMP:20260421T151852Z
DESCRIPTION:
DTSTART:20161213T131500Z
DTEND:20161213T150000Z
LOCATION:E2 2
SUMMARY:Vorlesung G.2
END:VEVENT
BEGIN:VEVENT
UID:34623134-6561-4762-a539-356333343365
DTSTAMP:20260421T151852Z
DESCRIPTION:
DTSTART:20161214T111500Z
DTEND:20161214T130000Z
LOCATION:E1 3 SR 014
SUMMARY:Office Hour
END:VEVENT
BEGIN:VEVENT
UID:32623539-6466-4662-b965-643663396264
DTSTAMP:20260421T151852Z
DESCRIPTION:Thema: Höherstufige Prozeduren
DTSTART:20161214T151500Z
DTEND:20161214T170000Z
LOCATION:Hörsaal 1\, E2 5
SUMMARY:Zusatztutorium
END:VEVENT
BEGIN:VEVENT
UID:66653131-3631-4363-b633-383430393564
DTSTAMP:20260421T151852Z
DESCRIPTION:
DTSTART:20161215T091500Z
DTEND:20161215T110000Z
LOCATION:E2 2
SUMMARY:Vorlesung H.1
END:VEVENT
BEGIN:VEVENT
UID:66623430-3364-4864-b734-336430376666
DTSTAMP:20260421T151852Z
DESCRIPTION:
DTSTART:20161215T131500Z
DTEND:20161215T150000Z
LOCATION:E1 3 SR 014
SUMMARY:Office Hour
END:VEVENT
BEGIN:VEVENT
UID:30373639-3266-4164-b539-393036396435
DTSTAMP:20260421T151852Z
DESCRIPTION:Thema: Typinferenz
DTSTART:20161215T151500Z
DTEND:20161215T170000Z
LOCATION:Hörsaal 3\, E2 5
SUMMARY:Zusatztutorium
END:VEVENT
BEGIN:VEVENT
UID:62356265-6233-4238-b435-303965363839
DTSTAMP:20260421T151852Z
DESCRIPTION:
DTSTART:20161216T131500Z
DTEND:20161216T150000Z
LOCATION:E1 3 SR 014
SUMMARY:Office Hour
END:VEVENT
BEGIN:VEVENT
UID:34623535-3863-4439-b363-343333613131
DTSTAMP:20260421T151852Z
DESCRIPTION:Thema: Listen und Strings
DTSTART:20161216T151500Z
DTEND:20161216T170000Z
LOCATION:Hörsaal 2\, E1 3
SUMMARY:Zusatztutorium
END:VEVENT
BEGIN:VEVENT
UID:31623136-3138-4762-b939-393261393236
DTSTAMP:20260421T151852Z
DESCRIPTION:
DTSTART:20170102T091500Z
DTEND:20170102T110000Z
LOCATION:E1 3 SR 014
SUMMARY:Office Hour
END:VEVENT
BEGIN:VEVENT
UID:34316539-6536-4434-a465-316562626331
DTSTAMP:20260421T151852Z
DESCRIPTION:Thema: Sortieren
DTSTART:20170102T151500Z
DTEND:20170102T170000Z
LOCATION:Hörsaal 1\, E2 5
SUMMARY:Zusatztutorium
END:VEVENT
BEGIN:VEVENT
UID:34373330-3065-4163-b231-623737663562
DTSTAMP:20260421T151852Z
DESCRIPTION:
DTSTART:20170103T071500Z
DTEND:20170103T090000Z
SUMMARY:Tutorium G
END:VEVENT
BEGIN:VEVENT
UID:34333235-3833-4839-b735-393864663136
DTSTAMP:20260421T151852Z
DESCRIPTION:
DTSTART:20170103T091500Z
DTEND:20170103T110000Z
SUMMARY:Tutorium G
END:VEVENT
BEGIN:VEVENT
UID:66633433-3165-4938-a166-363731643635
DTSTAMP:20260421T151852Z
DESCRIPTION:
DTSTART:20170103T111500Z
DTEND:20170103T130000Z
SUMMARY:Tutorium G
END:VEVENT
BEGIN:VEVENT
UID:33613938-3438-4932-b062-383636666136
DTSTAMP:20260421T151852Z
DESCRIPTION:
DTSTART:20170103T131500Z
DTEND:20170103T150000Z
LOCATION:E2 2
SUMMARY:Vorlesung H.2
END:VEVENT
BEGIN:VEVENT
UID:62323163-3664-4332-b936-383164376130
DTSTAMP:20260421T151852Z
DESCRIPTION:
DTSTART:20170104T111500Z
DTEND:20170104T130000Z
LOCATION:E1 3 SR 014
SUMMARY:Office Hour
END:VEVENT
BEGIN:VEVENT
UID:61386535-3739-4466-a462-366138376631
DTSTAMP:20260421T151852Z
DESCRIPTION:Thema: Konstruktoren und Ausnahmen
DTSTART:20170104T151500Z
DTEND:20170104T170000Z
LOCATION:Hörsaal 1\, E2 5
SUMMARY:Zusatztutorium
END:VEVENT
BEGIN:VEVENT
UID:34616130-3230-4638-a332-386139353161
DTSTAMP:20260421T151852Z
DESCRIPTION:
DTSTART:20170105T091500Z
DTEND:20170105T110000Z
LOCATION:E2 2
SUMMARY:Vorlesung I.1
END:VEVENT
BEGIN:VEVENT
UID:65366361-6536-4662-a634-633935343738
DTSTAMP:20260421T151852Z
DESCRIPTION:
DTSTART:20170105T131500Z
DTEND:20170105T150000Z
LOCATION:E1 3 SR 014
SUMMARY:Office Hour
END:VEVENT
BEGIN:VEVENT
UID:64343230-3131-4738-b262-343839366437
DTSTAMP:20260421T151852Z
DESCRIPTION:Thema: Bäume
DTSTART:20170105T151500Z
DTEND:20170105T170000Z
LOCATION:Hörsaal 3\, E2 5
SUMMARY:Zusatztutorium
END:VEVENT
BEGIN:VEVENT
UID:33316234-6338-4364-b434-303966363666
DTSTAMP:20260421T151852Z
DESCRIPTION:
DTSTART:20170106T091500Z
DTEND:20170106T170000Z
LOCATION:E1 1 SR 407
SUMMARY:Office Hour
END:VEVENT
BEGIN:VEVENT
UID:34656466-3961-4364-b030-363164306661
DTSTAMP:20260421T151852Z
DESCRIPTION:
DTSTART;VALUE=DATE:20170107
DTEND;VALUE=DATE:20170108
SUMMARY:Mittelklausur
END:VEVENT
BEGIN:VEVENT
UID:37363634-3566-4135-b639-636631313937
DTSTAMP:20260421T151852Z
DESCRIPTION:
DTSTART:20170109T091500Z
DTEND:20170109T110000Z
LOCATION:E1 3 SR 014
SUMMARY:Office Hour
END:VEVENT
BEGIN:VEVENT
UID:30643539-3032-4833-b665-643563396137
DTSTAMP:20260421T151852Z
DESCRIPTION:
DTSTART:20170110T071500Z
DTEND:20170110T090000Z
SUMMARY:Tutorium H
END:VEVENT
BEGIN:VEVENT
UID:39653732-6638-4532-b530-353639653263
DTSTAMP:20260421T151852Z
DESCRIPTION:
DTSTART:20170110T091500Z
DTEND:20170110T110000Z
SUMMARY:Tutorium H
END:VEVENT
BEGIN:VEVENT
UID:61353862-3839-4439-b433-623366333065
DTSTAMP:20260421T151852Z
DESCRIPTION:
DTSTART:20170110T111500Z
DTEND:20170110T130000Z
SUMMARY:Tutorium H
END:VEVENT
BEGIN:VEVENT
UID:61643965-3264-4432-a464-336363346661
DTSTAMP:20260421T151852Z
DESCRIPTION:
DTSTART:20170110T131500Z
DTEND:20170110T150000Z
LOCATION:E2 2
SUMMARY:Vorlesung I.2
END:VEVENT
BEGIN:VEVENT
UID:36393638-3962-4565-a134-643333663664
DTSTAMP:20260421T151852Z
DESCRIPTION:
DTSTART:20170111T111500Z
DTEND:20170111T130000Z
LOCATION:E1 3 SR 014
SUMMARY:Office Hour
END:VEVENT
BEGIN:VEVENT
UID:31656138-6334-4261-b430-303561316230
DTSTAMP:20260421T151852Z
DESCRIPTION:
DTSTART:20170112T091500Z
DTEND:20170112T110000Z
LOCATION:E2 2
SUMMARY:Vorlesung J.1
END:VEVENT
BEGIN:VEVENT
UID:31653632-3965-4431-a439-363535306638
DTSTAMP:20260421T151852Z
DESCRIPTION:
DTSTART:20170112T131500Z
DTEND:20170112T150000Z
LOCATION:E1 3 SR 014
SUMMARY:Office Hour
END:VEVENT
BEGIN:VEVENT
UID:35643131-3264-4463-b564-306561653731
DTSTAMP:20260421T151852Z
DESCRIPTION:
DTSTART:20170113T131500Z
DTEND:20170113T140000Z
LOCATION:E1 3 SR 014
SUMMARY:Office Hour
END:VEVENT
BEGIN:VEVENT
UID:66636665-6164-4666-b531-663163333165
DTSTAMP:20260421T151852Z
DESCRIPTION:
DTSTART:20170113T140000Z
DTEND:20170113T160000Z
LOCATION:E1 1 407
SUMMARY:Klausureinsicht Mittelklausur
END:VEVENT
BEGIN:VEVENT
UID:32333232-3361-4835-b633-333630393739
DTSTAMP:20260421T151852Z
DESCRIPTION:
DTSTART:20170116T091500Z
DTEND:20170116T110000Z
LOCATION:E1 3 SR 014
SUMMARY:Office Hour
END:VEVENT
BEGIN:VEVENT
UID:35343938-3764-4136-b639-396363643466
DTSTAMP:20260421T151852Z
DESCRIPTION:
DTSTART:20170117T071500Z
DTEND:20170117T090000Z
SUMMARY:Tutorium I
END:VEVENT
BEGIN:VEVENT
UID:63636631-3965-4237-a339-626164333036
DTSTAMP:20260421T151852Z
DESCRIPTION:
DTSTART:20170117T091500Z
DTEND:20170117T110000Z
SUMMARY:Tutorium I
END:VEVENT
BEGIN:VEVENT
UID:34346539-6565-4531-b030-356335363561
DTSTAMP:20260421T151852Z
DESCRIPTION:
DTSTART:20170117T111500Z
DTEND:20170117T130000Z
SUMMARY:Tutorium I
END:VEVENT
BEGIN:VEVENT
UID:61666663-3232-4432-b332-363663613539
DTSTAMP:20260421T151852Z
DESCRIPTION:
DTSTART:20170117T131500Z
DTEND:20170117T150000Z
LOCATION:E2 2
SUMMARY:Vorlesung J.2
END:VEVENT
BEGIN:VEVENT
UID:61663431-6164-4465-b233-353562636638
DTSTAMP:20260421T151852Z
DESCRIPTION:
DTSTART:20170118T111500Z
DTEND:20170118T130000Z
LOCATION:E1 3 SR 014
SUMMARY:Office Hour
END:VEVENT
BEGIN:VEVENT
UID:30343935-6564-4435-b432-386534323631
DTSTAMP:20260421T151852Z
DESCRIPTION:
DTSTART:20170119T091500Z
DTEND:20170119T110000Z
LOCATION:E2 2
SUMMARY:Vorlesung K.1
END:VEVENT
BEGIN:VEVENT
UID:34646332-3933-4261-a466-386133383764
DTSTAMP:20260421T151852Z
DESCRIPTION:
DTSTART:20170119T131500Z
DTEND:20170119T150000Z
LOCATION:E1 3 SR 014
SUMMARY:Office Hour
END:VEVENT
BEGIN:VEVENT
UID:62666435-6463-4230-a632-386231346431
DTSTAMP:20260421T151852Z
DESCRIPTION:
DTSTART:20170120T131500Z
DTEND:20170120T150000Z
LOCATION:E1 3 SR 014
SUMMARY:Office Hour
END:VEVENT
BEGIN:VEVENT
UID:61346534-3031-4937-a433-346237663264
DTSTAMP:20260421T151852Z
DESCRIPTION:
DTSTART:20170123T091500Z
DTEND:20170123T110000Z
LOCATION:E1 3 SR 014
SUMMARY:Office Hour
END:VEVENT
BEGIN:VEVENT
UID:64616562-3531-4838-b238-626138346463
DTSTAMP:20260421T151852Z
DESCRIPTION:
DTSTART:20170124T071500Z
DTEND:20170124T090000Z
SUMMARY:Tutorium J
END:VEVENT
BEGIN:VEVENT
UID:62313032-3963-4332-b062-363938383933
DTSTAMP:20260421T151852Z
DESCRIPTION:
DTSTART:20170124T091500Z
DTEND:20170124T110000Z
SUMMARY:Tutorium J
END:VEVENT
BEGIN:VEVENT
UID:31636661-3539-4936-b930-333263323036
DTSTAMP:20260421T151852Z
DESCRIPTION:
DTSTART:20170124T111500Z
DTEND:20170124T130000Z
SUMMARY:Tutorium J
END:VEVENT
BEGIN:VEVENT
UID:61643336-6265-4237-b339-353433343030
DTSTAMP:20260421T151852Z
DESCRIPTION:
DTSTART:20170124T131500Z
DTEND:20170124T150000Z
LOCATION:E2 2
SUMMARY:Vorlesung K.2
END:VEVENT
BEGIN:VEVENT
UID:66326334-3239-4232-a261-366637666633
DTSTAMP:20260421T151852Z
DESCRIPTION:
DTSTART:20170125T111500Z
DTEND:20170125T130000Z
LOCATION:E1 3 SR 014
SUMMARY:Office Hour
END:VEVENT
BEGIN:VEVENT
UID:65303532-3730-4230-a464-633333366239
DTSTAMP:20260421T151852Z
DESCRIPTION:
DTSTART:20170126T091500Z
DTEND:20170126T110000Z
LOCATION:E2 2
SUMMARY:Vorlesung L.1
END:VEVENT
BEGIN:VEVENT
UID:30626631-3437-4262-b134-393461303963
DTSTAMP:20260421T151852Z
DESCRIPTION:
DTSTART:20170126T131500Z
DTEND:20170126T150000Z
LOCATION:E1 3 SR 014
SUMMARY:Office Hour
END:VEVENT
BEGIN:VEVENT
UID:34646331-6631-4364-a264-656532373461
DTSTAMP:20260421T151852Z
DESCRIPTION:
DTSTART:20170127T131500Z
DTEND:20170127T150000Z
LOCATION:E1 3 SR 014
SUMMARY:Office Hour
END:VEVENT
BEGIN:VEVENT
UID:38393363-6361-4363-b133-303336313532
DTSTAMP:20260421T151852Z
DESCRIPTION:
DTSTART:20170130T091500Z
DTEND:20170130T110000Z
LOCATION:E1 3 SR 014
SUMMARY:Office Hour
END:VEVENT
BEGIN:VEVENT
UID:63323533-6566-4266-a536-383230383938
DTSTAMP:20260421T151852Z
DESCRIPTION:
DTSTART:20170131T071500Z
DTEND:20170131T090000Z
SUMMARY:Tutorium K
END:VEVENT
BEGIN:VEVENT
UID:65346366-6533-4632-b464-323633373239
DTSTAMP:20260421T151852Z
DESCRIPTION:
DTSTART:20170131T091500Z
DTEND:20170131T110000Z
SUMMARY:Tutorium K
END:VEVENT
BEGIN:VEVENT
UID:36616233-3631-4839-b831-303635396532
DTSTAMP:20260421T151852Z
DESCRIPTION:
DTSTART:20170131T111500Z
DTEND:20170131T130000Z
SUMMARY:Tutorium K
END:VEVENT
BEGIN:VEVENT
UID:35666639-3935-4164-b364-653837626466
DTSTAMP:20260421T151852Z
DESCRIPTION:
DTSTART:20170131T131500Z
DTEND:20170131T150000Z
LOCATION:E2 2
SUMMARY:Vorlesung L.2
END:VEVENT
BEGIN:VEVENT
UID:66656465-6230-4663-b862-633761323837
DTSTAMP:20260421T151852Z
DESCRIPTION:
DTSTART:20170201T111500Z
DTEND:20170201T130000Z
LOCATION:E1 3 SR 014
SUMMARY:Office Hour
END:VEVENT
BEGIN:VEVENT
UID:36303636-3462-4762-a630-316238376266
DTSTAMP:20260421T151852Z
DESCRIPTION:
DTSTART:20170202T091500Z
DTEND:20170202T110000Z
LOCATION:E2 2
SUMMARY:Vorlesung M.1
END:VEVENT
BEGIN:VEVENT
UID:65646131-6633-4265-b663-653734626564
DTSTAMP:20260421T151852Z
DESCRIPTION:
DTSTART:20170202T131500Z
DTEND:20170202T150000Z
LOCATION:E1 3 SR 014
SUMMARY:Office Hour
END:VEVENT
BEGIN:VEVENT
UID:64386565-3530-4262-a333-353039646565
DTSTAMP:20260421T151852Z
DESCRIPTION:
DTSTART:20170203T131500Z
DTEND:20170203T150000Z
LOCATION:E1 3 SR 014
SUMMARY:Office Hour
END:VEVENT
BEGIN:VEVENT
UID:37656261-6366-4263-b063-663262383033
DTSTAMP:20260421T151852Z
DESCRIPTION:
DTSTART:20170206T091500Z
DTEND:20170206T110000Z
LOCATION:E1 3 SR 014
SUMMARY:Office Hour
END:VEVENT
BEGIN:VEVENT
UID:33373266-3038-4161-a365-313034336637
DTSTAMP:20260421T151852Z
DESCRIPTION:
DTSTART:20170207T071500Z
DTEND:20170207T090000Z
SUMMARY:Tutorium L
END:VEVENT
BEGIN:VEVENT
UID:66353263-6161-4665-a266-663566646361
DTSTAMP:20260421T151852Z
DESCRIPTION:
DTSTART:20170207T091500Z
DTEND:20170207T110000Z
SUMMARY:Tutorium L
END:VEVENT
BEGIN:VEVENT
UID:36653962-6339-4936-b766-316466353036
DTSTAMP:20260421T151852Z
DESCRIPTION:
DTSTART:20170207T111500Z
DTEND:20170207T130000Z
SUMMARY:Tutorium L
END:VEVENT
BEGIN:VEVENT
UID:61623466-3436-4938-a434-633639653863
DTSTAMP:20260421T151852Z
DESCRIPTION:
DTSTART:20170207T131500Z
DTEND:20170207T150000Z
LOCATION:E2 2
SUMMARY:Vorlesung M.2
END:VEVENT
BEGIN:VEVENT
UID:33316635-3462-4265-a266-313664653539
DTSTAMP:20260421T151852Z
DESCRIPTION:
DTSTART:20170208T111500Z
DTEND:20170208T130000Z
LOCATION:E1 3 SR 014
SUMMARY:Office Hour
END:VEVENT
BEGIN:VEVENT
UID:61383564-3661-4134-a465-623933636337
DTSTAMP:20260421T151852Z
DESCRIPTION:
DTSTART:20170209T091500Z
DTEND:20170209T110000Z
LOCATION:E2 2
SUMMARY:Vorlesung
END:VEVENT
BEGIN:VEVENT
UID:34336631-6533-4466-b266-316665313666
DTSTAMP:20260421T151852Z
DESCRIPTION:
DTSTART:20170209T131500Z
DTEND:20170209T150000Z
LOCATION:E1 3 SR 014
SUMMARY:Office Hour
END:VEVENT
BEGIN:VEVENT
UID:35386530-3638-4133-a366-653130613439
DTSTAMP:20260421T151852Z
DESCRIPTION:
DTSTART:20170210T131500Z
DTEND:20170210T150000Z
LOCATION:E1 3 SR 014
SUMMARY:Office Hour
END:VEVENT
BEGIN:VEVENT
UID:66366232-3866-4033-a436-366531363464
DTSTAMP:20260421T151852Z
DESCRIPTION:
DTSTART:20170213T091500Z
DTEND:20170213T110000Z
LOCATION:E1 3 SR 014
SUMMARY:Office Hour
END:VEVENT
BEGIN:VEVENT
UID:39393662-3630-4130-b135-373231616533
DTSTAMP:20260421T151852Z
DESCRIPTION:
DTSTART:20170214T071500Z
DTEND:20170214T090000Z
SUMMARY:Tutorium M
END:VEVENT
BEGIN:VEVENT
UID:37643831-3132-4637-b834-633132623735
DTSTAMP:20260421T151852Z
DESCRIPTION:
DTSTART:20170214T091500Z
DTEND:20170214T110000Z
SUMMARY:Tutorium M
END:VEVENT
BEGIN:VEVENT
UID:35623034-6333-4730-a463-306333356363
DTSTAMP:20260421T151852Z
DESCRIPTION:
DTSTART:20170214T111500Z
DTEND:20170214T130000Z
SUMMARY:Tutorium M
END:VEVENT
BEGIN:VEVENT
UID:62323165-6131-4130-b766-356665303133
DTSTAMP:20260421T151852Z
DESCRIPTION:
DTSTART:20170214T131500Z
DTEND:20170214T150000Z
LOCATION:E2 2
SUMMARY:Vorlesung
END:VEVENT
BEGIN:VEVENT
UID:65306432-3339-4438-a561-663766373961
DTSTAMP:20260421T151852Z
DESCRIPTION:
DTSTART:20170215T111500Z
DTEND:20170215T130000Z
LOCATION:E1 3 SR 014
SUMMARY:Office Hour
END:VEVENT
BEGIN:VEVENT
UID:61643639-3232-4333-b862-393831366336
DTSTAMP:20260421T151852Z
DESCRIPTION:
DTSTART:20170216T091500Z
DTEND:20170216T110000Z
LOCATION:E2 2
SUMMARY:Vorlesung
END:VEVENT
BEGIN:VEVENT
UID:35323664-3733-4534-a133-373163626263
DTSTAMP:20260421T151852Z
DESCRIPTION:
DTSTART:20170216T131500Z
DTEND:20170216T150000Z
LOCATION:E1 3 SR 014
SUMMARY:Office Hour
END:VEVENT
BEGIN:VEVENT
UID:34306162-3162-4030-a261-373237363034
DTSTAMP:20260421T151852Z
DESCRIPTION:
DTSTART:20170217T131500Z
DTEND:20170217T150000Z
LOCATION:E1 3 SR 014
SUMMARY:Office Hour
END:VEVENT
BEGIN:VEVENT
UID:35616538-3533-4265-b736-366137343830
DTSTAMP:20260421T151852Z
DESCRIPTION:
DTSTART;VALUE=DATE:20170218
DTEND;VALUE=DATE:20170219
SUMMARY:Nachmittelklausur
END:VEVENT
BEGIN:VEVENT
UID:36333039-3263-4539-b736-313931643962
DTSTAMP:20260421T151852Z
DESCRIPTION:
DTSTART:20170224T110000Z
DTEND:20170224T123000Z
LOCATION:E1 3 016
SUMMARY:Klausureinsicht Nachmittelklausur
END:VEVENT
BEGIN:VEVENT
UID:32313432-3866-4539-b936-633263383862
DTSTAMP:20260421T151852Z
DESCRIPTION:
DTSTART;VALUE=DATE:20170303
DTEND;VALUE=DATE:20170304
SUMMARY:Endklausur
END:VEVENT
BEGIN:VEVENT
UID:36343532-3532-4433-a630-356365306562
DTSTAMP:20260421T151852Z
DESCRIPTION:
DTSTART:20170306T130000Z
DTEND:20170306T143000Z
LOCATION:E1 3 016
SUMMARY:Klausureinsicht Endklausur
END:VEVENT
BEGIN:VEVENT
UID:63343762-3033-4335-b136-626639306139
DTSTAMP:20260421T151852Z
DESCRIPTION:
DTSTART;VALUE=DATE:20170411
DTEND;VALUE=DATE:20170412
SUMMARY:Nachendklausur
END:VEVENT
BEGIN:VEVENT
UID:32313863-6232-4763-b662-646539316238
DTSTAMP:20260421T151852Z
DESCRIPTION:
DTSTART:20170421T110000Z
DTEND:20170421T130000Z
LOCATION:E1 1 407
SUMMARY:Klausureinsicht Nachendklausur
END:VEVENT
END:VCALENDAR
