BEGIN:VCALENDAR
VERSION:2.0
PRODID:-//127.0.1.1//NONSGML kigkonsult.se iCalcreator 2.41.92//
CALSCALE:GREGORIAN
METHOD:PUBLISH
UID:38386433-6165-4637-b564-626466663231
X-WR-CALNAME:Concurrent Programming Calendar
X-WR-CALDESC:Events of the lecture Concurrent Programming
X-WR-TIMEZONE:Europe/Berlin
BEGIN:VEVENT
UID:35336665-3536-4163-a435-633132346431
DTSTAMP:20260425T233005Z
DESCRIPTION:
DTSTART:20220411T121500Z
DTEND:20220411T140000Z
LOCATION:E1 3 HS 002
SUMMARY:Np: Lecture A1
END:VEVENT
BEGIN:VEVENT
UID:63666563-3565-4139-a366-663764336133
DTSTAMP:20260425T233005Z
DESCRIPTION:
DTSTART:20220412T081500Z
DTEND:20220412T100000Z
LOCATION:E1 3 HS 002
SUMMARY:Np: Lecture A2
END:VEVENT
BEGIN:VEVENT
UID:64373733-3166-4262-b137-363566336263
DTSTAMP:20260425T233005Z
DESCRIPTION:
DTSTART:20220414T121500Z
DTEND:20220414T140000Z
LOCATION:E1 3 SR 15
SUMMARY:Np: Office Hour
END:VEVENT
BEGIN:VEVENT
UID:66303066-3338-4761-b761-633531323235
DTSTAMP:20260425T233005Z
DESCRIPTION:
DTSTART:20220414T141500Z
DTEND:20220414T160000Z
LOCATION:Discord
SUMMARY:Np: Office Hour Online
END:VEVENT
BEGIN:VEVENT
UID:32626137-6230-4162-a162-336365616464
DTSTAMP:20260425T233005Z
DESCRIPTION:
DTSTART:20220421T121500Z
DTEND:20220421T140000Z
LOCATION:E1 3 SR 15
SUMMARY:Np: Office Hour
END:VEVENT
BEGIN:VEVENT
UID:32376564-3438-4535-b135-646532643838
DTSTAMP:20260425T233005Z
DESCRIPTION:
DTSTART:20220421T141500Z
DTEND:20220421T160000Z
LOCATION:Discord
SUMMARY:Np: Office Hour Online
END:VEVENT
BEGIN:VEVENT
UID:63323932-3635-4036-b266-333938653433
DTSTAMP:20260425T233005Z
DESCRIPTION:
DTSTART:20220422T101500Z
DTEND:20220422T120000Z
LOCATION:E1 3 SR 15
SUMMARY:Np: Office Hour
END:VEVENT
BEGIN:VEVENT
UID:32626263-6634-4439-b736-373437653365
DTSTAMP:20260425T233005Z
DESCRIPTION:
DTSTART:20220422T121500Z
DTEND:20220422T140000Z
LOCATION:Discord
SUMMARY:Np: Office Hour Online
END:VEVENT
BEGIN:VEVENT
UID:37393763-3439-4330-b035-333033393433
DTSTAMP:20260425T233005Z
DESCRIPTION:
DTSTART;VALUE=DATE:20220425
DTEND;VALUE=DATE:20220426
SUMMARY:Np: Colloquium A
END:VEVENT
BEGIN:VEVENT
UID:33653264-3865-4561-b633-653835336531
DTSTAMP:20260425T233005Z
DESCRIPTION:
DTSTART:20220425T121500Z
DTEND:20220425T140000Z
LOCATION:E1 3 HS 002
SUMMARY:Np: Lecture B1
END:VEVENT
BEGIN:VEVENT
UID:31353837-6137-4761-a337-643631303666
DTSTAMP:20260425T233005Z
DESCRIPTION:
DTSTART:20220426T081500Z
DTEND:20220426T100000Z
LOCATION:E1 3 HS 002
SUMMARY:Np: Lecture B2
END:VEVENT
BEGIN:VEVENT
UID:62613137-3966-4463-b534-386462643036
DTSTAMP:20260425T233005Z
DESCRIPTION:
DTSTART;VALUE=DATE:20220426
DTEND;VALUE=DATE:20220427
SUMMARY:Np: Colloquium A
END:VEVENT
BEGIN:VEVENT
UID:32636535-3165-4239-b338-346534653332
DTSTAMP:20260425T233005Z
DESCRIPTION:
DTSTART:20220427T061500Z
DTEND:20220427T100000Z
SUMMARY:Np: Tutorial A
END:VEVENT
BEGIN:VEVENT
UID:39323061-6437-4939-b035-646230333432
DTSTAMP:20260425T233005Z
DESCRIPTION:
DTSTART:20220428T121500Z
DTEND:20220428T140000Z
LOCATION:E1 3 SR 15
SUMMARY:Np: Office Hour
END:VEVENT
BEGIN:VEVENT
UID:61356431-3164-4736-a461-613735326537
DTSTAMP:20260425T233005Z
DESCRIPTION:
DTSTART:20220428T141500Z
DTEND:20220428T160000Z
LOCATION:Discord
SUMMARY:Np: Office Hour Online
END:VEVENT
BEGIN:VEVENT
UID:30383633-6133-4832-b663-323866636238
DTSTAMP:20260425T233005Z
DESCRIPTION:
DTSTART:20220429T101500Z
DTEND:20220429T120000Z
LOCATION:E1 3 SR 15
SUMMARY:Np: Office Hour
END:VEVENT
BEGIN:VEVENT
UID:37366530-3565-4363-b135-303735333630
DTSTAMP:20260425T233005Z
DESCRIPTION:
DTSTART:20220429T121500Z
DTEND:20220429T140000Z
LOCATION:Discord
SUMMARY:Np: Office Hour Online
END:VEVENT
BEGIN:VEVENT
UID:35366438-3334-4233-a132-663533386431
DTSTAMP:20260425T233005Z
DESCRIPTION:
DTSTART;VALUE=DATE:20220502
DTEND;VALUE=DATE:20220503
SUMMARY:Np: Colloquium B
END:VEVENT
BEGIN:VEVENT
UID:65656466-3735-4830-b964-396334396539
DTSTAMP:20260425T233005Z
DESCRIPTION:
DTSTART:20220502T121500Z
DTEND:20220502T140000Z
LOCATION:E1 3 HS 002
SUMMARY:Np: Lecture C1
END:VEVENT
BEGIN:VEVENT
UID:39303664-6336-4532-a233-623037663737
DTSTAMP:20260425T233005Z
DESCRIPTION:
DTSTART:20220503T081500Z
DTEND:20220503T100000Z
LOCATION:E1 3 HS 002
SUMMARY:Np: Lecture C2
END:VEVENT
BEGIN:VEVENT
UID:65373831-3034-4136-b664-383237363635
DTSTAMP:20260425T233005Z
DESCRIPTION:
DTSTART;VALUE=DATE:20220503
DTEND;VALUE=DATE:20220504
SUMMARY:Np: Colloquium B
END:VEVENT
BEGIN:VEVENT
UID:36386338-6466-4362-a133-383630653566
DTSTAMP:20260425T233005Z
DESCRIPTION:
DTSTART:20220504T061500Z
DTEND:20220504T100000Z
SUMMARY:Np: Tutorial B
END:VEVENT
BEGIN:VEVENT
UID:63363735-3062-4865-b733-663062656630
DTSTAMP:20260425T233005Z
DESCRIPTION:
DTSTART:20220505T121500Z
DTEND:20220505T140000Z
LOCATION:E1 3 SR 15
SUMMARY:Np: Office Hour
END:VEVENT
BEGIN:VEVENT
UID:31653834-6237-4166-b266-613531333564
DTSTAMP:20260425T233005Z
DESCRIPTION:
DTSTART:20220505T141500Z
DTEND:20220505T160000Z
LOCATION:Discord
SUMMARY:Np: Office Hour Online
END:VEVENT
BEGIN:VEVENT
UID:35353233-3831-4166-a237-376661666363
DTSTAMP:20260425T233005Z
DESCRIPTION:
DTSTART:20220506T101500Z
DTEND:20220506T120000Z
LOCATION:E1 3 SR 15
SUMMARY:Np: Office Hour
END:VEVENT
BEGIN:VEVENT
UID:65326233-6334-4066-b732-373534613630
DTSTAMP:20260425T233005Z
DESCRIPTION:
DTSTART:20220506T121500Z
DTEND:20220506T140000Z
LOCATION:Discord
SUMMARY:Np: Office Hour Online
END:VEVENT
BEGIN:VEVENT
UID:39303163-3464-4438-a539-313563616532
DTSTAMP:20260425T233005Z
DESCRIPTION:
DTSTART;VALUE=DATE:20220509
DTEND;VALUE=DATE:20220510
SUMMARY:Np: Colloquium C
END:VEVENT
BEGIN:VEVENT
UID:31383664-3231-4437-a363-633538643464
DTSTAMP:20260425T233005Z
DESCRIPTION:
DTSTART:20220509T121500Z
DTEND:20220509T140000Z
LOCATION:E1 3 HS 002
SUMMARY:Np: Lecture D1
END:VEVENT
BEGIN:VEVENT
UID:66303136-6636-4536-b966-666332613636
DTSTAMP:20260425T233005Z
DESCRIPTION:
DTSTART:20220510T081500Z
DTEND:20220510T100000Z
LOCATION:E1 3 HS 002
SUMMARY:Np: Lecture D2
END:VEVENT
BEGIN:VEVENT
UID:65643434-3862-4566-b065-646639323133
DTSTAMP:20260425T233005Z
DESCRIPTION:
DTSTART;VALUE=DATE:20220510
DTEND;VALUE=DATE:20220511
SUMMARY:Np: Colloquium C
END:VEVENT
BEGIN:VEVENT
UID:61343333-6432-4438-b165-346632333138
DTSTAMP:20260425T233005Z
DESCRIPTION:
DTSTART:20220511T061500Z
DTEND:20220511T100000Z
SUMMARY:Np: Tutorial C
END:VEVENT
BEGIN:VEVENT
UID:30666339-3733-4534-b365-313632353139
DTSTAMP:20260425T233005Z
DESCRIPTION:
DTSTART:20220512T121500Z
DTEND:20220512T140000Z
LOCATION:E1 3 SR 15
SUMMARY:Np: Office Hour
END:VEVENT
BEGIN:VEVENT
UID:65306165-3165-4636-b939-376461303062
DTSTAMP:20260425T233005Z
DESCRIPTION:
DTSTART:20220512T141500Z
DTEND:20220512T160000Z
LOCATION:Discord
SUMMARY:Np: Office Hour Online
END:VEVENT
BEGIN:VEVENT
UID:35356366-3430-4330-b039-623633656137
DTSTAMP:20260425T233005Z
DESCRIPTION:
DTSTART:20220513T101500Z
DTEND:20220513T120000Z
LOCATION:E1 3 SR 15
SUMMARY:Np: Office Hour
END:VEVENT
BEGIN:VEVENT
UID:32623635-3166-4937-b466-383031386362
DTSTAMP:20260425T233005Z
DESCRIPTION:
DTSTART:20220513T121500Z
DTEND:20220513T140000Z
LOCATION:Discord
SUMMARY:Np: Office Hour Online
END:VEVENT
BEGIN:VEVENT
UID:39306264-3861-4666-a233-656439663538
DTSTAMP:20260425T233005Z
DESCRIPTION:
DTSTART;VALUE=DATE:20220516
DTEND;VALUE=DATE:20220517
SUMMARY:Np: Colloquium D
END:VEVENT
BEGIN:VEVENT
UID:39613462-6335-4266-b165-336231323532
DTSTAMP:20260425T233005Z
DESCRIPTION:
DTSTART;VALUE=DATE:20220517
DTEND;VALUE=DATE:20220518
SUMMARY:Np: Colloquium D
END:VEVENT
BEGIN:VEVENT
UID:63376539-6661-4265-b032-376432633030
DTSTAMP:20260425T233005Z
DESCRIPTION:
DTSTART:20220518T061500Z
DTEND:20220518T100000Z
SUMMARY:Np: Tutorial D
END:VEVENT
BEGIN:VEVENT
UID:66393139-3764-4336-b336-353863616261
DTSTAMP:20260425T233005Z
DESCRIPTION:
DTSTART:20220519T121500Z
DTEND:20220519T140000Z
LOCATION:E1 3 SR 15
SUMMARY:Np: Office Hour
END:VEVENT
BEGIN:VEVENT
UID:65346630-3935-4933-a638-373066666164
DTSTAMP:20260425T233005Z
DESCRIPTION:
DTSTART:20220519T141500Z
DTEND:20220519T160000Z
LOCATION:Discord
SUMMARY:Np: Office Hour Online
END:VEVENT
BEGIN:VEVENT
UID:30306239-3831-4536-b961-656662383336
DTSTAMP:20260425T233005Z
DESCRIPTION:
DTSTART:20220520T101500Z
DTEND:20220520T120000Z
LOCATION:E1 3 SR 15
SUMMARY:Np: Office Hour
END:VEVENT
BEGIN:VEVENT
UID:30616535-3865-4135-b334-393164386237
DTSTAMP:20260425T233005Z
DESCRIPTION:
DTSTART:20220520T121500Z
DTEND:20220520T140000Z
LOCATION:Discord
SUMMARY:Np: Office Hour Online
END:VEVENT
BEGIN:VEVENT
UID:66323033-3135-4163-b266-383366656566
DTSTAMP:20260425T233005Z
DESCRIPTION:
DTSTART:20220523T081500Z
DTEND:20220523T160000Z
LOCATION:E1 3 528
SUMMARY:Np: Full Day Office Hour
END:VEVENT
BEGIN:VEVENT
UID:37326261-3637-4330-b434-333530393963
DTSTAMP:20260425T233005Z
DESCRIPTION:
DTSTART:20220523T121500Z
DTEND:20220523T140000Z
LOCATION:E1 3 HS 002
SUMMARY:Np: Lecture E1
END:VEVENT
BEGIN:VEVENT
UID:34316663-6235-4664-a165-336236643963
DTSTAMP:20260425T233005Z
DESCRIPTION:
DTSTART:20220524T081500Z
DTEND:20220524T100000Z
LOCATION:E1 3 HS 002
SUMMARY:Np: Lecture E2
END:VEVENT
BEGIN:VEVENT
UID:32353766-6465-4138-b733-646435666135
DTSTAMP:20260425T233005Z
DESCRIPTION:
DTSTART:20220524T081500Z
DTEND:20220524T160000Z
SUMMARY:Np: Full Day Office Hour
END:VEVENT
BEGIN:VEVENT
UID:39633561-6130-4163-b034-363531323633
DTSTAMP:20260425T233005Z
DESCRIPTION:
DTSTART:20220525T100000Z
DTEND:20220525T120000Z
SUMMARY:Np: Exam T
END:VEVENT
BEGIN:VEVENT
UID:30623265-6636-4132-a635-393838396335
DTSTAMP:20260425T233005Z
DESCRIPTION:
DTSTART:20220527T101500Z
DTEND:20220527T120000Z
LOCATION:E1 3 SR 15
SUMMARY:Np: Office Hour
END:VEVENT
BEGIN:VEVENT
UID:34633364-3135-4563-a134-643832353166
DTSTAMP:20260425T233005Z
DESCRIPTION:
DTSTART:20220527T121500Z
DTEND:20220527T140000Z
LOCATION:Discord
SUMMARY:Np: Office Hour Online
END:VEVENT
BEGIN:VEVENT
UID:37353166-3539-4863-a531-626565366533
DTSTAMP:20260425T233005Z
DESCRIPTION:
DTSTART;VALUE=DATE:20220530
DTEND;VALUE=DATE:20220531
SUMMARY:Np: Colloquium E
END:VEVENT
BEGIN:VEVENT
UID:65316236-3739-4561-a365-343430313166
DTSTAMP:20260425T233005Z
DESCRIPTION:
DTSTART:20220530T121500Z
DTEND:20220530T140000Z
LOCATION:E1 3 HS 002
SUMMARY:Np: Lecture F1
END:VEVENT
BEGIN:VEVENT
UID:65323366-3234-4238-b334-393138386230
DTSTAMP:20260425T233005Z
DESCRIPTION:
DTSTART:20220531T081500Z
DTEND:20220531T100000Z
LOCATION:E1 3 HS 002
SUMMARY:Np: Lecture F2
END:VEVENT
BEGIN:VEVENT
UID:38616330-3464-4932-b066-396336346661
DTSTAMP:20260425T233005Z
DESCRIPTION:
DTSTART;VALUE=DATE:20220531
DTEND;VALUE=DATE:20220601
SUMMARY:Np: Colloquium E
END:VEVENT
BEGIN:VEVENT
UID:65623836-6238-4133-b533-336133313536
DTSTAMP:20260425T233005Z
DESCRIPTION:
DTSTART:20220601T061500Z
DTEND:20220601T100000Z
SUMMARY:Np: Tutorial E
END:VEVENT
BEGIN:VEVENT
UID:33346366-3135-4137-b233-396130363462
DTSTAMP:20260425T233005Z
DESCRIPTION:
DTSTART:20220602T121500Z
DTEND:20220602T140000Z
LOCATION:E1 3 SR 15
SUMMARY:Np: Office Hour
END:VEVENT
BEGIN:VEVENT
UID:35306338-6161-4138-b234-303764376364
DTSTAMP:20260425T233005Z
DESCRIPTION:
DTSTART:20220602T141500Z
DTEND:20220602T160000Z
LOCATION:Discord
SUMMARY:Np: Office Hour Online
END:VEVENT
BEGIN:VEVENT
UID:38626566-3134-4433-b663-346632323035
DTSTAMP:20260425T233005Z
DESCRIPTION:
DTSTART:20220603T101500Z
DTEND:20220603T120000Z
LOCATION:E1 3 SR 15
SUMMARY:Np: Office Hour
END:VEVENT
BEGIN:VEVENT
UID:38336337-6564-4435-b030-376662643433
DTSTAMP:20260425T233005Z
DESCRIPTION:
DTSTART:20220603T121500Z
DTEND:20220603T140000Z
LOCATION:Discord
SUMMARY:Np: Office Hour Online
END:VEVENT
BEGIN:VEVENT
UID:61326161-3435-4166-a635-626463323636
DTSTAMP:20260425T233005Z
DESCRIPTION:
DTSTART:20220607T081500Z
DTEND:20220607T100000Z
LOCATION:E1 3 HS 002
SUMMARY:Np: Lecture G1
END:VEVENT
BEGIN:VEVENT
UID:31336436-3734-4532-a162-393331383833
DTSTAMP:20260425T233005Z
DESCRIPTION:
DTSTART:20220607T110000Z
DTEND:20220607T130000Z
LOCATION:SR 106 in E1 1
SUMMARY:Np: Exam Inspection T
END:VEVENT
BEGIN:VEVENT
UID:33383961-6633-4833-b237-323637316366
DTSTAMP:20260425T233005Z
DESCRIPTION:
DTSTART:20220609T121500Z
DTEND:20220609T140000Z
LOCATION:E1 3 SR 15
SUMMARY:Np: Office Hour
END:VEVENT
BEGIN:VEVENT
UID:36363936-6237-4666-a231-383939383066
DTSTAMP:20260425T233005Z
DESCRIPTION:
DTSTART:20220609T141500Z
DTEND:20220609T160000Z
LOCATION:Discord
SUMMARY:Np: Office Hour Online
END:VEVENT
BEGIN:VEVENT
UID:63393637-3538-4064-b661-313033626166
DTSTAMP:20260425T233005Z
DESCRIPTION:
DTSTART:20220610T101500Z
DTEND:20220610T120000Z
LOCATION:E1 3 SR 15
SUMMARY:Np: Office Hour
END:VEVENT
BEGIN:VEVENT
UID:64343766-3136-4961-a436-346134653062
DTSTAMP:20260425T233005Z
DESCRIPTION:
DTSTART:20220610T121500Z
DTEND:20220610T140000Z
LOCATION:Discord
SUMMARY:Np: Office Hour Online
END:VEVENT
BEGIN:VEVENT
UID:62643831-6438-4138-a536-306633363162
DTSTAMP:20260425T233005Z
DESCRIPTION:
DTSTART;VALUE=DATE:20220613
DTEND;VALUE=DATE:20220614
SUMMARY:Np: Colloquium F
END:VEVENT
BEGIN:VEVENT
UID:39306139-3363-4636-b232-396435396438
DTSTAMP:20260425T233005Z
DESCRIPTION:
DTSTART:20220613T121500Z
DTEND:20220613T140000Z
LOCATION:E1 3 HS 002
SUMMARY:Np: Lecture G2
END:VEVENT
BEGIN:VEVENT
UID:32363464-3034-4663-b934-333565336132
DTSTAMP:20260425T233005Z
DESCRIPTION:
DTSTART:20220614T081500Z
DTEND:20220614T100000Z
LOCATION:E1 3 HS 002
SUMMARY:Np: Lecture H1
END:VEVENT
BEGIN:VEVENT
UID:64323366-3831-4565-b266-346531636563
DTSTAMP:20260425T233005Z
DESCRIPTION:
DTSTART;VALUE=DATE:20220614
DTEND;VALUE=DATE:20220615
SUMMARY:Np: Colloquium F
END:VEVENT
BEGIN:VEVENT
UID:64636631-6333-4532-b134-643836336261
DTSTAMP:20260425T233005Z
DESCRIPTION:
DTSTART:20220615T061500Z
DTEND:20220615T100000Z
SUMMARY:Np: Tutorial F
END:VEVENT
BEGIN:VEVENT
UID:30346231-3665-4235-b965-373166643962
DTSTAMP:20260425T233005Z
DESCRIPTION:
DTSTART:20220617T101500Z
DTEND:20220617T120000Z
LOCATION:E1 3 SR 15
SUMMARY:Np: Office Hour
END:VEVENT
BEGIN:VEVENT
UID:62313464-3235-4634-a337-373231333534
DTSTAMP:20260425T233005Z
DESCRIPTION:
DTSTART:20220617T121500Z
DTEND:20220617T140000Z
LOCATION:Discord
SUMMARY:Np: Office Hour Online
END:VEVENT
BEGIN:VEVENT
UID:33356662-3630-4864-b339-356239386435
DTSTAMP:20260425T233005Z
DESCRIPTION:
DTSTART;VALUE=DATE:20220620
DTEND;VALUE=DATE:20220621
SUMMARY:Np: Colloquium G
END:VEVENT
BEGIN:VEVENT
UID:34333732-3966-4231-a439-316639313830
DTSTAMP:20260425T233005Z
DESCRIPTION:
DTSTART:20220621T081500Z
DTEND:20220621T100000Z
LOCATION:E1 3 HS 002
SUMMARY:Np: Lecture H3 + Kick-Off Project
END:VEVENT
BEGIN:VEVENT
UID:65626235-6533-4939-b839-383665393938
DTSTAMP:20260425T233005Z
DESCRIPTION:
DTSTART;VALUE=DATE:20220621
DTEND;VALUE=DATE:20220622
SUMMARY:Np: Colloquium G
END:VEVENT
BEGIN:VEVENT
UID:66643263-3037-4435-b030-313965366338
DTSTAMP:20260425T233005Z
DESCRIPTION:
DTSTART:20220622T061500Z
DTEND:20220622T100000Z
SUMMARY:Np: Tutorial G
END:VEVENT
BEGIN:VEVENT
UID:30356566-3438-4864-a539-396362393738
DTSTAMP:20260425T233005Z
DESCRIPTION:
DTSTART:20220623T121500Z
DTEND:20220623T140000Z
LOCATION:E1 3 SR 15
SUMMARY:Np: Office Hour
END:VEVENT
BEGIN:VEVENT
UID:39346630-3931-4332-b763-663533376163
DTSTAMP:20260425T233005Z
DESCRIPTION:
DTSTART:20220623T141500Z
DTEND:20220623T160000Z
LOCATION:Discord
SUMMARY:Np: Office Hour Online
END:VEVENT
BEGIN:VEVENT
UID:33333366-3135-4638-b533-393134336338
DTSTAMP:20260425T233005Z
DESCRIPTION:
DTSTART:20220624T101500Z
DTEND:20220624T120000Z
LOCATION:E1 3 SR 15
SUMMARY:Np: Office Hour
END:VEVENT
BEGIN:VEVENT
UID:33623637-6562-4930-b839-373861643963
DTSTAMP:20260425T233005Z
DESCRIPTION:
DTSTART:20220624T121500Z
DTEND:20220624T140000Z
LOCATION:Discord
SUMMARY:Np: Office Hour Online
END:VEVENT
BEGIN:VEVENT
UID:62383363-3961-4263-b435-316431666264
DTSTAMP:20260425T233005Z
DESCRIPTION:
DTSTART;VALUE=DATE:20220627
DTEND;VALUE=DATE:20220628
SUMMARY:Np: Deadline Milestone A Project
END:VEVENT
BEGIN:VEVENT
UID:64336236-6166-4237-a163-343238383363
DTSTAMP:20260425T233005Z
DESCRIPTION:
DTSTART;VALUE=DATE:20220627
DTEND;VALUE=DATE:20220628
SUMMARY:Np: Colloquium H
END:VEVENT
BEGIN:VEVENT
UID:33663632-3530-4139-a637-653530306164
DTSTAMP:20260425T233005Z
DESCRIPTION:
DTSTART;VALUE=DATE:20220628
DTEND;VALUE=DATE:20220629
SUMMARY:Np: Colloquium H
END:VEVENT
BEGIN:VEVENT
UID:34336363-6139-4464-b534-303066336431
DTSTAMP:20260425T233005Z
DESCRIPTION:
DTSTART:20220629T061500Z
DTEND:20220629T100000Z
SUMMARY:Np: Tutorial H
END:VEVENT
BEGIN:VEVENT
UID:62393032-3430-4966-b538-363434343165
DTSTAMP:20260425T233005Z
DESCRIPTION:
DTSTART:20220630T121500Z
DTEND:20220630T140000Z
LOCATION:E1 3 SR 15
SUMMARY:Np: Office Hour
END:VEVENT
BEGIN:VEVENT
UID:32646137-6364-4531-b764-373139343166
DTSTAMP:20260425T233005Z
DESCRIPTION:
DTSTART:20220630T141500Z
DTEND:20220630T160000Z
LOCATION:Discord
SUMMARY:Np: Office Hour Online
END:VEVENT
BEGIN:VEVENT
UID:37343334-3737-4938-a164-666137386564
DTSTAMP:20260425T233005Z
DESCRIPTION:
DTSTART:20220701T101500Z
DTEND:20220701T120000Z
LOCATION:E1 3 SR 15
SUMMARY:Np: Office Hour
END:VEVENT
BEGIN:VEVENT
UID:34616265-6231-4161-b561-313038633031
DTSTAMP:20260425T233005Z
DESCRIPTION:
DTSTART:20220701T121500Z
DTEND:20220701T140000Z
LOCATION:Discord
SUMMARY:Np: Office Hour Online
END:VEVENT
BEGIN:VEVENT
UID:34373665-3939-4764-b233-613265383333
DTSTAMP:20260425T233005Z
DESCRIPTION:
DTSTART;VALUE=DATE:20220725
DTEND;VALUE=DATE:20220726
SUMMARY:Np: Deadline Milestone Omega Project
END:VEVENT
BEGIN:VEVENT
UID:64613263-3666-4264-b637-613531306363
DTSTAMP:20260425T233005Z
DESCRIPTION:
DTSTART;VALUE=DATE:20220803
DTEND;VALUE=DATE:20220804
LOCATION:407 in E1 1
SUMMARY:Np: Project Defense
END:VEVENT
BEGIN:VEVENT
UID:32306633-3065-4462-a631-376665616138
DTSTAMP:20260425T233005Z
DESCRIPTION:
DTSTART:20220805T080000Z
DTEND:20220805T140000Z
LOCATION:407 in E1 1
SUMMARY:Np: Full Day Office Hour
END:VEVENT
BEGIN:VEVENT
UID:61626630-6138-4835-b139-346339373831
DTSTAMP:20260425T233005Z
DESCRIPTION:
DTSTART:20220808T120000Z
DTEND:20220808T150000Z
SUMMARY:Np: Exam A
END:VEVENT
BEGIN:VEVENT
UID:39383239-3138-4733-a566-363836386361
DTSTAMP:20260425T233005Z
DESCRIPTION:
DTSTART:20221012T080000Z
DTEND:20221012T120000Z
SUMMARY:Np: Re-Exam T & A
END:VEVENT
END:VCALENDAR
