BEGIN:VCALENDAR
VERSION:2.0
PRODID:-//127.0.1.1//NONSGML kigkonsult.se iCalcreator 2.41.92//
CALSCALE:GREGORIAN
METHOD:PUBLISH
UID:63633663-6330-4136-b737-633332666664
X-WR-CALNAME:Concurrent Programming Calendar
X-WR-CALDESC:Events of the lecture Concurrent Programming
X-WR-TIMEZONE:Europe/Berlin
BEGIN:VEVENT
UID:63313264-6434-4639-a337-343664386132
DTSTAMP:20260425T233311Z
DESCRIPTION:
DTSTART;VALUE=DATE:20220425
DTEND;VALUE=DATE:20220426
SUMMARY:Np: Colloquium A
END:VEVENT
BEGIN:VEVENT
UID:37396436-3639-4332-b365-393661633365
DTSTAMP:20260425T233311Z
DESCRIPTION:
DTSTART;VALUE=DATE:20220426
DTEND;VALUE=DATE:20220427
SUMMARY:Np: Colloquium A
END:VEVENT
BEGIN:VEVENT
UID:61343666-3835-4437-b262-613962663637
DTSTAMP:20260425T233311Z
DESCRIPTION:
DTSTART;VALUE=DATE:20220502
DTEND;VALUE=DATE:20220503
SUMMARY:Np: Colloquium B
END:VEVENT
BEGIN:VEVENT
UID:62666263-3665-4662-b739-356234363265
DTSTAMP:20260425T233311Z
DESCRIPTION:
DTSTART;VALUE=DATE:20220503
DTEND;VALUE=DATE:20220504
SUMMARY:Np: Colloquium B
END:VEVENT
BEGIN:VEVENT
UID:66636565-3736-4962-b866-336565333932
DTSTAMP:20260425T233311Z
DESCRIPTION:
DTSTART;VALUE=DATE:20220509
DTEND;VALUE=DATE:20220510
SUMMARY:Np: Colloquium C
END:VEVENT
BEGIN:VEVENT
UID:66373164-3930-4161-a561-393534306136
DTSTAMP:20260425T233311Z
DESCRIPTION:
DTSTART;VALUE=DATE:20220510
DTEND;VALUE=DATE:20220511
SUMMARY:Np: Colloquium C
END:VEVENT
BEGIN:VEVENT
UID:37363066-3565-4134-b866-386333393731
DTSTAMP:20260425T233311Z
DESCRIPTION:
DTSTART;VALUE=DATE:20220516
DTEND;VALUE=DATE:20220517
SUMMARY:Np: Colloquium D
END:VEVENT
BEGIN:VEVENT
UID:38656261-3861-4034-a631-303936386366
DTSTAMP:20260425T233311Z
DESCRIPTION:
DTSTART;VALUE=DATE:20220517
DTEND;VALUE=DATE:20220518
SUMMARY:Np: Colloquium D
END:VEVENT
BEGIN:VEVENT
UID:62326263-6130-4333-b863-303338663563
DTSTAMP:20260425T233311Z
DESCRIPTION:
DTSTART;VALUE=DATE:20220530
DTEND;VALUE=DATE:20220531
SUMMARY:Np: Colloquium E
END:VEVENT
BEGIN:VEVENT
UID:34646439-3536-4631-a537-643735663664
DTSTAMP:20260425T233311Z
DESCRIPTION:
DTSTART;VALUE=DATE:20220531
DTEND;VALUE=DATE:20220601
SUMMARY:Np: Colloquium E
END:VEVENT
BEGIN:VEVENT
UID:30323566-6632-4130-b231-366661393461
DTSTAMP:20260425T233311Z
DESCRIPTION:
DTSTART;VALUE=DATE:20220613
DTEND;VALUE=DATE:20220614
SUMMARY:Np: Colloquium F
END:VEVENT
BEGIN:VEVENT
UID:39336437-6235-4435-a261-393162633837
DTSTAMP:20260425T233311Z
DESCRIPTION:
DTSTART;VALUE=DATE:20220614
DTEND;VALUE=DATE:20220615
SUMMARY:Np: Colloquium F
END:VEVENT
BEGIN:VEVENT
UID:34343336-3766-4239-a139-343265393764
DTSTAMP:20260425T233311Z
DESCRIPTION:
DTSTART;VALUE=DATE:20220620
DTEND;VALUE=DATE:20220621
SUMMARY:Np: Colloquium G
END:VEVENT
BEGIN:VEVENT
UID:33396331-6633-4633-a466-316638653235
DTSTAMP:20260425T233311Z
DESCRIPTION:
DTSTART;VALUE=DATE:20220621
DTEND;VALUE=DATE:20220622
SUMMARY:Np: Colloquium G
END:VEVENT
BEGIN:VEVENT
UID:30663962-3365-4930-a365-386436636462
DTSTAMP:20260425T233311Z
DESCRIPTION:
DTSTART;VALUE=DATE:20220627
DTEND;VALUE=DATE:20220628
SUMMARY:Np: Colloquium H
END:VEVENT
BEGIN:VEVENT
UID:35336630-6664-4232-b239-336361653862
DTSTAMP:20260425T233311Z
DESCRIPTION:
DTSTART;VALUE=DATE:20220628
DTEND;VALUE=DATE:20220629
SUMMARY:Np: Colloquium H
END:VEVENT
END:VCALENDAR
