BEGIN:VCALENDAR
VERSION:2.0
PRODID:-//127.0.1.1//NONSGML kigkonsult.se iCalcreator 2.41.92//
CALSCALE:GREGORIAN
METHOD:PUBLISH
UID:62316665-3539-4332-b164-336135613263
X-WR-CALNAME:Concurrent Programming Calendar
X-WR-CALDESC:Events of the lecture Concurrent Programming
X-WR-TIMEZONE:Europe/Berlin
BEGIN:VEVENT
UID:64326339-3639-4238-b661-623665316665
DTSTAMP:20260426T005224Z
DESCRIPTION:
DTSTART;VALUE=DATE:20220425
DTEND;VALUE=DATE:20220426
SUMMARY:Colloquium A
END:VEVENT
BEGIN:VEVENT
UID:62633931-3336-4762-b338-616536393831
DTSTAMP:20260426T005224Z
DESCRIPTION:
DTSTART;VALUE=DATE:20220426
DTEND;VALUE=DATE:20220427
SUMMARY:Colloquium A
END:VEVENT
BEGIN:VEVENT
UID:31366663-3939-4231-b462-353237303934
DTSTAMP:20260426T005224Z
DESCRIPTION:
DTSTART;VALUE=DATE:20220502
DTEND;VALUE=DATE:20220503
SUMMARY:Colloquium B
END:VEVENT
BEGIN:VEVENT
UID:33653762-3266-4634-a132-663065396364
DTSTAMP:20260426T005224Z
DESCRIPTION:
DTSTART;VALUE=DATE:20220503
DTEND;VALUE=DATE:20220504
SUMMARY:Colloquium B
END:VEVENT
BEGIN:VEVENT
UID:61393136-3365-4436-b834-376634633565
DTSTAMP:20260426T005224Z
DESCRIPTION:
DTSTART;VALUE=DATE:20220509
DTEND;VALUE=DATE:20220510
SUMMARY:Colloquium C
END:VEVENT
BEGIN:VEVENT
UID:32663436-3839-4363-b231-323933653566
DTSTAMP:20260426T005224Z
DESCRIPTION:
DTSTART;VALUE=DATE:20220510
DTEND;VALUE=DATE:20220511
SUMMARY:Colloquium C
END:VEVENT
BEGIN:VEVENT
UID:61336363-3237-4238-b761-633832653664
DTSTAMP:20260426T005224Z
DESCRIPTION:
DTSTART;VALUE=DATE:20220516
DTEND;VALUE=DATE:20220517
SUMMARY:Colloquium D
END:VEVENT
BEGIN:VEVENT
UID:37323635-6138-4630-b836-373630636233
DTSTAMP:20260426T005224Z
DESCRIPTION:
DTSTART;VALUE=DATE:20220517
DTEND;VALUE=DATE:20220518
SUMMARY:Colloquium D
END:VEVENT
BEGIN:VEVENT
UID:32323234-6232-4936-b132-643564343137
DTSTAMP:20260426T005224Z
DESCRIPTION:
DTSTART;VALUE=DATE:20220530
DTEND;VALUE=DATE:20220531
SUMMARY:Colloquium E
END:VEVENT
BEGIN:VEVENT
UID:37313731-3735-4534-b561-663139323565
DTSTAMP:20260426T005224Z
DESCRIPTION:
DTSTART;VALUE=DATE:20220531
DTEND;VALUE=DATE:20220601
SUMMARY:Colloquium E
END:VEVENT
BEGIN:VEVENT
UID:64326366-3836-4539-b837-383636386237
DTSTAMP:20260426T005224Z
DESCRIPTION:
DTSTART;VALUE=DATE:20220613
DTEND;VALUE=DATE:20220614
SUMMARY:Colloquium F
END:VEVENT
BEGIN:VEVENT
UID:35346462-6362-4234-a330-363938383362
DTSTAMP:20260426T005224Z
DESCRIPTION:
DTSTART;VALUE=DATE:20220614
DTEND;VALUE=DATE:20220615
SUMMARY:Colloquium F
END:VEVENT
BEGIN:VEVENT
UID:35306261-6161-4831-a663-636439313133
DTSTAMP:20260426T005224Z
DESCRIPTION:
DTSTART;VALUE=DATE:20220620
DTEND;VALUE=DATE:20220621
SUMMARY:Colloquium G
END:VEVENT
BEGIN:VEVENT
UID:34326334-3562-4239-b234-656662663135
DTSTAMP:20260426T005224Z
DESCRIPTION:
DTSTART;VALUE=DATE:20220621
DTEND;VALUE=DATE:20220622
SUMMARY:Colloquium G
END:VEVENT
BEGIN:VEVENT
UID:30313538-3735-4132-b461-653633336535
DTSTAMP:20260426T005224Z
DESCRIPTION:
DTSTART;VALUE=DATE:20220627
DTEND;VALUE=DATE:20220628
SUMMARY:Colloquium H
END:VEVENT
BEGIN:VEVENT
UID:31643636-6132-4038-b865-313566633232
DTSTAMP:20260426T005224Z
DESCRIPTION:
DTSTART;VALUE=DATE:20220628
DTEND;VALUE=DATE:20220629
SUMMARY:Colloquium H
END:VEVENT
END:VCALENDAR
