BEGIN:VCALENDAR
VERSION:2.0
PRODID:-//127.0.1.1//NONSGML kigkonsult.se iCalcreator 2.41.92//
CALSCALE:GREGORIAN
METHOD:PUBLISH
UID:65663139-3630-4736-b166-373539333063
X-WR-CALNAME:Concurrent Programming Calendar
X-WR-CALDESC:Events of the lecture Concurrent Programming
X-WR-TIMEZONE:Europe/Berlin
BEGIN:VEVENT
UID:35613062-3839-4430-a537-643561303631
DTSTAMP:20260425T233056Z
DESCRIPTION:
DTSTART:20220414T121500Z
DTEND:20220414T140000Z
LOCATION:E1 3 SR 15
SUMMARY:Office Hour
END:VEVENT
BEGIN:VEVENT
UID:39666333-6632-4363-a538-393866313761
DTSTAMP:20260425T233056Z
DESCRIPTION:
DTSTART:20220414T141500Z
DTEND:20220414T160000Z
LOCATION:Discord
SUMMARY:Office Hour Online
END:VEVENT
BEGIN:VEVENT
UID:62383631-6630-4537-b366-343932653533
DTSTAMP:20260425T233056Z
DESCRIPTION:
DTSTART:20220421T121500Z
DTEND:20220421T140000Z
LOCATION:E1 3 SR 15
SUMMARY:Office Hour
END:VEVENT
BEGIN:VEVENT
UID:39363966-3232-4434-b037-343337356264
DTSTAMP:20260425T233056Z
DESCRIPTION:
DTSTART:20220421T141500Z
DTEND:20220421T160000Z
LOCATION:Discord
SUMMARY:Office Hour Online
END:VEVENT
BEGIN:VEVENT
UID:64623636-3063-4934-a231-306535313838
DTSTAMP:20260425T233056Z
DESCRIPTION:
DTSTART:20220422T101500Z
DTEND:20220422T120000Z
LOCATION:E1 3 SR 15
SUMMARY:Office Hour
END:VEVENT
BEGIN:VEVENT
UID:65626434-3263-4139-b633-626133613535
DTSTAMP:20260425T233056Z
DESCRIPTION:
DTSTART:20220422T121500Z
DTEND:20220422T140000Z
LOCATION:Discord
SUMMARY:Office Hour Online
END:VEVENT
BEGIN:VEVENT
UID:65316561-6437-4330-b761-333537363237
DTSTAMP:20260425T233056Z
DESCRIPTION:
DTSTART:20220428T121500Z
DTEND:20220428T140000Z
LOCATION:E1 3 SR 15
SUMMARY:Office Hour
END:VEVENT
BEGIN:VEVENT
UID:38303033-6137-4766-a432-656236316633
DTSTAMP:20260425T233056Z
DESCRIPTION:
DTSTART:20220428T141500Z
DTEND:20220428T160000Z
LOCATION:Discord
SUMMARY:Office Hour Online
END:VEVENT
BEGIN:VEVENT
UID:31343038-6430-4634-a162-663962323263
DTSTAMP:20260425T233056Z
DESCRIPTION:
DTSTART:20220429T101500Z
DTEND:20220429T120000Z
LOCATION:E1 3 SR 15
SUMMARY:Office Hour
END:VEVENT
BEGIN:VEVENT
UID:62383966-6664-4364-b164-646239306337
DTSTAMP:20260425T233056Z
DESCRIPTION:
DTSTART:20220429T121500Z
DTEND:20220429T140000Z
LOCATION:Discord
SUMMARY:Office Hour Online
END:VEVENT
BEGIN:VEVENT
UID:39366565-3533-4739-b736-646434656437
DTSTAMP:20260425T233056Z
DESCRIPTION:
DTSTART:20220505T121500Z
DTEND:20220505T140000Z
LOCATION:E1 3 SR 15
SUMMARY:Office Hour
END:VEVENT
BEGIN:VEVENT
UID:31653963-3765-4138-b030-303061393434
DTSTAMP:20260425T233056Z
DESCRIPTION:
DTSTART:20220505T141500Z
DTEND:20220505T160000Z
LOCATION:Discord
SUMMARY:Office Hour Online
END:VEVENT
BEGIN:VEVENT
UID:64396431-3666-4330-b764-366135666561
DTSTAMP:20260425T233056Z
DESCRIPTION:
DTSTART:20220506T101500Z
DTEND:20220506T120000Z
LOCATION:E1 3 SR 15
SUMMARY:Office Hour
END:VEVENT
BEGIN:VEVENT
UID:61653936-3839-4732-b732-383934363365
DTSTAMP:20260425T233056Z
DESCRIPTION:
DTSTART:20220506T121500Z
DTEND:20220506T140000Z
LOCATION:Discord
SUMMARY:Office Hour Online
END:VEVENT
BEGIN:VEVENT
UID:38616633-6530-4536-b564-656565626530
DTSTAMP:20260425T233056Z
DESCRIPTION:
DTSTART:20220512T121500Z
DTEND:20220512T140000Z
LOCATION:E1 3 SR 15
SUMMARY:Office Hour
END:VEVENT
BEGIN:VEVENT
UID:66656661-3664-4261-b338-396435626565
DTSTAMP:20260425T233056Z
DESCRIPTION:
DTSTART:20220512T141500Z
DTEND:20220512T160000Z
LOCATION:Discord
SUMMARY:Office Hour Online
END:VEVENT
BEGIN:VEVENT
UID:36363265-3764-4335-a334-393462323032
DTSTAMP:20260425T233056Z
DESCRIPTION:
DTSTART:20220513T101500Z
DTEND:20220513T120000Z
LOCATION:E1 3 SR 15
SUMMARY:Office Hour
END:VEVENT
BEGIN:VEVENT
UID:35623361-3738-4938-a133-343634326262
DTSTAMP:20260425T233056Z
DESCRIPTION:
DTSTART:20220513T121500Z
DTEND:20220513T140000Z
LOCATION:Discord
SUMMARY:Office Hour Online
END:VEVENT
BEGIN:VEVENT
UID:35326365-3061-4763-a664-323130363438
DTSTAMP:20260425T233056Z
DESCRIPTION:
DTSTART:20220519T121500Z
DTEND:20220519T140000Z
LOCATION:E1 3 SR 15
SUMMARY:Office Hour
END:VEVENT
BEGIN:VEVENT
UID:65356363-6435-4230-b864-313332306265
DTSTAMP:20260425T233056Z
DESCRIPTION:
DTSTART:20220519T141500Z
DTEND:20220519T160000Z
LOCATION:Discord
SUMMARY:Office Hour Online
END:VEVENT
BEGIN:VEVENT
UID:32393364-6132-4439-b939-363165623630
DTSTAMP:20260425T233056Z
DESCRIPTION:
DTSTART:20220520T101500Z
DTEND:20220520T120000Z
LOCATION:E1 3 SR 15
SUMMARY:Office Hour
END:VEVENT
BEGIN:VEVENT
UID:31313461-6365-4432-b435-343863656538
DTSTAMP:20260425T233056Z
DESCRIPTION:
DTSTART:20220520T121500Z
DTEND:20220520T140000Z
LOCATION:Discord
SUMMARY:Office Hour Online
END:VEVENT
BEGIN:VEVENT
UID:61393737-3739-4362-a238-323534333135
DTSTAMP:20260425T233056Z
DESCRIPTION:
DTSTART:20220523T081500Z
DTEND:20220523T160000Z
LOCATION:E1 3 528
SUMMARY:Full Day Office Hour
END:VEVENT
BEGIN:VEVENT
UID:63316166-6134-4235-a438-313966666632
DTSTAMP:20260425T233056Z
DESCRIPTION:
DTSTART:20220524T081500Z
DTEND:20220524T160000Z
SUMMARY:Full Day Office Hour
END:VEVENT
BEGIN:VEVENT
UID:61313064-6230-4639-b436-616262323230
DTSTAMP:20260425T233056Z
DESCRIPTION:
DTSTART:20220527T101500Z
DTEND:20220527T120000Z
LOCATION:E1 3 SR 15
SUMMARY:Office Hour
END:VEVENT
BEGIN:VEVENT
UID:30393666-3832-4362-b262-383336326165
DTSTAMP:20260425T233056Z
DESCRIPTION:
DTSTART:20220527T121500Z
DTEND:20220527T140000Z
LOCATION:Discord
SUMMARY:Office Hour Online
END:VEVENT
BEGIN:VEVENT
UID:35646166-3537-4063-a362-653466346166
DTSTAMP:20260425T233056Z
DESCRIPTION:
DTSTART:20220602T121500Z
DTEND:20220602T140000Z
LOCATION:E1 3 SR 15
SUMMARY:Office Hour
END:VEVENT
BEGIN:VEVENT
UID:61623534-3736-4866-a365-333130323862
DTSTAMP:20260425T233056Z
DESCRIPTION:
DTSTART:20220602T141500Z
DTEND:20220602T160000Z
LOCATION:Discord
SUMMARY:Office Hour Online
END:VEVENT
BEGIN:VEVENT
UID:36376364-3534-4230-a138-653438643730
DTSTAMP:20260425T233056Z
DESCRIPTION:
DTSTART:20220603T101500Z
DTEND:20220603T120000Z
LOCATION:E1 3 SR 15
SUMMARY:Office Hour
END:VEVENT
BEGIN:VEVENT
UID:37616134-6332-4662-a531-343837613165
DTSTAMP:20260425T233056Z
DESCRIPTION:
DTSTART:20220603T121500Z
DTEND:20220603T140000Z
LOCATION:Discord
SUMMARY:Office Hour Online
END:VEVENT
BEGIN:VEVENT
UID:37353233-6339-4636-b963-326338666266
DTSTAMP:20260425T233056Z
DESCRIPTION:
DTSTART:20220609T121500Z
DTEND:20220609T140000Z
LOCATION:E1 3 SR 15
SUMMARY:Office Hour
END:VEVENT
BEGIN:VEVENT
UID:36396265-3830-4633-b034-363631663432
DTSTAMP:20260425T233056Z
DESCRIPTION:
DTSTART:20220609T141500Z
DTEND:20220609T160000Z
LOCATION:Discord
SUMMARY:Office Hour Online
END:VEVENT
BEGIN:VEVENT
UID:62623865-3232-4933-b665-343966613665
DTSTAMP:20260425T233056Z
DESCRIPTION:
DTSTART:20220610T101500Z
DTEND:20220610T120000Z
LOCATION:E1 3 SR 15
SUMMARY:Office Hour
END:VEVENT
BEGIN:VEVENT
UID:33666562-6432-4963-b733-653165663934
DTSTAMP:20260425T233056Z
DESCRIPTION:
DTSTART:20220610T121500Z
DTEND:20220610T140000Z
LOCATION:Discord
SUMMARY:Office Hour Online
END:VEVENT
BEGIN:VEVENT
UID:32623133-6435-4266-b536-633136633762
DTSTAMP:20260425T233056Z
DESCRIPTION:
DTSTART:20220617T101500Z
DTEND:20220617T120000Z
LOCATION:E1 3 SR 15
SUMMARY:Office Hour
END:VEVENT
BEGIN:VEVENT
UID:33356432-6665-4039-a565-646439653137
DTSTAMP:20260425T233056Z
DESCRIPTION:
DTSTART:20220617T121500Z
DTEND:20220617T140000Z
LOCATION:Discord
SUMMARY:Office Hour Online
END:VEVENT
BEGIN:VEVENT
UID:39376464-3035-4134-a161-303562313662
DTSTAMP:20260425T233056Z
DESCRIPTION:
DTSTART:20220623T121500Z
DTEND:20220623T140000Z
LOCATION:E1 3 SR 15
SUMMARY:Office Hour
END:VEVENT
BEGIN:VEVENT
UID:64306133-3938-4532-b936-623534343636
DTSTAMP:20260425T233056Z
DESCRIPTION:
DTSTART:20220623T141500Z
DTEND:20220623T160000Z
LOCATION:Discord
SUMMARY:Office Hour Online
END:VEVENT
BEGIN:VEVENT
UID:34656363-3831-4539-b238-626361366536
DTSTAMP:20260425T233056Z
DESCRIPTION:
DTSTART:20220624T101500Z
DTEND:20220624T120000Z
LOCATION:E1 3 SR 15
SUMMARY:Office Hour
END:VEVENT
BEGIN:VEVENT
UID:30303138-6661-4332-a661-633630313137
DTSTAMP:20260425T233056Z
DESCRIPTION:
DTSTART:20220624T121500Z
DTEND:20220624T140000Z
LOCATION:Discord
SUMMARY:Office Hour Online
END:VEVENT
BEGIN:VEVENT
UID:33333834-3261-4531-b039-656562353966
DTSTAMP:20260425T233056Z
DESCRIPTION:
DTSTART:20220630T121500Z
DTEND:20220630T140000Z
LOCATION:E1 3 SR 15
SUMMARY:Office Hour
END:VEVENT
BEGIN:VEVENT
UID:64626666-3632-4433-b532-646334376237
DTSTAMP:20260425T233056Z
DESCRIPTION:
DTSTART:20220630T141500Z
DTEND:20220630T160000Z
LOCATION:Discord
SUMMARY:Office Hour Online
END:VEVENT
BEGIN:VEVENT
UID:35363435-3465-4033-b463-336539636237
DTSTAMP:20260425T233056Z
DESCRIPTION:
DTSTART:20220701T101500Z
DTEND:20220701T120000Z
LOCATION:E1 3 SR 15
SUMMARY:Office Hour
END:VEVENT
BEGIN:VEVENT
UID:64326138-3966-4532-b137-653365386361
DTSTAMP:20260425T233056Z
DESCRIPTION:
DTSTART:20220701T121500Z
DTEND:20220701T140000Z
LOCATION:Discord
SUMMARY:Office Hour Online
END:VEVENT
BEGIN:VEVENT
UID:66646665-3038-4863-a337-303838663961
DTSTAMP:20260425T233056Z
DESCRIPTION:
DTSTART:20220805T080000Z
DTEND:20220805T140000Z
LOCATION:407 in E1 1
SUMMARY:Full Day Office Hour
END:VEVENT
END:VCALENDAR
