BEGIN:VCALENDAR
VERSION:2.0
PRODID:-//127.0.1.1//NONSGML kigkonsult.se iCalcreator 2.41.92//
CALSCALE:GREGORIAN
METHOD:PUBLISH
UID:33316263-3366-4231-a630-313733346435
X-WR-CALNAME:Concurrent Programming Calendar
X-WR-CALDESC:Events of the lecture Concurrent Programming
X-WR-TIMEZONE:Europe/Berlin
BEGIN:VEVENT
UID:37663764-3739-4338-a463-616465653166
DTSTAMP:20260425T233057Z
DESCRIPTION:
DTSTART:20220427T061500Z
DTEND:20220427T100000Z
SUMMARY:Tutorial A
END:VEVENT
BEGIN:VEVENT
UID:30343737-3463-4264-b064-336664326631
DTSTAMP:20260425T233057Z
DESCRIPTION:
DTSTART:20220504T061500Z
DTEND:20220504T100000Z
SUMMARY:Tutorial B
END:VEVENT
BEGIN:VEVENT
UID:33633764-6365-4564-b337-386130626263
DTSTAMP:20260425T233057Z
DESCRIPTION:
DTSTART:20220511T061500Z
DTEND:20220511T100000Z
SUMMARY:Tutorial C
END:VEVENT
BEGIN:VEVENT
UID:63653930-6563-4539-b436-303339353830
DTSTAMP:20260425T233057Z
DESCRIPTION:
DTSTART:20220518T061500Z
DTEND:20220518T100000Z
SUMMARY:Tutorial D
END:VEVENT
BEGIN:VEVENT
UID:34623139-6231-4565-a262-613036393532
DTSTAMP:20260425T233057Z
DESCRIPTION:
DTSTART:20220601T061500Z
DTEND:20220601T100000Z
SUMMARY:Tutorial E
END:VEVENT
BEGIN:VEVENT
UID:33616431-3831-4563-b565-343335323633
DTSTAMP:20260425T233057Z
DESCRIPTION:
DTSTART:20220615T061500Z
DTEND:20220615T100000Z
SUMMARY:Tutorial F
END:VEVENT
BEGIN:VEVENT
UID:33363938-3939-4432-b365-326666623564
DTSTAMP:20260425T233057Z
DESCRIPTION:
DTSTART:20220622T061500Z
DTEND:20220622T100000Z
SUMMARY:Tutorial G
END:VEVENT
BEGIN:VEVENT
UID:37316135-6663-4530-b363-313837346464
DTSTAMP:20260425T233057Z
DESCRIPTION:
DTSTART:20220629T061500Z
DTEND:20220629T100000Z
SUMMARY:Tutorial H
END:VEVENT
END:VCALENDAR
