BEGIN:VCALENDAR
VERSION:2.0
PRODID:-//127.0.1.1//NONSGML kigkonsult.se iCalcreator 2.41.92//
CALSCALE:GREGORIAN
METHOD:PUBLISH
UID:36306265-6637-4535-b030-356531316663
X-WR-CALNAME:Concurrent Programming Calendar
X-WR-CALDESC:Events of the lecture Concurrent Programming
X-WR-TIMEZONE:Europe/Berlin
BEGIN:VEVENT
UID:31316435-3134-4265-b832-646633383066
DTSTAMP:20260425T233209Z
DESCRIPTION:
DTSTART:20220411T121500Z
DTEND:20220411T140000Z
LOCATION:E1 3 HS 002
SUMMARY:Np: Lecture A1
END:VEVENT
BEGIN:VEVENT
UID:38336633-3638-4530-b336-316462396133
DTSTAMP:20260425T233209Z
DESCRIPTION:
DTSTART:20220412T081500Z
DTEND:20220412T100000Z
LOCATION:E1 3 HS 002
SUMMARY:Np: Lecture A2
END:VEVENT
BEGIN:VEVENT
UID:36333037-6163-4131-b934-656139303466
DTSTAMP:20260425T233209Z
DESCRIPTION:
DTSTART:20220425T121500Z
DTEND:20220425T140000Z
LOCATION:E1 3 HS 002
SUMMARY:Np: Lecture B1
END:VEVENT
BEGIN:VEVENT
UID:35336664-6135-4230-a363-366136616336
DTSTAMP:20260425T233209Z
DESCRIPTION:
DTSTART:20220426T081500Z
DTEND:20220426T100000Z
LOCATION:E1 3 HS 002
SUMMARY:Np: Lecture B2
END:VEVENT
BEGIN:VEVENT
UID:65323236-6364-4730-b034-663033376337
DTSTAMP:20260425T233209Z
DESCRIPTION:
DTSTART:20220502T121500Z
DTEND:20220502T140000Z
LOCATION:E1 3 HS 002
SUMMARY:Np: Lecture C1
END:VEVENT
BEGIN:VEVENT
UID:36366431-6435-4761-b438-323162626438
DTSTAMP:20260425T233209Z
DESCRIPTION:
DTSTART:20220503T081500Z
DTEND:20220503T100000Z
LOCATION:E1 3 HS 002
SUMMARY:Np: Lecture C2
END:VEVENT
BEGIN:VEVENT
UID:35383361-6132-4237-a365-303962303566
DTSTAMP:20260425T233209Z
DESCRIPTION:
DTSTART:20220509T121500Z
DTEND:20220509T140000Z
LOCATION:E1 3 HS 002
SUMMARY:Np: Lecture D1
END:VEVENT
BEGIN:VEVENT
UID:30396165-6337-4635-b731-373664626230
DTSTAMP:20260425T233209Z
DESCRIPTION:
DTSTART:20220510T081500Z
DTEND:20220510T100000Z
LOCATION:E1 3 HS 002
SUMMARY:Np: Lecture D2
END:VEVENT
BEGIN:VEVENT
UID:66643835-6536-4839-b334-346566633137
DTSTAMP:20260425T233209Z
DESCRIPTION:
DTSTART:20220523T121500Z
DTEND:20220523T140000Z
LOCATION:E1 3 HS 002
SUMMARY:Np: Lecture E1
END:VEVENT
BEGIN:VEVENT
UID:62333336-3066-4931-a530-663434613139
DTSTAMP:20260425T233209Z
DESCRIPTION:
DTSTART:20220524T081500Z
DTEND:20220524T100000Z
LOCATION:E1 3 HS 002
SUMMARY:Np: Lecture E2
END:VEVENT
BEGIN:VEVENT
UID:35633030-6132-4938-b634-396234393862
DTSTAMP:20260425T233209Z
DESCRIPTION:
DTSTART:20220530T121500Z
DTEND:20220530T140000Z
LOCATION:E1 3 HS 002
SUMMARY:Np: Lecture F1
END:VEVENT
BEGIN:VEVENT
UID:65363131-3166-4462-b439-393735343666
DTSTAMP:20260425T233209Z
DESCRIPTION:
DTSTART:20220531T081500Z
DTEND:20220531T100000Z
LOCATION:E1 3 HS 002
SUMMARY:Np: Lecture F2
END:VEVENT
BEGIN:VEVENT
UID:66616332-3639-4231-a166-303963363264
DTSTAMP:20260425T233209Z
DESCRIPTION:
DTSTART:20220607T081500Z
DTEND:20220607T100000Z
LOCATION:E1 3 HS 002
SUMMARY:Np: Lecture G1
END:VEVENT
BEGIN:VEVENT
UID:32363738-3762-4230-b164-666239663133
DTSTAMP:20260425T233209Z
DESCRIPTION:
DTSTART:20220613T121500Z
DTEND:20220613T140000Z
LOCATION:E1 3 HS 002
SUMMARY:Np: Lecture G2
END:VEVENT
BEGIN:VEVENT
UID:35323562-3635-4562-b339-643133353639
DTSTAMP:20260425T233209Z
DESCRIPTION:
DTSTART:20220614T081500Z
DTEND:20220614T100000Z
LOCATION:E1 3 HS 002
SUMMARY:Np: Lecture H1
END:VEVENT
BEGIN:VEVENT
UID:66386563-3130-4134-b261-333334633138
DTSTAMP:20260425T233209Z
DESCRIPTION:
DTSTART:20220621T081500Z
DTEND:20220621T100000Z
LOCATION:E1 3 HS 002
SUMMARY:Np: Lecture H3 + Kick-Off Project
END:VEVENT
END:VCALENDAR
