BEGIN:VCALENDAR
VERSION:2.0
PRODID:-//127.0.1.1//NONSGML kigkonsult.se iCalcreator 2.41.92//
CALSCALE:GREGORIAN
METHOD:PUBLISH
UID:31326636-6461-4935-a333-393766383136
X-WR-CALNAME:Concurrent Programming Calendar
X-WR-CALDESC:Events of the lecture Concurrent Programming
X-WR-TIMEZONE:Europe/Berlin
BEGIN:VEVENT
UID:33346161-3135-4532-a639-303264616530
DTSTAMP:20260425T233005Z
DESCRIPTION:
DTSTART:20220411T121500Z
DTEND:20220411T140000Z
LOCATION:E1 3 HS 002
SUMMARY:Lecture A1
END:VEVENT
BEGIN:VEVENT
UID:32663030-6131-4238-b736-326165393363
DTSTAMP:20260425T233005Z
DESCRIPTION:
DTSTART:20220412T081500Z
DTEND:20220412T100000Z
LOCATION:E1 3 HS 002
SUMMARY:Lecture A2
END:VEVENT
BEGIN:VEVENT
UID:33613135-6663-4039-b430-383138613931
DTSTAMP:20260425T233005Z
DESCRIPTION:
DTSTART:20220425T121500Z
DTEND:20220425T140000Z
LOCATION:E1 3 HS 002
SUMMARY:Lecture B1
END:VEVENT
BEGIN:VEVENT
UID:63373238-3861-4830-b437-353861333639
DTSTAMP:20260425T233005Z
DESCRIPTION:
DTSTART:20220426T081500Z
DTEND:20220426T100000Z
LOCATION:E1 3 HS 002
SUMMARY:Lecture B2
END:VEVENT
BEGIN:VEVENT
UID:34346539-3030-4566-b538-613266633365
DTSTAMP:20260425T233005Z
DESCRIPTION:
DTSTART:20220502T121500Z
DTEND:20220502T140000Z
LOCATION:E1 3 HS 002
SUMMARY:Lecture C1
END:VEVENT
BEGIN:VEVENT
UID:35623433-3134-4833-b135-633063373232
DTSTAMP:20260425T233005Z
DESCRIPTION:
DTSTART:20220503T081500Z
DTEND:20220503T100000Z
LOCATION:E1 3 HS 002
SUMMARY:Lecture C2
END:VEVENT
BEGIN:VEVENT
UID:62303763-3263-4833-b565-643565313262
DTSTAMP:20260425T233005Z
DESCRIPTION:
DTSTART:20220509T121500Z
DTEND:20220509T140000Z
LOCATION:E1 3 HS 002
SUMMARY:Lecture D1
END:VEVENT
BEGIN:VEVENT
UID:66303263-6535-4830-b932-363762643236
DTSTAMP:20260425T233005Z
DESCRIPTION:
DTSTART:20220510T081500Z
DTEND:20220510T100000Z
LOCATION:E1 3 HS 002
SUMMARY:Lecture D2
END:VEVENT
BEGIN:VEVENT
UID:36633164-3639-4561-b235-353365656166
DTSTAMP:20260425T233005Z
DESCRIPTION:
DTSTART:20220523T121500Z
DTEND:20220523T140000Z
LOCATION:E1 3 HS 002
SUMMARY:Lecture E1
END:VEVENT
BEGIN:VEVENT
UID:39663461-3539-4631-b138-333061306533
DTSTAMP:20260425T233005Z
DESCRIPTION:
DTSTART:20220524T081500Z
DTEND:20220524T100000Z
LOCATION:E1 3 HS 002
SUMMARY:Lecture E2
END:VEVENT
BEGIN:VEVENT
UID:61656166-6164-4162-a231-313339633331
DTSTAMP:20260425T233005Z
DESCRIPTION:
DTSTART:20220530T121500Z
DTEND:20220530T140000Z
LOCATION:E1 3 HS 002
SUMMARY:Lecture F1
END:VEVENT
BEGIN:VEVENT
UID:39333261-3236-4136-a238-333961363835
DTSTAMP:20260425T233005Z
DESCRIPTION:
DTSTART:20220531T081500Z
DTEND:20220531T100000Z
LOCATION:E1 3 HS 002
SUMMARY:Lecture F2
END:VEVENT
BEGIN:VEVENT
UID:39396662-3233-4331-b362-363635306666
DTSTAMP:20260425T233005Z
DESCRIPTION:
DTSTART:20220607T081500Z
DTEND:20220607T100000Z
LOCATION:E1 3 HS 002
SUMMARY:Lecture G1
END:VEVENT
BEGIN:VEVENT
UID:39613437-3231-4337-b337-626461623964
DTSTAMP:20260425T233005Z
DESCRIPTION:
DTSTART:20220613T121500Z
DTEND:20220613T140000Z
LOCATION:E1 3 HS 002
SUMMARY:Lecture G2
END:VEVENT
BEGIN:VEVENT
UID:30303830-6561-4538-b437-363161303032
DTSTAMP:20260425T233005Z
DESCRIPTION:
DTSTART:20220614T081500Z
DTEND:20220614T100000Z
LOCATION:E1 3 HS 002
SUMMARY:Lecture H1
END:VEVENT
BEGIN:VEVENT
UID:63373034-6166-4139-b961-656464343966
DTSTAMP:20260425T233005Z
DESCRIPTION:
DTSTART:20220621T081500Z
DTEND:20220621T100000Z
LOCATION:E1 3 HS 002
SUMMARY:Lecture H3 + Kick-Off Project
END:VEVENT
END:VCALENDAR
