BEGIN:VCALENDAR
VERSION:2.0
PRODID:-//127.0.1.1//NONSGML kigkonsult.se iCalcreator 2.41.92//
CALSCALE:GREGORIAN
METHOD:PUBLISH
UID:38623532-6665-4431-a364-616533646231
X-WR-CALNAME:Concurrent Programming Calendar
X-WR-CALDESC:Events of the lecture Concurrent Programming
X-WR-TIMEZONE:Europe/Berlin
BEGIN:VEVENT
UID:32366464-3863-4136-b131-343163643833
DTSTAMP:20260425T233310Z
DESCRIPTION:
DTSTART:20220525T100000Z
DTEND:20220525T120000Z
SUMMARY:Np: Exam T
END:VEVENT
BEGIN:VEVENT
UID:38383366-3839-4561-b230-343036613465
DTSTAMP:20260425T233310Z
DESCRIPTION:
DTSTART:20220607T110000Z
DTEND:20220607T130000Z
LOCATION:SR 106 in E1 1
SUMMARY:Np: Exam Inspection T
END:VEVENT
BEGIN:VEVENT
UID:36366331-3531-4064-a330-663038353262
DTSTAMP:20260425T233310Z
DESCRIPTION:
DTSTART:20220808T120000Z
DTEND:20220808T150000Z
SUMMARY:Np: Exam A
END:VEVENT
BEGIN:VEVENT
UID:32656534-3639-4063-b062-376431643133
DTSTAMP:20260425T233310Z
DESCRIPTION:
DTSTART:20221012T080000Z
DTEND:20221012T120000Z
SUMMARY:Np: Re-Exam T & A
END:VEVENT
END:VCALENDAR
