BEGIN:VCALENDAR
VERSION:2.0
PRODID:-//127.0.1.1//NONSGML kigkonsult.se iCalcreator 2.41.92//
CALSCALE:GREGORIAN
METHOD:PUBLISH
UID:65336634-3464-4166-b436-386439393435
X-WR-CALNAME:Nebenläufige Programmierung Calendar
X-WR-CALDESC:Termine der Vorlesung Nebenläufige Programmierung
X-WR-TIMEZONE:Europe/Berlin
BEGIN:VEVENT
UID:32613337-3337-4335-b136-366464623438
DTSTAMP:20260423T174829Z
DESCRIPTION:
DTSTART:20200406T091500Z
DTEND:20200406T093000Z
LOCATION:https://dlirium.cs.uni-saarland.de/b/gre-x99-emh
SUMMARY:Np: Vorstellung Online-Angebote
END:VEVENT
BEGIN:VEVENT
UID:66366531-6537-4539-a566-643132343032
DTSTAMP:20260423T174829Z
DESCRIPTION:
DTSTART:20200406T093000Z
DTEND:20200406T103000Z
SUMMARY:Np: Office Hour
END:VEVENT
BEGIN:VEVENT
UID:39306431-6537-4263-b061-336430653139
DTSTAMP:20260423T174829Z
DESCRIPTION:
DTSTART;VALUE=DATE:20200406
DTEND;VALUE=DATE:20200407
SUMMARY:Np: Block A1
END:VEVENT
BEGIN:VEVENT
UID:61353266-6365-4335-a433-643135636638
DTSTAMP:20260423T174829Z
DESCRIPTION:Online-Sprechstunde des Dozenten\, in der Fragen zur Vorlesung 
 im aktuellen Fokus besprochen werden.
DTSTART:20200407T081500Z
DTEND:20200407T083000Z
SUMMARY:Np: Sprechstunde A1
END:VEVENT
BEGIN:VEVENT
UID:63626364-3963-4732-b136-656561303366
DTSTAMP:20260423T174829Z
DESCRIPTION:
DTSTART:20200407T083000Z
DTEND:20200407T093000Z
SUMMARY:Np: Office Hour A1
END:VEVENT
BEGIN:VEVENT
UID:65393561-3339-4264-b033-653736313132
DTSTAMP:20260423T174829Z
DESCRIPTION:
DTSTART;VALUE=DATE:20200407
DTEND;VALUE=DATE:20200408
SUMMARY:Np: Block E1
END:VEVENT
BEGIN:VEVENT
UID:38306136-3737-4362-a162-383231313663
DTSTAMP:20260423T174829Z
DESCRIPTION:Online-Sprechstunde des Dozenten\, in der Fragen zur Vorlesung 
 im aktuellen Fokus besprochen werden.
DTSTART:20200408T081500Z
DTEND:20200408T083000Z
SUMMARY:Np: Sprechstunde E1
END:VEVENT
BEGIN:VEVENT
UID:37303762-3032-4935-a530-376566656235
DTSTAMP:20260423T174829Z
DESCRIPTION:
DTSTART:20200408T083000Z
DTEND:20200408T093000Z
SUMMARY:Np: Office Hour E1
END:VEVENT
BEGIN:VEVENT
UID:34333532-6165-4366-b035-313964336436
DTSTAMP:20260423T174829Z
DESCRIPTION:
DTSTART;VALUE=DATE:20200408
DTEND;VALUE=DATE:20200409
SUMMARY:Np: Block A2
END:VEVENT
BEGIN:VEVENT
UID:64333364-6534-4164-b466-343832363862
DTSTAMP:20260423T174829Z
DESCRIPTION:Online-Sprechstunde des Dozenten\, in der Fragen zur Vorlesung 
 im aktuellen Fokus besprochen werden.
DTSTART:20200409T081500Z
DTEND:20200409T083000Z
SUMMARY:Np: Sprechstunde A2
END:VEVENT
BEGIN:VEVENT
UID:66666534-3935-4637-a338-323666356133
DTSTAMP:20260423T174829Z
DESCRIPTION:
DTSTART:20200409T083000Z
DTEND:20200409T093000Z
SUMMARY:Np: Office Hour A2
END:VEVENT
BEGIN:VEVENT
UID:39363235-3461-4233-a534-393565666463
DTSTAMP:20260423T174829Z
DESCRIPTION:
DTSTART;VALUE=DATE:20200409
DTEND;VALUE=DATE:20200410
SUMMARY:Np: Block E2
END:VEVENT
BEGIN:VEVENT
UID:37303866-6635-4265-b934-363462373731
DTSTAMP:20260423T174829Z
DESCRIPTION:Online-Sprechstunde des Dozenten\, in der Fragen zur Vorlesung 
 im aktuellen Fokus besprochen werden.
DTSTART:20200414T081500Z
DTEND:20200414T083000Z
SUMMARY:Np: Sprechstunde E2
END:VEVENT
BEGIN:VEVENT
UID:63363631-6433-4232-b838-303538663436
DTSTAMP:20260423T174829Z
DESCRIPTION:
DTSTART:20200414T083000Z
DTEND:20200414T093000Z
SUMMARY:Np: Office Hour E2
END:VEVENT
BEGIN:VEVENT
UID:63373165-3432-4130-b465-343066616539
DTSTAMP:20260423T174829Z
DESCRIPTION:
DTSTART;VALUE=DATE:20200414
DTEND;VALUE=DATE:20200415
SUMMARY:Np: Block B1
END:VEVENT
BEGIN:VEVENT
UID:30633835-6564-4263-b538-326262376633
DTSTAMP:20260423T174829Z
DESCRIPTION:Online-Sprechstunde des Dozenten\, in der Fragen zur Vorlesung 
 im aktuellen Fokus besprochen werden.
DTSTART:20200415T081500Z
DTEND:20200415T083000Z
SUMMARY:Np: Sprechstunde B1
END:VEVENT
BEGIN:VEVENT
UID:65356332-3730-4362-b933-323739666235
DTSTAMP:20260423T174829Z
DESCRIPTION:
DTSTART:20200415T083000Z
DTEND:20200415T093000Z
SUMMARY:Np: Office Hour B1
END:VEVENT
BEGIN:VEVENT
UID:39383166-3135-4032-a436-373736336439
DTSTAMP:20260423T174829Z
DESCRIPTION:
DTSTART;VALUE=DATE:20200415
DTEND;VALUE=DATE:20200416
SUMMARY:Np: Block F1
END:VEVENT
BEGIN:VEVENT
UID:37643135-6566-4935-a332-656439373036
DTSTAMP:20260423T174829Z
DESCRIPTION:Online-Sprechstunde des Dozenten\, in der Fragen zur Vorlesung 
 im aktuellen Fokus besprochen werden.
DTSTART:20200416T081500Z
DTEND:20200416T083000Z
SUMMARY:Np: Sprechstunde F1
END:VEVENT
BEGIN:VEVENT
UID:39646434-3666-4264-b736-663566353737
DTSTAMP:20260423T174829Z
DESCRIPTION:
DTSTART:20200416T083000Z
DTEND:20200416T093000Z
SUMMARY:Np: Office Hour F1
END:VEVENT
BEGIN:VEVENT
UID:36393562-3332-4839-b038-363630326338
DTSTAMP:20260423T174829Z
DESCRIPTION:
DTSTART;VALUE=DATE:20200416
DTEND;VALUE=DATE:20200417
SUMMARY:Np: Block B2
END:VEVENT
BEGIN:VEVENT
UID:62333434-6134-4262-a533-626464393532
DTSTAMP:20260423T174829Z
DESCRIPTION:Online-Sprechstunde des Dozenten\, in der Fragen zur Vorlesung 
 im aktuellen Fokus besprochen werden.
DTSTART:20200417T081500Z
DTEND:20200417T083000Z
SUMMARY:Np: Sprechstunde B2
END:VEVENT
BEGIN:VEVENT
UID:32383932-3539-4462-b564-366261613837
DTSTAMP:20260423T174829Z
DESCRIPTION:
DTSTART:20200417T083000Z
DTEND:20200417T093000Z
SUMMARY:Np: Office Hour B2
END:VEVENT
BEGIN:VEVENT
UID:64323463-6464-4537-b564-373732613134
DTSTAMP:20260423T174829Z
DESCRIPTION:
DTSTART;VALUE=DATE:20200417
DTEND;VALUE=DATE:20200418
SUMMARY:Np: Block F2
END:VEVENT
BEGIN:VEVENT
UID:64383964-6565-4433-a635-363865323832
DTSTAMP:20260423T174829Z
DESCRIPTION:Online-Sprechstunde des Dozenten\, in der Fragen zur Vorlesung 
 im aktuellen Fokus besprochen werden.
DTSTART:20200420T081500Z
DTEND:20200420T083000Z
SUMMARY:Np: Sprechstunde F2
END:VEVENT
BEGIN:VEVENT
UID:62336337-3435-4339-b264-313736613664
DTSTAMP:20260423T174829Z
DESCRIPTION:
DTSTART;VALUE=DATE:20200420
DTEND;VALUE=DATE:20200421
SUMMARY:Np: Block C1
END:VEVENT
BEGIN:VEVENT
UID:61646535-3337-4965-b130-353231353537
DTSTAMP:20260423T174829Z
DESCRIPTION:Online-Sprechstunde des Dozenten\, in der Fragen zur Vorlesung 
 im aktuellen Fokus besprochen werden.
DTSTART:20200421T081500Z
DTEND:20200421T083000Z
SUMMARY:Np: Sprechstunde C1
END:VEVENT
BEGIN:VEVENT
UID:62356331-6335-4337-b462-646262383236
DTSTAMP:20260423T174829Z
DESCRIPTION:
DTSTART:20200421T123000Z
DTEND:20200421T133000Z
SUMMARY:Np: Office Hour
END:VEVENT
BEGIN:VEVENT
UID:31313434-6465-4562-a334-613864643232
DTSTAMP:20260423T174829Z
DESCRIPTION:
DTSTART;VALUE=DATE:20200421
DTEND;VALUE=DATE:20200422
SUMMARY:Np: Block G1
END:VEVENT
BEGIN:VEVENT
UID:38363836-6435-4932-a531-643862366663
DTSTAMP:20260423T174829Z
DESCRIPTION:Online-Sprechstunde des Dozenten\, in der Fragen zur Vorlesung 
 im aktuellen Fokus besprochen werden.
DTSTART:20200422T081500Z
DTEND:20200422T083000Z
SUMMARY:Np: Sprechstunde G1
END:VEVENT
BEGIN:VEVENT
UID:63623536-3939-4063-b861-343531653934
DTSTAMP:20260423T174829Z
DESCRIPTION:
DTSTART;VALUE=DATE:20200422
DTEND;VALUE=DATE:20200423
SUMMARY:Np: Block C2
END:VEVENT
BEGIN:VEVENT
UID:33653331-3434-4537-a466-346335636562
DTSTAMP:20260423T174829Z
DESCRIPTION:Online-Sprechstunde des Dozenten\, in der Fragen zur Vorlesung 
 im aktuellen Fokus besprochen werden.
DTSTART:20200423T081500Z
DTEND:20200423T083000Z
SUMMARY:Np: Sprechstunde C2
END:VEVENT
BEGIN:VEVENT
UID:63376336-6661-4264-b061-616333313962
DTSTAMP:20260423T174829Z
DESCRIPTION:
DTSTART;VALUE=DATE:20200423
DTEND;VALUE=DATE:20200424
SUMMARY:Np: Block G2
END:VEVENT
BEGIN:VEVENT
UID:30663065-3133-4865-b635-376664653961
DTSTAMP:20260423T174829Z
DESCRIPTION:Online-Sprechstunde des Dozenten\, in der Fragen zur Vorlesung 
 im aktuellen Fokus besprochen werden.
DTSTART:20200424T081500Z
DTEND:20200424T083000Z
SUMMARY:Np: Sprechstunde G2
END:VEVENT
BEGIN:VEVENT
UID:30353737-6563-4837-b162-386262363235
DTSTAMP:20260423T174829Z
DESCRIPTION:
DTSTART:20200424T083000Z
DTEND:20200424T093000Z
SUMMARY:Np: Office Hour
END:VEVENT
BEGIN:VEVENT
UID:35396631-6631-4932-b337-643935633936
DTSTAMP:20260423T174829Z
DESCRIPTION:
DTSTART;VALUE=DATE:20200424
DTEND;VALUE=DATE:20200425
SUMMARY:Np: Block D1
END:VEVENT
BEGIN:VEVENT
UID:39323536-3130-4935-b161-356439613565
DTSTAMP:20260423T174829Z
DESCRIPTION:Online-Sprechstunde des Dozenten\, in der Fragen zur Vorlesung 
 im aktuellen Fokus besprochen werden.
DTSTART:20200427T081500Z
DTEND:20200427T083000Z
SUMMARY:Np: Sprechstunde D1
END:VEVENT
BEGIN:VEVENT
UID:34653966-3138-4563-b339-656465326436
DTSTAMP:20260423T174829Z
DESCRIPTION:
DTSTART;VALUE=DATE:20200427
DTEND;VALUE=DATE:20200428
SUMMARY:Np: Block H1
END:VEVENT
BEGIN:VEVENT
UID:34633236-6537-4632-a565-633731363934
DTSTAMP:20260423T174829Z
DESCRIPTION:Online-Sprechstunde des Dozenten\, in der Fragen zur Vorlesung 
 im aktuellen Fokus besprochen werden.
DTSTART:20200428T081500Z
DTEND:20200428T083000Z
SUMMARY:Np: Sprechstunde H1
END:VEVENT
BEGIN:VEVENT
UID:66633737-3632-4137-a237-333430323763
DTSTAMP:20260423T174829Z
DESCRIPTION:
DTSTART:20200428T123000Z
DTEND:20200428T133000Z
SUMMARY:Np: Office Hour
END:VEVENT
BEGIN:VEVENT
UID:62623734-3163-4930-b961-653430636633
DTSTAMP:20260423T174829Z
DESCRIPTION:
DTSTART;VALUE=DATE:20200428
DTEND;VALUE=DATE:20200429
SUMMARY:Np: Block D2
END:VEVENT
BEGIN:VEVENT
UID:30353339-6130-4165-a234-653434366534
DTSTAMP:20260423T174829Z
DESCRIPTION:Online-Sprechstunde des Dozenten\, in der Fragen zur Vorlesung 
 im aktuellen Fokus besprochen werden.
DTSTART:20200429T081500Z
DTEND:20200429T083000Z
SUMMARY:Np: Sprechstunde D2
END:VEVENT
BEGIN:VEVENT
UID:35373261-6165-4035-b533-623636383938
DTSTAMP:20260423T174829Z
DESCRIPTION:
DTSTART;VALUE=DATE:20200429
DTEND;VALUE=DATE:20200430
SUMMARY:Np: Block H23
END:VEVENT
BEGIN:VEVENT
UID:65623463-3136-4266-b339-663261373734
DTSTAMP:20260423T174829Z
DESCRIPTION:Online-Sprechstunde des Dozenten\, in der Fragen zur Vorlesung 
 im aktuellen Fokus besprochen werden.
DTSTART:20200430T081500Z
DTEND:20200430T083000Z
SUMMARY:Np: Sprechstunde H23
END:VEVENT
BEGIN:VEVENT
UID:65366332-3565-4132-a531-343136343039
DTSTAMP:20260423T174829Z
DESCRIPTION:
DTSTART:20200430T083000Z
DTEND:20200430T093000Z
SUMMARY:Np: Office Hour
END:VEVENT
BEGIN:VEVENT
UID:64656663-3337-4431-b465-366239373361
DTSTAMP:20260423T174829Z
DESCRIPTION:
DTSTART:20200504T120000Z
DTEND:20200504T120000Z
SUMMARY:Np: Video-Material A
END:VEVENT
BEGIN:VEVENT
UID:37663964-3837-4634-b362-646231623565
DTSTAMP:20260423T174829Z
DESCRIPTION:
DTSTART:20200504T120000Z
DTEND:20200504T130000Z
SUMMARY:Np: Kick-Off-Vorlesung
END:VEVENT
BEGIN:VEVENT
UID:62666535-6530-4737-b639-383162323465
DTSTAMP:20260423T174829Z
DESCRIPTION:Sprechstunde des Dozenten
DTSTART:20200505T081500Z
DTEND:20200505T083000Z
SUMMARY:Np: Proffice Hour A
END:VEVENT
BEGIN:VEVENT
UID:32346466-3662-4330-b832-336438363836
DTSTAMP:20260423T174829Z
DESCRIPTION:
DTSTART:20200507T101500Z
DTEND:20200507T114500Z
SUMMARY:Np: Office Hour
END:VEVENT
BEGIN:VEVENT
UID:30656562-3062-4934-a262-386264663764
DTSTAMP:20260423T174829Z
DESCRIPTION:
DTSTART:20200511T081500Z
DTEND:20200511T094500Z
SUMMARY:Np: Office Hour
END:VEVENT
BEGIN:VEVENT
UID:39366465-3930-4164-a666-313532373566
DTSTAMP:20260423T174829Z
DESCRIPTION:
DTSTART:20200511T120000Z
DTEND:20200511T120000Z
SUMMARY:Np: Video-Material B
END:VEVENT
BEGIN:VEVENT
UID:63663933-6630-4430-a666-383533633733
DTSTAMP:20260423T174829Z
DESCRIPTION:Sprechstunde des Dozenten
DTSTART:20200512T081500Z
DTEND:20200512T083000Z
SUMMARY:Np: Proffice Hour B
END:VEVENT
BEGIN:VEVENT
UID:64393563-3666-4262-b530-383438623363
DTSTAMP:20260423T174829Z
DESCRIPTION:
DTSTART:20200512T091500Z
DTEND:20200512T104500Z
SUMMARY:Np: Office Hour
END:VEVENT
BEGIN:VEVENT
UID:32303464-3262-4234-b532-633532393730
DTSTAMP:20260423T174829Z
DESCRIPTION:
DTSTART:20200512T215959Z
DTEND:20200512T215959Z
SUMMARY:Np: Abgabe Übungsblatt A (früh)
END:VEVENT
BEGIN:VEVENT
UID:31393366-3731-4233-a434-356536386466
DTSTAMP:20260423T174829Z
DESCRIPTION:
DTSTART:20200513T061500Z
DTEND:20200513T080000Z
SUMMARY:Np: Tutorium A
END:VEVENT
BEGIN:VEVENT
UID:65383339-6233-4630-b131-366230393931
DTSTAMP:20260423T174829Z
DESCRIPTION:
DTSTART:20200513T081500Z
DTEND:20200513T100000Z
SUMMARY:Np: Tutorium A
END:VEVENT
BEGIN:VEVENT
UID:61376661-6537-4634-b734-313765663436
DTSTAMP:20260423T174829Z
DESCRIPTION:
DTSTART:20200514T101500Z
DTEND:20200514T114500Z
SUMMARY:Np: Office Hour
END:VEVENT
BEGIN:VEVENT
UID:62386537-3233-4563-b631-376233393564
DTSTAMP:20260423T174829Z
DESCRIPTION:
DTSTART:20200514T215959Z
DTEND:20200514T215959Z
SUMMARY:Np: Abgabe Übungsblatt A (spät)
END:VEVENT
BEGIN:VEVENT
UID:39383736-3730-4063-b532-323066613335
DTSTAMP:20260423T174829Z
DESCRIPTION:
DTSTART:20200518T081500Z
DTEND:20200518T094500Z
SUMMARY:Np: Office Hour
END:VEVENT
BEGIN:VEVENT
UID:62383133-3265-4164-a563-653433363664
DTSTAMP:20260423T174829Z
DESCRIPTION:
DTSTART:20200518T120000Z
DTEND:20200518T120000Z
SUMMARY:Np: Video-Material C
END:VEVENT
BEGIN:VEVENT
UID:38333465-3263-4432-b737-373937383163
DTSTAMP:20260423T174829Z
DESCRIPTION:Sprechstunde des Dozenten
DTSTART:20200519T081500Z
DTEND:20200519T083000Z
SUMMARY:Np: Proffice Hour C
END:VEVENT
BEGIN:VEVENT
UID:31383633-6238-4332-b235-346461643964
DTSTAMP:20260423T174829Z
DESCRIPTION:
DTSTART:20200519T091500Z
DTEND:20200519T104500Z
SUMMARY:Np: Office Hour
END:VEVENT
BEGIN:VEVENT
UID:65636230-6164-4263-b166-623731303835
DTSTAMP:20260423T174829Z
DESCRIPTION:
DTSTART:20200519T215900Z
DTEND:20200519T215900Z
SUMMARY:Np: Abgabe Übungsblatt B (früh)
END:VEVENT
BEGIN:VEVENT
UID:30373566-6166-4437-a630-383032376232
DTSTAMP:20260423T174829Z
DESCRIPTION:
DTSTART:20200520T061500Z
DTEND:20200520T080000Z
SUMMARY:Np: Tutorium B
END:VEVENT
BEGIN:VEVENT
UID:31633966-3738-4663-a132-646162626637
DTSTAMP:20260423T174829Z
DESCRIPTION:
DTSTART:20200520T081500Z
DTEND:20200520T100000Z
SUMMARY:Np: Tutorium B
END:VEVENT
BEGIN:VEVENT
UID:39383764-3539-4938-b535-643464653733
DTSTAMP:20260423T174829Z
DESCRIPTION:
DTSTART:20200521T215900Z
DTEND:20200521T215900Z
SUMMARY:Np: Abgabe Übungsblatt B (spät)
END:VEVENT
BEGIN:VEVENT
UID:63353662-6665-4530-a361-343538396664
DTSTAMP:20260423T174829Z
DESCRIPTION:
DTSTART:20200525T081500Z
DTEND:20200525T094500Z
SUMMARY:Np: Office Hour
END:VEVENT
BEGIN:VEVENT
UID:36303433-3638-4566-a263-363064646361
DTSTAMP:20260423T174829Z
DESCRIPTION:
DTSTART:20200525T120000Z
DTEND:20200525T120000Z
SUMMARY:Np: Video-Material D
END:VEVENT
BEGIN:VEVENT
UID:31386262-3534-4836-b866-653536313636
DTSTAMP:20260423T174829Z
DESCRIPTION:Sprechstunde des Dozenten
DTSTART:20200526T081500Z
DTEND:20200526T083000Z
SUMMARY:Np: Proffice Hour D
END:VEVENT
BEGIN:VEVENT
UID:37386463-3737-4064-b431-613730653461
DTSTAMP:20260423T174829Z
DESCRIPTION:
DTSTART:20200526T091500Z
DTEND:20200526T104500Z
SUMMARY:Np: Office Hour
END:VEVENT
BEGIN:VEVENT
UID:34343337-3564-4134-a661-663833643331
DTSTAMP:20260423T174829Z
DESCRIPTION:
DTSTART:20200526T215900Z
DTEND:20200526T215900Z
SUMMARY:Np: Abgabe Übungsblatt C (früh)
END:VEVENT
BEGIN:VEVENT
UID:36633864-6666-4964-b262-633435326532
DTSTAMP:20260423T174829Z
DESCRIPTION:
DTSTART:20200527T061500Z
DTEND:20200527T080000Z
SUMMARY:Np: Tutorium C
END:VEVENT
BEGIN:VEVENT
UID:64323162-3338-4665-b732-363465633166
DTSTAMP:20260423T174829Z
DESCRIPTION:
DTSTART:20200527T081500Z
DTEND:20200527T100000Z
SUMMARY:Np: Tutorium C
END:VEVENT
BEGIN:VEVENT
UID:65373364-3164-4430-b330-343934363138
DTSTAMP:20260423T174829Z
DESCRIPTION:
DTSTART:20200528T101500Z
DTEND:20200528T114500Z
SUMMARY:Np: Office Hour
END:VEVENT
BEGIN:VEVENT
UID:62306465-3432-4262-a565-346238396438
DTSTAMP:20260423T174829Z
DESCRIPTION:
DTSTART:20200528T215900Z
DTEND:20200528T215900Z
SUMMARY:Np: Abgabe Übungsblatt C (spät)
END:VEVENT
BEGIN:VEVENT
UID:36383461-3964-4634-b237-393333343731
DTSTAMP:20260423T174829Z
DESCRIPTION:
DTSTART:20200602T091500Z
DTEND:20200602T104500Z
SUMMARY:Np: Office Hour
END:VEVENT
BEGIN:VEVENT
UID:36653937-3363-4764-a536-646433663239
DTSTAMP:20260423T174829Z
DESCRIPTION:
DTSTART:20200602T215900Z
DTEND:20200602T215900Z
SUMMARY:Np: Abgabe Übungsblatt D (früh)
END:VEVENT
BEGIN:VEVENT
UID:61623332-3635-4135-a332-336136323333
DTSTAMP:20260423T174829Z
DESCRIPTION:
DTSTART:20200603T061500Z
DTEND:20200603T080000Z
SUMMARY:Np: Tutorium D
END:VEVENT
BEGIN:VEVENT
UID:61343836-6632-4463-b932-643761633637
DTSTAMP:20260423T174829Z
DESCRIPTION:
DTSTART:20200603T081500Z
DTEND:20200603T100000Z
SUMMARY:Np: Tutorium D
END:VEVENT
BEGIN:VEVENT
UID:65303431-3539-4634-b366-306561336538
DTSTAMP:20260423T174829Z
DESCRIPTION:
DTSTART:20200604T101500Z
DTEND:20200604T114500Z
SUMMARY:Np: Office Hour
END:VEVENT
BEGIN:VEVENT
UID:61326433-3332-4331-b565-346566633134
DTSTAMP:20260423T174829Z
DESCRIPTION:
DTSTART:20200604T215900Z
DTEND:20200604T215900Z
SUMMARY:Np: Abgabe Übungsblatt D (spät)
END:VEVENT
BEGIN:VEVENT
UID:37653866-6566-4263-b536-316331633731
DTSTAMP:20260423T174829Z
DESCRIPTION:
DTSTART:20200608T081500Z
DTEND:20200608T094500Z
SUMMARY:Np: Office Hour
END:VEVENT
BEGIN:VEVENT
UID:39613230-3836-4433-b363-383462666331
DTSTAMP:20260423T174829Z
DESCRIPTION:
DTSTART:20200608T120000Z
DTEND:20200608T120000Z
SUMMARY:Np: Video-Material E
END:VEVENT
BEGIN:VEVENT
UID:34353733-3664-4032-b561-303462666565
DTSTAMP:20260423T174829Z
DESCRIPTION:Sprechstunde des Dozenten
DTSTART:20200609T081500Z
DTEND:20200609T083000Z
SUMMARY:Np: Proffice Hour E
END:VEVENT
BEGIN:VEVENT
UID:64623562-3362-4563-b161-653161653364
DTSTAMP:20260423T174829Z
DESCRIPTION:
DTSTART:20200609T091500Z
DTEND:20200609T104500Z
SUMMARY:Np: Office Hour
END:VEVENT
BEGIN:VEVENT
UID:66396234-6562-4433-b261-303237393162
DTSTAMP:20260423T174829Z
DESCRIPTION:
DTSTART:20200615T081500Z
DTEND:20200615T094500Z
SUMMARY:Np: Office Hour
END:VEVENT
BEGIN:VEVENT
UID:61326338-6564-4563-b661-633331303736
DTSTAMP:20260423T174829Z
DESCRIPTION:
DTSTART:20200615T120000Z
DTEND:20200615T120000Z
SUMMARY:Np: Video-Material F
END:VEVENT
BEGIN:VEVENT
UID:66356539-6263-4839-b935-343734613532
DTSTAMP:20260423T174829Z
DESCRIPTION:Sprechstunde des Dozenten
DTSTART:20200616T081500Z
DTEND:20200616T083000Z
SUMMARY:Np: Proffice Hour F
END:VEVENT
BEGIN:VEVENT
UID:32353833-6531-4139-b364-333132633634
DTSTAMP:20260423T174829Z
DESCRIPTION:
DTSTART:20200616T091500Z
DTEND:20200616T104500Z
SUMMARY:Np: Office Hour
END:VEVENT
BEGIN:VEVENT
UID:61623639-3733-4464-b661-663234623837
DTSTAMP:20260423T174829Z
DESCRIPTION:
DTSTART:20200616T215900Z
DTEND:20200616T215900Z
SUMMARY:Np: Abgabe Übungsblatt E (früh)
END:VEVENT
BEGIN:VEVENT
UID:66363366-6663-4164-b261-613164366564
DTSTAMP:20260423T174829Z
DESCRIPTION:
DTSTART:20200617T061500Z
DTEND:20200617T080000Z
SUMMARY:Np: Tutorium E
END:VEVENT
BEGIN:VEVENT
UID:63653831-3539-4366-b163-313165353233
DTSTAMP:20260423T174829Z
DESCRIPTION:
DTSTART:20200617T081500Z
DTEND:20200617T100000Z
SUMMARY:Np: Tutorium E
END:VEVENT
BEGIN:VEVENT
UID:33646632-6261-4461-b139-653864646533
DTSTAMP:20260423T174829Z
DESCRIPTION:
DTSTART:20200618T101500Z
DTEND:20200618T114500Z
SUMMARY:Np: Office Hour
END:VEVENT
BEGIN:VEVENT
UID:62616464-3835-4263-a361-386661656164
DTSTAMP:20260423T174829Z
DESCRIPTION:
DTSTART:20200618T215900Z
DTEND:20200618T215900Z
SUMMARY:Np: Abgabe Übungsblatt E (spät)
END:VEVENT
BEGIN:VEVENT
UID:37313562-3431-4563-a564-383761313436
DTSTAMP:20260423T174829Z
DESCRIPTION:
DTSTART:20200622T081500Z
DTEND:20200622T094500Z
SUMMARY:Np: Office Hour
END:VEVENT
BEGIN:VEVENT
UID:65643331-6532-4537-b332-323435306234
DTSTAMP:20260423T174829Z
DESCRIPTION:
DTSTART:20200622T120000Z
DTEND:20200622T120000Z
SUMMARY:Np: Video-Material G
END:VEVENT
BEGIN:VEVENT
UID:64306634-3664-4337-b239-376135393365
DTSTAMP:20260423T174829Z
DESCRIPTION:Sprechstunde des Dozenten
DTSTART:20200623T081500Z
DTEND:20200623T083000Z
SUMMARY:Np: Proffice Hour G
END:VEVENT
BEGIN:VEVENT
UID:32666636-3834-4361-a439-633939653139
DTSTAMP:20260423T174829Z
DESCRIPTION:
DTSTART:20200623T091500Z
DTEND:20200623T104500Z
SUMMARY:Np: Office Hour
END:VEVENT
BEGIN:VEVENT
UID:66346438-6631-4664-a530-363165633265
DTSTAMP:20260423T174829Z
DESCRIPTION:
DTSTART:20200623T215900Z
DTEND:20200623T215900Z
SUMMARY:Np: Abgabe Übungsblatt F (früh)
END:VEVENT
BEGIN:VEVENT
UID:36363635-3638-4863-a163-613964313134
DTSTAMP:20260423T174829Z
DESCRIPTION:
DTSTART:20200624T061500Z
DTEND:20200624T080000Z
SUMMARY:Np: Tutorium F
END:VEVENT
BEGIN:VEVENT
UID:30313566-6236-4932-a139-646466613334
DTSTAMP:20260423T174829Z
DESCRIPTION:
DTSTART:20200624T081500Z
DTEND:20200624T100000Z
SUMMARY:Np: Tutorium F
END:VEVENT
BEGIN:VEVENT
UID:39616434-3438-4236-b130-616339386430
DTSTAMP:20260423T174829Z
DESCRIPTION:
DTSTART:20200625T101500Z
DTEND:20200625T114500Z
SUMMARY:Np: Office Hour
END:VEVENT
BEGIN:VEVENT
UID:30343166-3363-4662-b266-666161343739
DTSTAMP:20260423T174829Z
DESCRIPTION:
DTSTART:20200625T215900Z
DTEND:20200625T215900Z
SUMMARY:Np: Abgabe Übungsblatt F (spät)
END:VEVENT
BEGIN:VEVENT
UID:62643962-3633-4734-b563-663763653763
DTSTAMP:20260423T174829Z
DESCRIPTION:
DTSTART:20200629T081500Z
DTEND:20200629T094500Z
SUMMARY:Np: Office Hour
END:VEVENT
BEGIN:VEVENT
UID:39383534-6339-4662-b264-336566633565
DTSTAMP:20260423T174829Z
DESCRIPTION:
DTSTART:20200629T120000Z
DTEND:20200629T120000Z
SUMMARY:Np: Video-Material H
END:VEVENT
BEGIN:VEVENT
UID:39633936-3039-4430-b032-383663383539
DTSTAMP:20260423T174829Z
DESCRIPTION:Sprechstunde des Dozenten
DTSTART:20200630T081500Z
DTEND:20200630T083000Z
SUMMARY:Np: Proffice Hour H
END:VEVENT
BEGIN:VEVENT
UID:37393535-6433-4632-a231-373965653739
DTSTAMP:20260423T174829Z
DESCRIPTION:
DTSTART:20200630T091500Z
DTEND:20200630T104500Z
SUMMARY:Np: Office Hour
END:VEVENT
BEGIN:VEVENT
UID:39323966-6233-4437-b439-353966313137
DTSTAMP:20260423T174829Z
DESCRIPTION:
DTSTART:20200630T215900Z
DTEND:20200630T215900Z
SUMMARY:Np: Abgabe Übungsblatt G (früh)
END:VEVENT
BEGIN:VEVENT
UID:32663532-6566-4565-a361-653064366233
DTSTAMP:20260423T174829Z
DESCRIPTION:
DTSTART:20200701T061500Z
DTEND:20200701T080000Z
SUMMARY:Np: Tutorium G
END:VEVENT
BEGIN:VEVENT
UID:37633937-6435-4363-b064-623433386235
DTSTAMP:20260423T174829Z
DESCRIPTION:
DTSTART:20200701T081500Z
DTEND:20200701T100000Z
SUMMARY:Np: Tutorium G
END:VEVENT
BEGIN:VEVENT
UID:62636237-3366-4431-a665-653166316261
DTSTAMP:20260423T174829Z
DESCRIPTION:
DTSTART:20200702T101500Z
DTEND:20200702T114500Z
SUMMARY:Np: Office Hour
END:VEVENT
BEGIN:VEVENT
UID:35343638-3637-4136-b638-376530653565
DTSTAMP:20260423T174829Z
DESCRIPTION:
DTSTART:20200702T215900Z
DTEND:20200702T215900Z
SUMMARY:Np: Abgabe Übungsblatt G (spät)
END:VEVENT
BEGIN:VEVENT
UID:63326530-6464-4336-b464-383961656433
DTSTAMP:20260423T174829Z
DESCRIPTION:
DTSTART:20200707T215900Z
DTEND:20200707T215900Z
SUMMARY:Np: Abgabe Übungsblatt H
END:VEVENT
BEGIN:VEVENT
UID:63653332-6164-4865-a364-623637326630
DTSTAMP:20260423T174829Z
DESCRIPTION:
DTSTART:20200710T215900Z
DTEND:20200710T215900Z
SUMMARY:Np: Meilenstein A
END:VEVENT
BEGIN:VEVENT
UID:36663164-3766-4163-b939-366133363939
DTSTAMP:20260423T174829Z
DESCRIPTION:
DTSTART:20200803T081500Z
DTEND:20200803T094500Z
LOCATION:Discord
SUMMARY:Np: Office Hour
END:VEVENT
BEGIN:VEVENT
UID:38363963-3732-4038-b964-323533343833
DTSTAMP:20260423T174829Z
DESCRIPTION:
DTSTART:20200805T121500Z
DTEND:20200805T134500Z
LOCATION:Discord
SUMMARY:Np: Office Hour
END:VEVENT
BEGIN:VEVENT
UID:65393636-3762-4939-b431-616633323031
DTSTAMP:20260423T174829Z
DESCRIPTION:
DTSTART:20200806T070000Z
DTEND:20200806T110000Z
SUMMARY:Np: Klausur T & A
END:VEVENT
BEGIN:VEVENT
UID:39646361-3539-4237-b333-363633653461
DTSTAMP:20260423T174829Z
DESCRIPTION:
DTSTART:20200817T215900Z
DTEND:20200817T215900Z
SUMMARY:Np: Meilenstein Ω
END:VEVENT
BEGIN:VEVENT
UID:61353335-3033-4133-b066-663961373230
DTSTAMP:20260423T174829Z
DESCRIPTION:
DTSTART;VALUE=DATE:20200901
DTEND;VALUE=DATE:20200902
SUMMARY:Np: Projektabnahme
END:VEVENT
BEGIN:VEVENT
UID:31346631-3830-4362-b031-303830613539
DTSTAMP:20260423T174829Z
DESCRIPTION:
DTSTART;VALUE=DATE:20200902
DTEND;VALUE=DATE:20200903
SUMMARY:Np: Projektabnahme
END:VEVENT
BEGIN:VEVENT
UID:61383539-3036-4233-a438-386261663636
DTSTAMP:20260423T174829Z
DESCRIPTION:
DTSTART:20200904T060000Z
DTEND:20200904T110000Z
LOCATION:E1 3\, HS 002
SUMMARY:Np: Klausureinsicht Hauptklausuren
END:VEVENT
BEGIN:VEVENT
UID:62333734-6162-4361-a465-366333366261
DTSTAMP:20260423T174829Z
DESCRIPTION:
DTSTART:20201012T140000Z
DTEND:20201012T150000Z
LOCATION:Discord
SUMMARY:Np: Office Hour
END:VEVENT
BEGIN:VEVENT
UID:34386664-3766-4365-a531-613930343663
DTSTAMP:20260423T174829Z
DESCRIPTION:
DTSTART:20201014T070000Z
DTEND:20201014T110000Z
SUMMARY:Np: Nachklausuren
END:VEVENT
BEGIN:VEVENT
UID:38376538-3630-4131-b964-643661386165
DTSTAMP:20260423T174829Z
DESCRIPTION:
DTSTART:20201018T215900Z
DTEND:20201018T215900Z
SUMMARY:Np: Ende der Nacharbeit
END:VEVENT
BEGIN:VEVENT
UID:63313664-3738-4938-b562-623134623236
DTSTAMP:20260423T174829Z
DESCRIPTION:
DTSTART:20210226T080000Z
DTEND:20210226T120000Z
LOCATION:E2 2\, GHH
SUMMARY:Np: Klausureinsicht Nachklausuren
END:VEVENT
END:VCALENDAR
