BEGIN:VCALENDAR
VERSION:2.0
PRODID:-//127.0.1.1//NONSGML kigkonsult.se iCalcreator 2.41.92//
CALSCALE:GREGORIAN
METHOD:PUBLISH
UID:31653736-3866-4134-b761-623964393336
X-WR-CALNAME:Nebenläufige Programmierung Calendar
X-WR-CALDESC:Termine der Vorlesung Nebenläufige Programmierung
X-WR-TIMEZONE:Europe/Berlin
BEGIN:VEVENT
UID:63396332-6635-4466-b766-343137623363
DTSTAMP:20260423T162833Z
DESCRIPTION:
DTSTART;VALUE=DATE:20200407
DTEND;VALUE=DATE:20200408
SUMMARY:Np: Block E1
END:VEVENT
BEGIN:VEVENT
UID:30303633-3132-4330-b033-623438326135
DTSTAMP:20260423T162833Z
DESCRIPTION:
DTSTART;VALUE=DATE:20200409
DTEND;VALUE=DATE:20200410
SUMMARY:Np: Block E2
END:VEVENT
BEGIN:VEVENT
UID:30333436-3564-4637-a230-313135323163
DTSTAMP:20260423T162833Z
DESCRIPTION:
DTSTART;VALUE=DATE:20200415
DTEND;VALUE=DATE:20200416
SUMMARY:Np: Block F1
END:VEVENT
BEGIN:VEVENT
UID:36343666-6134-4738-b834-313335343461
DTSTAMP:20260423T162833Z
DESCRIPTION:
DTSTART;VALUE=DATE:20200417
DTEND;VALUE=DATE:20200418
SUMMARY:Np: Block F2
END:VEVENT
BEGIN:VEVENT
UID:32393930-3136-4763-a366-323437396465
DTSTAMP:20260423T162833Z
DESCRIPTION:
DTSTART;VALUE=DATE:20200421
DTEND;VALUE=DATE:20200422
SUMMARY:Np: Block G1
END:VEVENT
BEGIN:VEVENT
UID:62613761-6433-4339-b533-313834373463
DTSTAMP:20260423T162833Z
DESCRIPTION:
DTSTART;VALUE=DATE:20200423
DTEND;VALUE=DATE:20200424
SUMMARY:Np: Block G2
END:VEVENT
BEGIN:VEVENT
UID:65656565-3839-4139-b634-376335316536
DTSTAMP:20260423T162833Z
DESCRIPTION:
DTSTART;VALUE=DATE:20200427
DTEND;VALUE=DATE:20200428
SUMMARY:Np: Block H1
END:VEVENT
BEGIN:VEVENT
UID:61363861-3737-4431-b437-633338643734
DTSTAMP:20260423T162833Z
DESCRIPTION:
DTSTART;VALUE=DATE:20200429
DTEND;VALUE=DATE:20200430
SUMMARY:Np: Block H23
END:VEVENT
END:VCALENDAR
