BEGIN:VCALENDAR
VERSION:2.0
PRODID:-//127.0.1.1//NONSGML kigkonsult.se iCalcreator 2.41.92//
CALSCALE:GREGORIAN
METHOD:PUBLISH
UID:36616138-3639-4166-b032-623261376331
X-WR-CALNAME:Nebenläufige Programmierung Calendar
X-WR-CALDESC:Termine der Vorlesung Nebenläufige Programmierung
X-WR-TIMEZONE:Europe/Berlin
BEGIN:VEVENT
UID:62376639-3363-4966-b165-653639613264
DTSTAMP:20260421T122245Z
DESCRIPTION:
DTSTART:20200406T093000Z
DTEND:20200406T103000Z
SUMMARY:Office Hour
END:VEVENT
BEGIN:VEVENT
UID:66643335-3263-4639-b463-383964303161
DTSTAMP:20260421T122245Z
DESCRIPTION:Online-Sprechstunde des Dozenten\, in der Fragen zur Vorlesung 
 im aktuellen Fokus besprochen werden.
DTSTART:20200407T081500Z
DTEND:20200407T083000Z
SUMMARY:Sprechstunde A1
END:VEVENT
BEGIN:VEVENT
UID:31653361-3337-4262-b434-393139366662
DTSTAMP:20260421T122245Z
DESCRIPTION:
DTSTART:20200407T083000Z
DTEND:20200407T093000Z
SUMMARY:Office Hour A1
END:VEVENT
BEGIN:VEVENT
UID:35386164-3439-4864-a130-353663386565
DTSTAMP:20260421T122245Z
DESCRIPTION:Online-Sprechstunde des Dozenten\, in der Fragen zur Vorlesung 
 im aktuellen Fokus besprochen werden.
DTSTART:20200408T081500Z
DTEND:20200408T083000Z
SUMMARY:Sprechstunde E1
END:VEVENT
BEGIN:VEVENT
UID:63376132-3234-4363-b034-623766386231
DTSTAMP:20260421T122245Z
DESCRIPTION:
DTSTART:20200408T083000Z
DTEND:20200408T093000Z
SUMMARY:Office Hour E1
END:VEVENT
BEGIN:VEVENT
UID:35643464-3037-4662-b761-646339663238
DTSTAMP:20260421T122245Z
DESCRIPTION:Online-Sprechstunde des Dozenten\, in der Fragen zur Vorlesung 
 im aktuellen Fokus besprochen werden.
DTSTART:20200409T081500Z
DTEND:20200409T083000Z
SUMMARY:Sprechstunde A2
END:VEVENT
BEGIN:VEVENT
UID:36353538-6564-4738-a231-623130643665
DTSTAMP:20260421T122245Z
DESCRIPTION:
DTSTART:20200409T083000Z
DTEND:20200409T093000Z
SUMMARY:Office Hour A2
END:VEVENT
BEGIN:VEVENT
UID:31666137-6338-4462-b534-326163636134
DTSTAMP:20260421T122245Z
DESCRIPTION:Online-Sprechstunde des Dozenten\, in der Fragen zur Vorlesung 
 im aktuellen Fokus besprochen werden.
DTSTART:20200414T081500Z
DTEND:20200414T083000Z
SUMMARY:Sprechstunde E2
END:VEVENT
BEGIN:VEVENT
UID:32663663-3566-4065-a631-666134633839
DTSTAMP:20260421T122245Z
DESCRIPTION:
DTSTART:20200414T083000Z
DTEND:20200414T093000Z
SUMMARY:Office Hour E2
END:VEVENT
BEGIN:VEVENT
UID:61383163-3762-4734-a261-356637316136
DTSTAMP:20260421T122245Z
DESCRIPTION:Online-Sprechstunde des Dozenten\, in der Fragen zur Vorlesung 
 im aktuellen Fokus besprochen werden.
DTSTART:20200415T081500Z
DTEND:20200415T083000Z
SUMMARY:Sprechstunde B1
END:VEVENT
BEGIN:VEVENT
UID:30633465-6434-4463-b365-613536623235
DTSTAMP:20260421T122245Z
DESCRIPTION:
DTSTART:20200415T083000Z
DTEND:20200415T093000Z
SUMMARY:Office Hour B1
END:VEVENT
BEGIN:VEVENT
UID:39303839-6636-4564-b866-656135343235
DTSTAMP:20260421T122245Z
DESCRIPTION:Online-Sprechstunde des Dozenten\, in der Fragen zur Vorlesung 
 im aktuellen Fokus besprochen werden.
DTSTART:20200416T081500Z
DTEND:20200416T083000Z
SUMMARY:Sprechstunde F1
END:VEVENT
BEGIN:VEVENT
UID:61633133-3934-4135-a638-313739623736
DTSTAMP:20260421T122245Z
DESCRIPTION:
DTSTART:20200416T083000Z
DTEND:20200416T093000Z
SUMMARY:Office Hour F1
END:VEVENT
BEGIN:VEVENT
UID:33333033-6334-4332-a131-303366323637
DTSTAMP:20260421T122245Z
DESCRIPTION:Online-Sprechstunde des Dozenten\, in der Fragen zur Vorlesung 
 im aktuellen Fokus besprochen werden.
DTSTART:20200417T081500Z
DTEND:20200417T083000Z
SUMMARY:Sprechstunde B2
END:VEVENT
BEGIN:VEVENT
UID:64616331-3862-4839-b762-653339313839
DTSTAMP:20260421T122245Z
DESCRIPTION:
DTSTART:20200417T083000Z
DTEND:20200417T093000Z
SUMMARY:Office Hour B2
END:VEVENT
BEGIN:VEVENT
UID:38343064-3536-4239-a663-383534363233
DTSTAMP:20260421T122245Z
DESCRIPTION:Online-Sprechstunde des Dozenten\, in der Fragen zur Vorlesung 
 im aktuellen Fokus besprochen werden.
DTSTART:20200420T081500Z
DTEND:20200420T083000Z
SUMMARY:Sprechstunde F2
END:VEVENT
BEGIN:VEVENT
UID:34656530-6266-4334-b038-333238333735
DTSTAMP:20260421T122245Z
DESCRIPTION:Online-Sprechstunde des Dozenten\, in der Fragen zur Vorlesung 
 im aktuellen Fokus besprochen werden.
DTSTART:20200421T081500Z
DTEND:20200421T083000Z
SUMMARY:Sprechstunde C1
END:VEVENT
BEGIN:VEVENT
UID:32356566-6432-4437-b764-383738366338
DTSTAMP:20260421T122245Z
DESCRIPTION:
DTSTART:20200421T123000Z
DTEND:20200421T133000Z
SUMMARY:Office Hour
END:VEVENT
BEGIN:VEVENT
UID:37646135-6364-4634-b036-646561653965
DTSTAMP:20260421T122245Z
DESCRIPTION:Online-Sprechstunde des Dozenten\, in der Fragen zur Vorlesung 
 im aktuellen Fokus besprochen werden.
DTSTART:20200422T081500Z
DTEND:20200422T083000Z
SUMMARY:Sprechstunde G1
END:VEVENT
BEGIN:VEVENT
UID:33643933-3865-4764-a237-616536373564
DTSTAMP:20260421T122245Z
DESCRIPTION:Online-Sprechstunde des Dozenten\, in der Fragen zur Vorlesung 
 im aktuellen Fokus besprochen werden.
DTSTART:20200423T081500Z
DTEND:20200423T083000Z
SUMMARY:Sprechstunde C2
END:VEVENT
BEGIN:VEVENT
UID:39663838-3938-4462-a562-306664393762
DTSTAMP:20260421T122245Z
DESCRIPTION:Online-Sprechstunde des Dozenten\, in der Fragen zur Vorlesung 
 im aktuellen Fokus besprochen werden.
DTSTART:20200424T081500Z
DTEND:20200424T083000Z
SUMMARY:Sprechstunde G2
END:VEVENT
BEGIN:VEVENT
UID:36396131-3333-4561-b930-383937653332
DTSTAMP:20260421T122245Z
DESCRIPTION:
DTSTART:20200424T083000Z
DTEND:20200424T093000Z
SUMMARY:Office Hour
END:VEVENT
BEGIN:VEVENT
UID:66333038-6663-4735-a637-343465366461
DTSTAMP:20260421T122245Z
DESCRIPTION:Online-Sprechstunde des Dozenten\, in der Fragen zur Vorlesung 
 im aktuellen Fokus besprochen werden.
DTSTART:20200427T081500Z
DTEND:20200427T083000Z
SUMMARY:Sprechstunde D1
END:VEVENT
BEGIN:VEVENT
UID:30643832-6238-4362-b864-366438623733
DTSTAMP:20260421T122245Z
DESCRIPTION:Online-Sprechstunde des Dozenten\, in der Fragen zur Vorlesung 
 im aktuellen Fokus besprochen werden.
DTSTART:20200428T081500Z
DTEND:20200428T083000Z
SUMMARY:Sprechstunde H1
END:VEVENT
BEGIN:VEVENT
UID:30313631-3936-4364-b366-353963313937
DTSTAMP:20260421T122245Z
DESCRIPTION:
DTSTART:20200428T123000Z
DTEND:20200428T133000Z
SUMMARY:Office Hour
END:VEVENT
BEGIN:VEVENT
UID:35336438-6538-4261-a162-386331343461
DTSTAMP:20260421T122245Z
DESCRIPTION:Online-Sprechstunde des Dozenten\, in der Fragen zur Vorlesung 
 im aktuellen Fokus besprochen werden.
DTSTART:20200429T081500Z
DTEND:20200429T083000Z
SUMMARY:Sprechstunde D2
END:VEVENT
BEGIN:VEVENT
UID:63623334-3839-4863-a334-653661366161
DTSTAMP:20260421T122245Z
DESCRIPTION:Online-Sprechstunde des Dozenten\, in der Fragen zur Vorlesung 
 im aktuellen Fokus besprochen werden.
DTSTART:20200430T081500Z
DTEND:20200430T083000Z
SUMMARY:Sprechstunde H23
END:VEVENT
BEGIN:VEVENT
UID:31616234-6437-4131-b331-373161383035
DTSTAMP:20260421T122245Z
DESCRIPTION:
DTSTART:20200430T083000Z
DTEND:20200430T093000Z
SUMMARY:Office Hour
END:VEVENT
BEGIN:VEVENT
UID:64356361-3366-4730-b063-653436643531
DTSTAMP:20260421T122245Z
DESCRIPTION:
DTSTART:20200507T101500Z
DTEND:20200507T114500Z
SUMMARY:Office Hour
END:VEVENT
BEGIN:VEVENT
UID:32303764-6536-4530-b834-326535343761
DTSTAMP:20260421T122245Z
DESCRIPTION:
DTSTART:20200511T081500Z
DTEND:20200511T094500Z
SUMMARY:Office Hour
END:VEVENT
BEGIN:VEVENT
UID:66346139-3338-4463-b333-313161373932
DTSTAMP:20260421T122245Z
DESCRIPTION:
DTSTART:20200512T091500Z
DTEND:20200512T104500Z
SUMMARY:Office Hour
END:VEVENT
BEGIN:VEVENT
UID:30653237-3438-4336-b235-396436393337
DTSTAMP:20260421T122245Z
DESCRIPTION:
DTSTART:20200514T101500Z
DTEND:20200514T114500Z
SUMMARY:Office Hour
END:VEVENT
BEGIN:VEVENT
UID:64336130-3930-4339-b638-303536643330
DTSTAMP:20260421T122245Z
DESCRIPTION:
DTSTART:20200518T081500Z
DTEND:20200518T094500Z
SUMMARY:Office Hour
END:VEVENT
BEGIN:VEVENT
UID:65343363-6264-4935-b662-333264656137
DTSTAMP:20260421T122245Z
DESCRIPTION:
DTSTART:20200519T091500Z
DTEND:20200519T104500Z
SUMMARY:Office Hour
END:VEVENT
BEGIN:VEVENT
UID:31373763-6537-4832-a330-336636353837
DTSTAMP:20260421T122245Z
DESCRIPTION:
DTSTART:20200525T081500Z
DTEND:20200525T094500Z
SUMMARY:Office Hour
END:VEVENT
BEGIN:VEVENT
UID:66333663-6262-4835-b934-666131663733
DTSTAMP:20260421T122245Z
DESCRIPTION:
DTSTART:20200526T091500Z
DTEND:20200526T104500Z
SUMMARY:Office Hour
END:VEVENT
BEGIN:VEVENT
UID:65383936-3736-4232-a664-386335323362
DTSTAMP:20260421T122245Z
DESCRIPTION:
DTSTART:20200528T101500Z
DTEND:20200528T114500Z
SUMMARY:Office Hour
END:VEVENT
BEGIN:VEVENT
UID:36633135-3136-4032-b939-303966616534
DTSTAMP:20260421T122245Z
DESCRIPTION:
DTSTART:20200602T091500Z
DTEND:20200602T104500Z
SUMMARY:Office Hour
END:VEVENT
BEGIN:VEVENT
UID:36623665-6538-4263-a362-383865626666
DTSTAMP:20260421T122245Z
DESCRIPTION:
DTSTART:20200604T101500Z
DTEND:20200604T114500Z
SUMMARY:Office Hour
END:VEVENT
BEGIN:VEVENT
UID:36613736-6165-4363-b263-656561353836
DTSTAMP:20260421T122245Z
DESCRIPTION:
DTSTART:20200608T081500Z
DTEND:20200608T094500Z
SUMMARY:Office Hour
END:VEVENT
BEGIN:VEVENT
UID:32303330-3031-4532-b864-653033343464
DTSTAMP:20260421T122245Z
DESCRIPTION:
DTSTART:20200609T091500Z
DTEND:20200609T104500Z
SUMMARY:Office Hour
END:VEVENT
BEGIN:VEVENT
UID:65323662-3732-4462-b264-616634316135
DTSTAMP:20260421T122245Z
DESCRIPTION:
DTSTART:20200615T081500Z
DTEND:20200615T094500Z
SUMMARY:Office Hour
END:VEVENT
BEGIN:VEVENT
UID:66396233-3633-4339-a636-343263616634
DTSTAMP:20260421T122245Z
DESCRIPTION:
DTSTART:20200616T091500Z
DTEND:20200616T104500Z
SUMMARY:Office Hour
END:VEVENT
BEGIN:VEVENT
UID:39636131-6538-4233-a238-386365333838
DTSTAMP:20260421T122245Z
DESCRIPTION:
DTSTART:20200618T101500Z
DTEND:20200618T114500Z
SUMMARY:Office Hour
END:VEVENT
BEGIN:VEVENT
UID:34303964-3833-4365-a134-346535386463
DTSTAMP:20260421T122245Z
DESCRIPTION:
DTSTART:20200622T081500Z
DTEND:20200622T094500Z
SUMMARY:Office Hour
END:VEVENT
BEGIN:VEVENT
UID:37386264-6433-4465-b836-323165343539
DTSTAMP:20260421T122245Z
DESCRIPTION:
DTSTART:20200623T091500Z
DTEND:20200623T104500Z
SUMMARY:Office Hour
END:VEVENT
BEGIN:VEVENT
UID:32316233-3237-4437-a231-386466636231
DTSTAMP:20260421T122245Z
DESCRIPTION:
DTSTART:20200625T101500Z
DTEND:20200625T114500Z
SUMMARY:Office Hour
END:VEVENT
BEGIN:VEVENT
UID:65643465-3663-4631-a263-303937613961
DTSTAMP:20260421T122245Z
DESCRIPTION:
DTSTART:20200629T081500Z
DTEND:20200629T094500Z
SUMMARY:Office Hour
END:VEVENT
BEGIN:VEVENT
UID:38343866-3461-4063-b334-326438363938
DTSTAMP:20260421T122245Z
DESCRIPTION:
DTSTART:20200630T091500Z
DTEND:20200630T104500Z
SUMMARY:Office Hour
END:VEVENT
BEGIN:VEVENT
UID:66373561-3738-4264-b032-303639316636
DTSTAMP:20260421T122245Z
DESCRIPTION:
DTSTART:20200702T101500Z
DTEND:20200702T114500Z
SUMMARY:Office Hour
END:VEVENT
BEGIN:VEVENT
UID:32383730-6539-4966-b834-353166613130
DTSTAMP:20260421T122245Z
DESCRIPTION:
DTSTART:20200803T081500Z
DTEND:20200803T094500Z
LOCATION:Discord
SUMMARY:Office Hour
END:VEVENT
BEGIN:VEVENT
UID:35623730-3361-4330-b263-323534366164
DTSTAMP:20260421T122245Z
DESCRIPTION:
DTSTART:20200805T121500Z
DTEND:20200805T134500Z
LOCATION:Discord
SUMMARY:Office Hour
END:VEVENT
BEGIN:VEVENT
UID:37643064-3436-4261-b563-666166363935
DTSTAMP:20260421T122245Z
DESCRIPTION:
DTSTART:20201012T140000Z
DTEND:20201012T150000Z
LOCATION:Discord
SUMMARY:Office Hour
END:VEVENT
END:VCALENDAR
