BEGIN:VCALENDAR
VERSION:2.0
PRODID:-//127.0.1.1//NONSGML kigkonsult.se iCalcreator 2.41.92//
CALSCALE:GREGORIAN
METHOD:PUBLISH
UID:61353434-3466-4636-b033-376365333364
X-WR-CALNAME:Nebenläufige Programmierung Calendar
X-WR-CALDESC:Termine der Vorlesung Nebenläufige Programmierung
X-WR-TIMEZONE:Europe/Berlin
BEGIN:VEVENT
UID:34656661-3335-4866-b161-383234326464
DTSTAMP:20260422T134718Z
DESCRIPTION:
DTSTART:20200512T215959Z
DTEND:20200512T215959Z
SUMMARY:Np: Abgabe Übungsblatt A (früh)
END:VEVENT
BEGIN:VEVENT
UID:63343862-6432-4433-b066-376637356439
DTSTAMP:20260422T134718Z
DESCRIPTION:
DTSTART:20200514T215959Z
DTEND:20200514T215959Z
SUMMARY:Np: Abgabe Übungsblatt A (spät)
END:VEVENT
BEGIN:VEVENT
UID:31623134-3464-4266-a234-343934393665
DTSTAMP:20260422T134718Z
DESCRIPTION:
DTSTART:20200519T215900Z
DTEND:20200519T215900Z
SUMMARY:Np: Abgabe Übungsblatt B (früh)
END:VEVENT
BEGIN:VEVENT
UID:36303831-3931-4137-a439-396366656236
DTSTAMP:20260422T134718Z
DESCRIPTION:
DTSTART:20200521T215900Z
DTEND:20200521T215900Z
SUMMARY:Np: Abgabe Übungsblatt B (spät)
END:VEVENT
BEGIN:VEVENT
UID:61343537-3562-4637-b764-323730353162
DTSTAMP:20260422T134718Z
DESCRIPTION:
DTSTART:20200526T215900Z
DTEND:20200526T215900Z
SUMMARY:Np: Abgabe Übungsblatt C (früh)
END:VEVENT
BEGIN:VEVENT
UID:63373338-3533-4462-b763-633063373430
DTSTAMP:20260422T134718Z
DESCRIPTION:
DTSTART:20200528T215900Z
DTEND:20200528T215900Z
SUMMARY:Np: Abgabe Übungsblatt C (spät)
END:VEVENT
BEGIN:VEVENT
UID:62663738-6663-4362-b136-643230303232
DTSTAMP:20260422T134718Z
DESCRIPTION:
DTSTART:20200602T215900Z
DTEND:20200602T215900Z
SUMMARY:Np: Abgabe Übungsblatt D (früh)
END:VEVENT
BEGIN:VEVENT
UID:64656634-3132-4361-b539-663761663234
DTSTAMP:20260422T134718Z
DESCRIPTION:
DTSTART:20200604T215900Z
DTEND:20200604T215900Z
SUMMARY:Np: Abgabe Übungsblatt D (spät)
END:VEVENT
BEGIN:VEVENT
UID:34356665-3732-4234-a134-353539646236
DTSTAMP:20260422T134718Z
DESCRIPTION:
DTSTART:20200616T215900Z
DTEND:20200616T215900Z
SUMMARY:Np: Abgabe Übungsblatt E (früh)
END:VEVENT
BEGIN:VEVENT
UID:30333663-3837-4431-a131-616363346536
DTSTAMP:20260422T134718Z
DESCRIPTION:
DTSTART:20200618T215900Z
DTEND:20200618T215900Z
SUMMARY:Np: Abgabe Übungsblatt E (spät)
END:VEVENT
BEGIN:VEVENT
UID:37613964-3630-4262-a439-356538643830
DTSTAMP:20260422T134718Z
DESCRIPTION:
DTSTART:20200623T215900Z
DTEND:20200623T215900Z
SUMMARY:Np: Abgabe Übungsblatt F (früh)
END:VEVENT
BEGIN:VEVENT
UID:31343963-3862-4764-b464-313837363166
DTSTAMP:20260422T134718Z
DESCRIPTION:
DTSTART:20200625T215900Z
DTEND:20200625T215900Z
SUMMARY:Np: Abgabe Übungsblatt F (spät)
END:VEVENT
BEGIN:VEVENT
UID:62373463-6530-4235-b439-653639656238
DTSTAMP:20260422T134718Z
DESCRIPTION:
DTSTART:20200630T215900Z
DTEND:20200630T215900Z
SUMMARY:Np: Abgabe Übungsblatt G (früh)
END:VEVENT
BEGIN:VEVENT
UID:62616231-6665-4331-b232-626163356533
DTSTAMP:20260422T134718Z
DESCRIPTION:
DTSTART:20200702T215900Z
DTEND:20200702T215900Z
SUMMARY:Np: Abgabe Übungsblatt G (spät)
END:VEVENT
BEGIN:VEVENT
UID:63363365-6361-4438-a462-356162323436
DTSTAMP:20260422T134718Z
DESCRIPTION:
DTSTART:20200707T215900Z
DTEND:20200707T215900Z
SUMMARY:Np: Abgabe Übungsblatt H
END:VEVENT
END:VCALENDAR
