BEGIN:VCALENDAR
VERSION:2.0
PRODID:-//127.0.1.1//NONSGML kigkonsult.se iCalcreator 2.41.92//
CALSCALE:GREGORIAN
METHOD:PUBLISH
UID:35363661-6236-4338-a162-363039316163
X-WR-CALNAME:Nebenläufige Programmierung Calendar
X-WR-CALDESC:Termine der Vorlesung Nebenläufige Programmierung
X-WR-TIMEZONE:Europe/Berlin
BEGIN:VEVENT
UID:39363061-6461-4263-a133-616464623536
DTSTAMP:20260420T212600Z
DESCRIPTION:
DTSTART:20200513T061500Z
DTEND:20200513T080000Z
SUMMARY:Tutorium A
END:VEVENT
BEGIN:VEVENT
UID:61343631-6630-4438-b635-383965383064
DTSTAMP:20260420T212600Z
DESCRIPTION:
DTSTART:20200513T081500Z
DTEND:20200513T100000Z
SUMMARY:Tutorium A
END:VEVENT
BEGIN:VEVENT
UID:62376336-3334-4639-a232-653065343034
DTSTAMP:20260420T212600Z
DESCRIPTION:
DTSTART:20200520T061500Z
DTEND:20200520T080000Z
SUMMARY:Tutorium B
END:VEVENT
BEGIN:VEVENT
UID:64323034-3534-4335-b665-626530376132
DTSTAMP:20260420T212600Z
DESCRIPTION:
DTSTART:20200520T081500Z
DTEND:20200520T100000Z
SUMMARY:Tutorium B
END:VEVENT
BEGIN:VEVENT
UID:65396262-6433-4133-b536-316537633033
DTSTAMP:20260420T212600Z
DESCRIPTION:
DTSTART:20200527T061500Z
DTEND:20200527T080000Z
SUMMARY:Tutorium C
END:VEVENT
BEGIN:VEVENT
UID:63313935-6335-4839-a235-656336373031
DTSTAMP:20260420T212600Z
DESCRIPTION:
DTSTART:20200527T081500Z
DTEND:20200527T100000Z
SUMMARY:Tutorium C
END:VEVENT
BEGIN:VEVENT
UID:30363730-3134-4239-b235-303162656464
DTSTAMP:20260420T212600Z
DESCRIPTION:
DTSTART:20200603T061500Z
DTEND:20200603T080000Z
SUMMARY:Tutorium D
END:VEVENT
BEGIN:VEVENT
UID:35306138-3330-4766-a636-333635643233
DTSTAMP:20260420T212600Z
DESCRIPTION:
DTSTART:20200603T081500Z
DTEND:20200603T100000Z
SUMMARY:Tutorium D
END:VEVENT
BEGIN:VEVENT
UID:33633964-3738-4835-b839-366563383234
DTSTAMP:20260420T212600Z
DESCRIPTION:
DTSTART:20200617T061500Z
DTEND:20200617T080000Z
SUMMARY:Tutorium E
END:VEVENT
BEGIN:VEVENT
UID:63643130-3662-4562-b632-323265396537
DTSTAMP:20260420T212600Z
DESCRIPTION:
DTSTART:20200617T081500Z
DTEND:20200617T100000Z
SUMMARY:Tutorium E
END:VEVENT
BEGIN:VEVENT
UID:35373861-3463-4665-a530-326139323634
DTSTAMP:20260420T212600Z
DESCRIPTION:
DTSTART:20200624T061500Z
DTEND:20200624T080000Z
SUMMARY:Tutorium F
END:VEVENT
BEGIN:VEVENT
UID:36306335-3835-4938-b763-326439396565
DTSTAMP:20260420T212600Z
DESCRIPTION:
DTSTART:20200624T081500Z
DTEND:20200624T100000Z
SUMMARY:Tutorium F
END:VEVENT
BEGIN:VEVENT
UID:39326264-3032-4561-b764-633334383636
DTSTAMP:20260420T212600Z
DESCRIPTION:
DTSTART:20200701T061500Z
DTEND:20200701T080000Z
SUMMARY:Tutorium G
END:VEVENT
BEGIN:VEVENT
UID:31623461-6237-4364-b432-616661613836
DTSTAMP:20260420T212600Z
DESCRIPTION:
DTSTART:20200701T081500Z
DTEND:20200701T100000Z
SUMMARY:Tutorium G
END:VEVENT
END:VCALENDAR
