BEGIN:VCALENDAR
VERSION:2.0
PRODID:-//127.0.1.1//NONSGML kigkonsult.se iCalcreator 2.41.92//
CALSCALE:GREGORIAN
METHOD:PUBLISH
UID:65653763-3666-4164-b337-353933663833
X-WR-CALNAME:Nebenläufige Programmierung Calendar
X-WR-CALDESC:Termine der Vorlesung Nebenläufige Programmierung
X-WR-TIMEZONE:Europe/Berlin
BEGIN:VEVENT
UID:30366230-3263-4439-b361-313238353564
DTSTAMP:20260422T000427Z
DESCRIPTION:
DTSTART:20200406T091500Z
DTEND:20200406T093000Z
LOCATION:https://dlirium.cs.uni-saarland.de/b/gre-x99-emh
SUMMARY:Vorstellung Online-Angebote
END:VEVENT
BEGIN:VEVENT
UID:64353064-3034-4435-a231-346439313664
DTSTAMP:20260422T000427Z
DESCRIPTION:
DTSTART:20200504T120000Z
DTEND:20200504T130000Z
SUMMARY:Kick-Off-Vorlesung
END:VEVENT
BEGIN:VEVENT
UID:30343365-3435-4634-b839-613662353366
DTSTAMP:20260422T000427Z
DESCRIPTION:
DTSTART:20200504T120000Z
DTEND:20200504T120000Z
SUMMARY:Video-Material A
END:VEVENT
BEGIN:VEVENT
UID:36616237-6264-4230-a563-316533626630
DTSTAMP:20260422T000427Z
DESCRIPTION:Sprechstunde des Dozenten
DTSTART:20200505T081500Z
DTEND:20200505T083000Z
SUMMARY:Proffice Hour A
END:VEVENT
BEGIN:VEVENT
UID:38636530-6366-4061-b935-373536613534
DTSTAMP:20260422T000427Z
DESCRIPTION:
DTSTART:20200511T120000Z
DTEND:20200511T120000Z
SUMMARY:Video-Material B
END:VEVENT
BEGIN:VEVENT
UID:33643630-6638-4361-b136-613431373937
DTSTAMP:20260422T000427Z
DESCRIPTION:Sprechstunde des Dozenten
DTSTART:20200512T081500Z
DTEND:20200512T083000Z
SUMMARY:Proffice Hour B
END:VEVENT
BEGIN:VEVENT
UID:36623830-6136-4536-b235-366662336462
DTSTAMP:20260422T000427Z
DESCRIPTION:
DTSTART:20200518T120000Z
DTEND:20200518T120000Z
SUMMARY:Video-Material C
END:VEVENT
BEGIN:VEVENT
UID:34356237-3734-4331-b232-343739383762
DTSTAMP:20260422T000427Z
DESCRIPTION:Sprechstunde des Dozenten
DTSTART:20200519T081500Z
DTEND:20200519T083000Z
SUMMARY:Proffice Hour C
END:VEVENT
BEGIN:VEVENT
UID:63653966-3262-4334-a261-303231356637
DTSTAMP:20260422T000427Z
DESCRIPTION:
DTSTART:20200525T120000Z
DTEND:20200525T120000Z
SUMMARY:Video-Material D
END:VEVENT
BEGIN:VEVENT
UID:32623635-6138-4430-b230-393965383136
DTSTAMP:20260422T000427Z
DESCRIPTION:Sprechstunde des Dozenten
DTSTART:20200526T081500Z
DTEND:20200526T083000Z
SUMMARY:Proffice Hour D
END:VEVENT
BEGIN:VEVENT
UID:62303238-3363-4638-b731-396562386165
DTSTAMP:20260422T000427Z
DESCRIPTION:
DTSTART:20200608T120000Z
DTEND:20200608T120000Z
SUMMARY:Video-Material E
END:VEVENT
BEGIN:VEVENT
UID:31623363-3964-4261-a338-616234383039
DTSTAMP:20260422T000427Z
DESCRIPTION:Sprechstunde des Dozenten
DTSTART:20200609T081500Z
DTEND:20200609T083000Z
SUMMARY:Proffice Hour E
END:VEVENT
BEGIN:VEVENT
UID:37336161-3634-4063-b938-356138373564
DTSTAMP:20260422T000427Z
DESCRIPTION:
DTSTART:20200615T120000Z
DTEND:20200615T120000Z
SUMMARY:Video-Material F
END:VEVENT
BEGIN:VEVENT
UID:38316530-3736-4133-b365-376533633262
DTSTAMP:20260422T000427Z
DESCRIPTION:Sprechstunde des Dozenten
DTSTART:20200616T081500Z
DTEND:20200616T083000Z
SUMMARY:Proffice Hour F
END:VEVENT
BEGIN:VEVENT
UID:32363136-3235-4661-b533-343431393435
DTSTAMP:20260422T000427Z
DESCRIPTION:
DTSTART:20200622T120000Z
DTEND:20200622T120000Z
SUMMARY:Video-Material G
END:VEVENT
BEGIN:VEVENT
UID:62353764-6334-4539-a230-343032363031
DTSTAMP:20260422T000427Z
DESCRIPTION:Sprechstunde des Dozenten
DTSTART:20200623T081500Z
DTEND:20200623T083000Z
SUMMARY:Proffice Hour G
END:VEVENT
BEGIN:VEVENT
UID:64396337-3463-4765-a137-643639343364
DTSTAMP:20260422T000427Z
DESCRIPTION:
DTSTART:20200629T120000Z
DTEND:20200629T120000Z
SUMMARY:Video-Material H
END:VEVENT
BEGIN:VEVENT
UID:33333963-3765-4561-a330-306231333335
DTSTAMP:20260422T000427Z
DESCRIPTION:Sprechstunde des Dozenten
DTSTART:20200630T081500Z
DTEND:20200630T083000Z
SUMMARY:Proffice Hour H
END:VEVENT
END:VCALENDAR
