BEGIN:VCALENDAR
VERSION:2.0
PRODID:-//127.0.1.1//NONSGML kigkonsult.se iCalcreator 2.41.92//
CALSCALE:GREGORIAN
METHOD:PUBLISH
UID:62326663-6437-4237-b235-343439623636
X-WR-CALNAME:Ethics for Nerds Calendar
X-WR-CALDESC:Events of the lecture Ethics for Nerds
X-WR-TIMEZONE:Europe/Berlin
BEGIN:VEVENT
UID:38333061-3161-4738-b838-333538646462
DTSTAMP:20260420T141923Z
DESCRIPTION:
DTSTART:20190909T070000Z
DTEND:20190909T083000Z
LOCATION:E1.3\, HS003
SUMMARY:Ethics: Lecture
END:VEVENT
BEGIN:VEVENT
UID:31386138-6365-4332-a163-636464353563
DTSTAMP:20260420T141923Z
DESCRIPTION:
DTSTART:20190909T083000Z
DTEND:20190909T100000Z
LOCATION:E1.3\, HS003
SUMMARY:Ethics: Practice
END:VEVENT
BEGIN:VEVENT
UID:38616665-3561-4437-a263-623662353438
DTSTAMP:20260420T141923Z
DESCRIPTION:
DTSTART:20190909T120000Z
DTEND:20190909T133000Z
LOCATION:E1.3\, HS003
SUMMARY:Ethics: Lecture
END:VEVENT
BEGIN:VEVENT
UID:31373131-6431-4233-a461-323134393464
DTSTAMP:20260420T141923Z
DESCRIPTION:
DTSTART:20190909T133000Z
DTEND:20190909T150000Z
LOCATION:E1.3\, HS003
SUMMARY:Ethics: Practice
END:VEVENT
BEGIN:VEVENT
UID:37653065-6531-4833-b965-333734353866
DTSTAMP:20260420T141923Z
DESCRIPTION:
DTSTART:20190910T070000Z
DTEND:20190910T083000Z
LOCATION:E1.3\, HS003
SUMMARY:Ethics: Lecture
END:VEVENT
BEGIN:VEVENT
UID:35623032-3963-4062-b331-373434363736
DTSTAMP:20260420T141923Z
DESCRIPTION:
DTSTART:20190910T083000Z
DTEND:20190910T100000Z
LOCATION:E1.3\, HS003
SUMMARY:Ethics: Practice
END:VEVENT
BEGIN:VEVENT
UID:64343237-6333-4034-a662-363934323536
DTSTAMP:20260420T141923Z
DESCRIPTION:
DTSTART:20190910T120000Z
DTEND:20190910T133000Z
LOCATION:E1.3\, HS003
SUMMARY:Ethics: Lecture
END:VEVENT
BEGIN:VEVENT
UID:32353231-3161-4432-b837-333035383332
DTSTAMP:20260420T141923Z
DESCRIPTION:
DTSTART:20190910T133000Z
DTEND:20190910T150000Z
LOCATION:E1.3\, HS003
SUMMARY:Ethics: Practice
END:VEVENT
BEGIN:VEVENT
UID:33333962-6561-4265-b935-353531393265
DTSTAMP:20260420T141923Z
DESCRIPTION:
DTSTART:20190911T070000Z
DTEND:20190911T083000Z
LOCATION:E1.3\, HS003
SUMMARY:Ethics: Lecture
END:VEVENT
BEGIN:VEVENT
UID:39306337-6461-4165-b439-656465306565
DTSTAMP:20260420T141923Z
DESCRIPTION:
DTSTART:20190911T083000Z
DTEND:20190911T100000Z
LOCATION:E1.3\, HS003
SUMMARY:Ethics: Practice
END:VEVENT
BEGIN:VEVENT
UID:63356263-6263-4833-a637-323734303766
DTSTAMP:20260420T141923Z
DESCRIPTION:
DTSTART:20190911T120000Z
DTEND:20190911T133000Z
LOCATION:E1.3\, HS003
SUMMARY:Ethics: Lecture
END:VEVENT
BEGIN:VEVENT
UID:62383966-6638-4030-b338-313465636239
DTSTAMP:20260420T141923Z
DESCRIPTION:
DTSTART:20190911T133000Z
DTEND:20190911T150000Z
LOCATION:E1.3\, HS003
SUMMARY:Ethics: Practice
END:VEVENT
BEGIN:VEVENT
UID:30313037-3764-4766-a463-646265626431
DTSTAMP:20260420T141923Z
DESCRIPTION:
DTSTART:20190912T070000Z
DTEND:20190912T083000Z
LOCATION:E1.3\, HS003
SUMMARY:Ethics: Lecture
END:VEVENT
BEGIN:VEVENT
UID:35666136-6465-4233-b364-336562316466
DTSTAMP:20260420T141923Z
DESCRIPTION:
DTSTART:20190912T083000Z
DTEND:20190912T100000Z
LOCATION:E1.3\, HS003
SUMMARY:Ethics: Practice
END:VEVENT
BEGIN:VEVENT
UID:33333731-3062-4337-b362-343366393937
DTSTAMP:20260420T141923Z
DESCRIPTION:
DTSTART:20190912T120000Z
DTEND:20190912T133000Z
LOCATION:E1.3\, HS003
SUMMARY:Ethics: Lecture
END:VEVENT
BEGIN:VEVENT
UID:30396237-3636-4134-b932-316335633030
DTSTAMP:20260420T141923Z
DESCRIPTION:
DTSTART:20190912T133000Z
DTEND:20190912T150000Z
LOCATION:E1.3\, HS003
SUMMARY:Ethics: Practice
END:VEVENT
BEGIN:VEVENT
UID:66663237-3131-4530-a636-626635326435
DTSTAMP:20260420T141923Z
DESCRIPTION:To deepen our discussions from the lecture\, we offer this volu
 ntary event where you can just drop by and get into discussions with your 
 fellow students or the team.
DTSTART:20190912T170000Z
DTEND:20190912T200000Z
LOCATION:E1.1\, room 407
SUMMARY:Ethics: Nerd Night
END:VEVENT
BEGIN:VEVENT
UID:65313137-3764-4063-a662-303436323836
DTSTAMP:20260420T141923Z
DESCRIPTION:
DTSTART:20190916T070000Z
DTEND:20190916T083000Z
LOCATION:E1.3\, HS003
SUMMARY:Ethics: Lecture
END:VEVENT
BEGIN:VEVENT
UID:66383062-3165-4165-b865-353631396335
DTSTAMP:20260420T141923Z
DESCRIPTION:
DTSTART:20190916T083000Z
DTEND:20190916T100000Z
LOCATION:E1.3\, HS003
SUMMARY:Ethics: Practice
END:VEVENT
BEGIN:VEVENT
UID:61373830-3164-4466-a162-396261343465
DTSTAMP:20260420T141923Z
DESCRIPTION:
DTSTART:20190916T120000Z
DTEND:20190916T133000Z
LOCATION:E1.3\, HS003
SUMMARY:Ethics: Lecture
END:VEVENT
BEGIN:VEVENT
UID:66303338-3734-4435-a230-353561613162
DTSTAMP:20260420T141923Z
DESCRIPTION:
DTSTART:20190916T133000Z
DTEND:20190916T150000Z
LOCATION:E1.3\, HS003
SUMMARY:Ethics: Practice
END:VEVENT
BEGIN:VEVENT
UID:65306663-6362-4434-b335-333830313435
DTSTAMP:20260420T141923Z
DESCRIPTION:
DTSTART:20190917T070000Z
DTEND:20190917T083000Z
LOCATION:E1.3\, HS003
SUMMARY:Ethics: Lecture
END:VEVENT
BEGIN:VEVENT
UID:31316462-3334-4538-b161-316664656664
DTSTAMP:20260420T141923Z
DESCRIPTION:
DTSTART:20190917T083000Z
DTEND:20190917T100000Z
LOCATION:E1.3\, HS003
SUMMARY:Ethics: Practice
END:VEVENT
BEGIN:VEVENT
UID:34633164-3361-4339-b537-303864333364
DTSTAMP:20260420T141923Z
DESCRIPTION:
DTSTART:20190917T120000Z
DTEND:20190917T133000Z
LOCATION:E1.3\, HS003
SUMMARY:Ethics: Lecture
END:VEVENT
BEGIN:VEVENT
UID:34363831-6239-4261-b662-323864633336
DTSTAMP:20260420T141923Z
DESCRIPTION:
DTSTART:20190917T133000Z
DTEND:20190917T150000Z
LOCATION:E1.3\, HS003
SUMMARY:Ethics: Practice
END:VEVENT
BEGIN:VEVENT
UID:66613739-6164-4461-b665-363632326134
DTSTAMP:20260420T141923Z
DESCRIPTION:
DTSTART:20190918T070000Z
DTEND:20190918T083000Z
LOCATION:E1.3\, HS003
SUMMARY:Ethics: Lecture
END:VEVENT
BEGIN:VEVENT
UID:33343164-3137-4665-a363-386331646462
DTSTAMP:20260420T141923Z
DESCRIPTION:
DTSTART:20190918T083000Z
DTEND:20190918T100000Z
LOCATION:E1.3\, HS003
SUMMARY:Ethics: Practice
END:VEVENT
BEGIN:VEVENT
UID:65316635-6435-4339-a231-353763383532
DTSTAMP:20260420T141923Z
DESCRIPTION:
DTSTART:20190918T120000Z
DTEND:20190918T133000Z
LOCATION:E1.3\, HS003
SUMMARY:Ethics: Lecture
END:VEVENT
BEGIN:VEVENT
UID:31363434-6437-4461-a431-663435633834
DTSTAMP:20260420T141923Z
DESCRIPTION:
DTSTART:20190918T133000Z
DTEND:20190918T150000Z
LOCATION:E1.3\, HS003
SUMMARY:Ethics: Practice
END:VEVENT
BEGIN:VEVENT
UID:37346335-6435-4338-b861-353361666433
DTSTAMP:20260420T141923Z
DESCRIPTION:
DTSTART:20190919T070000Z
DTEND:20190919T083000Z
LOCATION:E1.3\, HS003
SUMMARY:Ethics: Lecture
END:VEVENT
BEGIN:VEVENT
UID:32633030-3065-4238-b662-383664613836
DTSTAMP:20260420T141923Z
DESCRIPTION:
DTSTART:20190919T083000Z
DTEND:20190919T100000Z
LOCATION:E1.3\, HS003
SUMMARY:Ethics: Practice
END:VEVENT
BEGIN:VEVENT
UID:63356136-6164-4966-a635-356234663061
DTSTAMP:20260420T141923Z
DESCRIPTION:
DTSTART:20190919T120000Z
DTEND:20190919T133000Z
LOCATION:E1.3\, HS003
SUMMARY:Ethics: Lecture
END:VEVENT
BEGIN:VEVENT
UID:61313131-6532-4061-a132-643333313765
DTSTAMP:20260420T141923Z
DESCRIPTION:
DTSTART:20190919T133000Z
DTEND:20190919T150000Z
LOCATION:E1.3\, HS003
SUMMARY:Ethics: Practice
END:VEVENT
BEGIN:VEVENT
UID:35663030-6235-4561-a361-306563396336
DTSTAMP:20260420T141923Z
DESCRIPTION:To deepen our discussions from the lecture\, we offer this volu
 ntary event where you can just drop by and get into discussions with your 
 fellow students or the team.
DTSTART:20190919T170000Z
DTEND:20190919T200000Z
LOCATION:E1.1\, room 407
SUMMARY:Ethics: Nerd Night
END:VEVENT
BEGIN:VEVENT
UID:63303637-3233-4765-a335-386530373239
DTSTAMP:20260420T141923Z
DESCRIPTION:
DTSTART:20190923T070000Z
DTEND:20190923T083000Z
LOCATION:E1.3\, HS003
SUMMARY:Ethics: Lecture
END:VEVENT
BEGIN:VEVENT
UID:34313536-6538-4666-a531-306265633664
DTSTAMP:20260420T141923Z
DESCRIPTION:
DTSTART:20190923T083000Z
DTEND:20190923T100000Z
LOCATION:E1.3\, HS003
SUMMARY:Ethics: Practice
END:VEVENT
BEGIN:VEVENT
UID:37383037-3536-4435-b363-636437333865
DTSTAMP:20260420T141923Z
DESCRIPTION:
DTSTART:20190923T120000Z
DTEND:20190923T133000Z
LOCATION:E1.3\, HS003
SUMMARY:Ethics: Lecture
END:VEVENT
BEGIN:VEVENT
UID:35376336-3130-4133-a535-623635376636
DTSTAMP:20260420T141923Z
DESCRIPTION:
DTSTART:20190923T133000Z
DTEND:20190923T150000Z
LOCATION:E1.3\, HS003
SUMMARY:Ethics: Practice
END:VEVENT
BEGIN:VEVENT
UID:37383663-6230-4565-b138-333432636532
DTSTAMP:20260420T141923Z
DESCRIPTION:
DTSTART:20190925T070000Z
DTEND:20190925T083000Z
LOCATION:E1.3\, HS003
SUMMARY:Ethics: Lecture
END:VEVENT
BEGIN:VEVENT
UID:65636435-3030-4862-a334-343835666535
DTSTAMP:20260420T141923Z
DESCRIPTION:
DTSTART:20190925T083000Z
DTEND:20190925T100000Z
LOCATION:E1.3\, HS003
SUMMARY:Ethics: Practice
END:VEVENT
BEGIN:VEVENT
UID:34633837-3761-4435-b033-306266323039
DTSTAMP:20260420T141923Z
DESCRIPTION:
DTSTART:20190925T120000Z
DTEND:20190925T133000Z
LOCATION:E1.3\, HS003
SUMMARY:Ethics: Lecture
END:VEVENT
BEGIN:VEVENT
UID:38666263-3636-4162-b839-323065623934
DTSTAMP:20260420T141923Z
DESCRIPTION:
DTSTART:20190925T133000Z
DTEND:20190925T150000Z
LOCATION:E1.3\, HS003
SUMMARY:Ethics: Practice
END:VEVENT
BEGIN:VEVENT
UID:32356265-3964-4030-a332-643235333232
DTSTAMP:20260420T141923Z
DESCRIPTION:
DTSTART:20190926T070000Z
DTEND:20190926T083000Z
LOCATION:E1.3\, HS003
SUMMARY:Ethics: Lecture
END:VEVENT
BEGIN:VEVENT
UID:63656231-3963-4632-b332-373334663363
DTSTAMP:20260420T141923Z
DESCRIPTION:
DTSTART:20190926T083000Z
DTEND:20190926T100000Z
LOCATION:E1.3\, HS003
SUMMARY:Ethics: Practice
END:VEVENT
BEGIN:VEVENT
UID:32313562-6434-4131-b738-333865333664
DTSTAMP:20260420T141923Z
DESCRIPTION:
DTSTART:20190926T120000Z
DTEND:20190926T133000Z
LOCATION:E1.3\, HS003
SUMMARY:Ethics: Lecture
END:VEVENT
BEGIN:VEVENT
UID:62613462-6435-4532-a439-393936366238
DTSTAMP:20260420T141923Z
DESCRIPTION:
DTSTART:20190926T133000Z
DTEND:20190926T150000Z
LOCATION:E1.3\, HS003
SUMMARY:Ethics: Practice
END:VEVENT
BEGIN:VEVENT
UID:31356663-6361-4764-a534-393634363263
DTSTAMP:20260420T141923Z
DESCRIPTION:
DTSTART:20191008T120000Z
DTEND:20191008T140000Z
LOCATION:E2.5\, HS I
SUMMARY:Ethics: Exam
END:VEVENT
BEGIN:VEVENT
UID:39653363-6561-4632-b465-396537613638
DTSTAMP:20260420T141923Z
DESCRIPTION:
DTSTART;VALUE=DATE:20191018
DTEND;VALUE=DATE:20191019
SUMMARY:Ethics: Essay Deadline
END:VEVENT
BEGIN:VEVENT
UID:36313666-6266-4261-a561-666335656238
DTSTAMP:20260420T141923Z
DESCRIPTION:You can inspect your exam as well as ask question about the cor
 rection of your essays.
DTSTART:20191025T070000Z
DTEND:20191025T090000Z
LOCATION:E1.3\, room 528
SUMMARY:Ethics: Exam and Essay Inspection
END:VEVENT
BEGIN:VEVENT
UID:62333233-3966-4439-b931-396661643266
DTSTAMP:20260420T141923Z
DESCRIPTION:
DTSTART:20191108T110000Z
DTEND:20191108T130000Z
LOCATION:E1.3\, HS003
SUMMARY:Ethics: Re-exam
END:VEVENT
BEGIN:VEVENT
UID:36306538-6238-4639-b462-323033306130
DTSTAMP:20260420T141923Z
DESCRIPTION:
DTSTART:20191120T073000Z
DTEND:20191120T083000Z
LOCATION:E1.3\, room 528
SUMMARY:Ethics: Re-exam Inspection
END:VEVENT
END:VCALENDAR
