BEGIN:VCALENDAR
VERSION:2.0
PRODID:-//127.0.1.1//NONSGML kigkonsult.se iCalcreator 2.41.92//
CALSCALE:GREGORIAN
METHOD:PUBLISH
UID:66373536-6664-4836-b333-356138353834
X-WR-CALNAME:Ethics for Nerds Calendar
X-WR-CALDESC:Events of the lecture Ethics for Nerds
X-WR-TIMEZONE:Europe/Berlin
BEGIN:VEVENT
UID:63643864-3663-4139-a263-343965643964
DTSTAMP:20260420T230657Z
DESCRIPTION:This tutorial will give you more information on how to write an
  essay.
DTSTART:20170522T120000Z
DTEND:20170522T140000Z
LOCATION:E1.3 HS0001
SUMMARY:Ethics: additional tutorial
END:VEVENT
BEGIN:VEVENT
UID:34636236-3763-4965-a264-303265643739
DTSTAMP:20260420T230657Z
DESCRIPTION:Want to get help with your essay? Then come to our Nerd Night!
DTSTART:20170601T160000Z
DTEND:20170601T180000Z
LOCATION:E1.1\, room 407
SUMMARY:Ethics: Nerd Night
END:VEVENT
BEGIN:VEVENT
UID:66366563-6431-4731-b862-626632393566
DTSTAMP:20260420T230657Z
DESCRIPTION:
DTSTART:20170614T063000Z
DTEND:20170614T080000Z
LOCATION:E2.1 room 001
SUMMARY:Ethics: Additional Tutorial
END:VEVENT
BEGIN:VEVENT
UID:30623733-6636-4330-a132-616631633039
DTSTAMP:20260420T230657Z
DESCRIPTION:
DTSTART:20170626T160000Z
DTEND:20170626T190000Z
LOCATION:TBA
SUMMARY:Ethics: Nerd Night #2
END:VEVENT
END:VCALENDAR
