BEGIN:VCALENDAR
VERSION:2.0
PRODID:-//127.0.1.1//NONSGML kigkonsult.se iCalcreator 2.41.92//
CALSCALE:GREGORIAN
METHOD:PUBLISH
UID:31303538-3833-4163-a338-643866626264
X-WR-CALNAME:Ethics for Nerds Calendar
X-WR-CALDESC:Events of the lecture Ethics for Nerds
X-WR-TIMEZONE:Europe/Berlin
BEGIN:VEVENT
UID:61363433-3034-4139-a164-313533363433
DTSTAMP:20260420T230657Z
DESCRIPTION:90 minutes exam. Please be there at 2pm sharp.
DTSTART:20170802T120000Z
DTEND:20170802T140000Z
LOCATION:Günther Hotz Lecture Hall in E2.2.
SUMMARY:Ethics: Final Exam
END:VEVENT
BEGIN:VEVENT
UID:36366238-6337-4832-a164-633662616533
DTSTAMP:20260420T230657Z
DESCRIPTION:90 minutes exam. Please be there at 10 am sharp!
DTSTART:20170921T080000Z
DTEND:20170921T100000Z
LOCATION:HS II in E2.5
SUMMARY:Ethics: Re-Exam
END:VEVENT
END:VCALENDAR
