BEGIN:VCALENDAR
VERSION:2.0
PRODID:-//127.0.1.1//NONSGML kigkonsult.se iCalcreator 2.41.92//
CALSCALE:GREGORIAN
METHOD:PUBLISH
UID:38376332-6430-4934-a131-353931363032
X-WR-CALNAME:Ethics for Nerds Calendar
X-WR-CALDESC:Events of the lecture Ethics for Nerds
X-WR-TIMEZONE:Europe/Berlin
BEGIN:VEVENT
UID:65623664-3339-4338-b037-383061643933
DTSTAMP:20260420T230757Z
DESCRIPTION:
DTSTART:20170420T080000Z
DTEND:20170420T100000Z
LOCATION:HS II in E 1 3
SUMMARY:Ethics: Lecture
END:VEVENT
BEGIN:VEVENT
UID:38636533-6238-4436-b332-373739653664
DTSTAMP:20260420T230757Z
DESCRIPTION:
DTSTART:20170427T080000Z
DTEND:20170427T100000Z
LOCATION:HS II in E 1 3
SUMMARY:Ethics: Lecture
END:VEVENT
BEGIN:VEVENT
UID:34613365-3330-4530-b264-653466653935
DTSTAMP:20260420T230757Z
DESCRIPTION:
DTSTART:20170504T080000Z
DTEND:20170504T100000Z
LOCATION:HS II in E 1 3
SUMMARY:Ethics: Lecture
END:VEVENT
BEGIN:VEVENT
UID:65336165-3439-4462-b234-333237663466
DTSTAMP:20260420T230757Z
DESCRIPTION:
DTSTART:20170511T080000Z
DTEND:20170511T100000Z
LOCATION:HS II in E 1 3
SUMMARY:Ethics: Lecture
END:VEVENT
BEGIN:VEVENT
UID:35346662-6361-4333-a130-306139373130
DTSTAMP:20260420T230757Z
DESCRIPTION:
DTSTART:20170518T080000Z
DTEND:20170518T100000Z
LOCATION:HS II in E 1 3
SUMMARY:Ethics: Lecture
END:VEVENT
BEGIN:VEVENT
UID:61306531-3232-4961-a435-366130396566
DTSTAMP:20260420T230757Z
DESCRIPTION:
DTSTART:20170524T080000Z
DTEND:20170524T100000Z
LOCATION:HS III in E 1 3
SUMMARY:Ethics: Lecture
END:VEVENT
BEGIN:VEVENT
UID:61306165-6438-4861-b561-356631323138
DTSTAMP:20260420T230757Z
DESCRIPTION:
DTSTART:20170601T080000Z
DTEND:20170601T100000Z
LOCATION:HS II in E 1 3
SUMMARY:Ethics: Lecture
END:VEVENT
BEGIN:VEVENT
UID:30653961-6336-4733-b332-613731313936
DTSTAMP:20260420T230757Z
DESCRIPTION:
DTSTART:20170608T080000Z
DTEND:20170608T100000Z
LOCATION:HS II in E 1 3
SUMMARY:Ethics: Lecture
END:VEVENT
BEGIN:VEVENT
UID:64643931-6432-4634-a266-613939316662
DTSTAMP:20260420T230757Z
DESCRIPTION:
DTSTART:20170614T080000Z
DTEND:20170614T100000Z
LOCATION:E2.1 room 001
SUMMARY:Ethics: Lecture
END:VEVENT
BEGIN:VEVENT
UID:65336333-3633-4138-a434-393832613433
DTSTAMP:20260420T230757Z
DESCRIPTION:
DTSTART:20170622T080000Z
DTEND:20170622T100000Z
LOCATION:HS II in E 1 3
SUMMARY:Ethics: Lecture
END:VEVENT
BEGIN:VEVENT
UID:62663830-3630-4330-a233-393461653830
DTSTAMP:20260420T230757Z
DESCRIPTION:
DTSTART:20170629T080000Z
DTEND:20170629T100000Z
LOCATION:HS II in E 1 3
SUMMARY:Ethics: Lecture
END:VEVENT
BEGIN:VEVENT
UID:63313465-6661-4236-b963-653739323932
DTSTAMP:20260420T230757Z
DESCRIPTION:
DTSTART:20170706T080000Z
DTEND:20170706T100000Z
LOCATION:HS II in E 1 3
SUMMARY:Ethics: Lecture
END:VEVENT
BEGIN:VEVENT
UID:30353333-3562-4232-b062-643231623163
DTSTAMP:20260420T230757Z
DESCRIPTION:
DTSTART:20170713T080000Z
DTEND:20170713T100000Z
LOCATION:HS II in E 1 3
SUMMARY:Ethics: Lecture
END:VEVENT
BEGIN:VEVENT
UID:64303130-6230-4535-b061-346464643534
DTSTAMP:20260420T230757Z
DESCRIPTION:
DTSTART:20170720T080000Z
DTEND:20170720T100000Z
LOCATION:HS II in E 1 3
SUMMARY:Ethics: Lecture
END:VEVENT
BEGIN:VEVENT
UID:31346163-3333-4166-a532-306261623765
DTSTAMP:20260420T230757Z
DESCRIPTION:
DTSTART:20170727T080000Z
DTEND:20170727T100000Z
LOCATION:HS II in E 1 3
SUMMARY:Ethics: Lecture
END:VEVENT
END:VCALENDAR
