BEGIN:VCALENDAR
VERSION:2.0
PRODID:-//127.0.1.1//NONSGML kigkonsult.se iCalcreator 2.41.92//
CALSCALE:GREGORIAN
METHOD:PUBLISH
UID:34343034-3661-4061-a462-636134353734
X-WR-CALNAME:Ethics for Nerds Calendar
X-WR-CALDESC:Events of the lecture Ethics for Nerds
X-WR-TIMEZONE:Europe/Berlin
BEGIN:VEVENT
UID:37383531-6432-4231-b561-633065303634
DTSTAMP:20260421T000643Z
DESCRIPTION:
DTSTART:20170420T080000Z
DTEND:20170420T100000Z
LOCATION:HS II in E 1 3
SUMMARY:Lecture
END:VEVENT
BEGIN:VEVENT
UID:39326232-6230-4265-b561-663862663932
DTSTAMP:20260421T000643Z
DESCRIPTION:
DTSTART:20170427T080000Z
DTEND:20170427T100000Z
LOCATION:HS II in E 1 3
SUMMARY:Lecture
END:VEVENT
BEGIN:VEVENT
UID:62643261-6536-4562-b365-353639663065
DTSTAMP:20260421T000643Z
DESCRIPTION:
DTSTART;VALUE=DATE:20170501
DTEND;VALUE=DATE:20170502
SUMMARY:Tag der Arbeit
END:VEVENT
BEGIN:VEVENT
UID:39623536-6232-4334-b633-633562363266
DTSTAMP:20260421T000643Z
DESCRIPTION:
DTSTART:20170504T080000Z
DTEND:20170504T100000Z
LOCATION:HS II in E 1 3
SUMMARY:Lecture
END:VEVENT
BEGIN:VEVENT
UID:39323834-6630-4266-b234-643036386335
DTSTAMP:20260421T000643Z
DESCRIPTION:
DTSTART:20170511T080000Z
DTEND:20170511T100000Z
LOCATION:HS II in E 1 3
SUMMARY:Lecture
END:VEVENT
BEGIN:VEVENT
UID:66346361-6664-4431-b936-373331303737
DTSTAMP:20260421T000643Z
DESCRIPTION:
DTSTART:20170518T080000Z
DTEND:20170518T100000Z
LOCATION:HS II in E 1 3
SUMMARY:Lecture
END:VEVENT
BEGIN:VEVENT
UID:63663162-6163-4436-b963-653836363031
DTSTAMP:20260421T000643Z
DESCRIPTION:This tutorial will give you more information on how to write an
  essay.
DTSTART:20170522T120000Z
DTEND:20170522T140000Z
LOCATION:E1.3 HS0001
SUMMARY:additional tutorial
END:VEVENT
BEGIN:VEVENT
UID:35373732-3238-4265-b831-643635626336
DTSTAMP:20260421T000643Z
DESCRIPTION:
DTSTART:20170524T080000Z
DTEND:20170524T100000Z
LOCATION:HS III in E 1 3
SUMMARY:Lecture
END:VEVENT
BEGIN:VEVENT
UID:30306132-6161-4430-b733-336665336131
DTSTAMP:20260421T000643Z
DESCRIPTION:
DTSTART;VALUE=DATE:20170525
DTEND;VALUE=DATE:20170526
SUMMARY:Christi Himmelfahrt
END:VEVENT
BEGIN:VEVENT
UID:62363337-3533-4664-b934-386362386635
DTSTAMP:20260421T000643Z
DESCRIPTION:
DTSTART:20170601T080000Z
DTEND:20170601T100000Z
LOCATION:HS II in E 1 3
SUMMARY:Lecture
END:VEVENT
BEGIN:VEVENT
UID:33383933-3664-4762-a434-653438363864
DTSTAMP:20260421T000643Z
DESCRIPTION:Want to get help with your essay? Then come to our Nerd Night!
DTSTART:20170601T160000Z
DTEND:20170601T180000Z
LOCATION:E1.1\, room 407
SUMMARY:Nerd Night
END:VEVENT
BEGIN:VEVENT
UID:64663062-3361-4538-a330-643063323962
DTSTAMP:20260421T000643Z
DESCRIPTION:
DTSTART;VALUE=DATE:20170605
DTEND;VALUE=DATE:20170606
SUMMARY:Pfingstmontag
END:VEVENT
BEGIN:VEVENT
UID:34636236-3062-4063-a130-353935366137
DTSTAMP:20260421T000643Z
DESCRIPTION:
DTSTART:20170608T080000Z
DTEND:20170608T100000Z
LOCATION:HS II in E 1 3
SUMMARY:Lecture
END:VEVENT
BEGIN:VEVENT
UID:63643832-3034-4061-b065-353465633864
DTSTAMP:20260421T000643Z
DESCRIPTION:
DTSTART:20170614T063000Z
DTEND:20170614T080000Z
LOCATION:E2.1 room 001
SUMMARY:Additional Tutorial
END:VEVENT
BEGIN:VEVENT
UID:39376438-3836-4464-a537-383934313236
DTSTAMP:20260421T000643Z
DESCRIPTION:
DTSTART:20170614T080000Z
DTEND:20170614T100000Z
LOCATION:E2.1 room 001
SUMMARY:Lecture
END:VEVENT
BEGIN:VEVENT
UID:32306632-3637-4666-a139-343765373265
DTSTAMP:20260421T000643Z
DESCRIPTION:
DTSTART;VALUE=DATE:20170615
DTEND;VALUE=DATE:20170616
SUMMARY:Fronleichnam
END:VEVENT
BEGIN:VEVENT
UID:38653937-6435-4936-a535-626133306339
DTSTAMP:20260421T000643Z
DESCRIPTION:
DTSTART:20170622T080000Z
DTEND:20170622T100000Z
LOCATION:HS II in E 1 3
SUMMARY:Lecture
END:VEVENT
BEGIN:VEVENT
UID:35383864-6534-4535-b534-626434663630
DTSTAMP:20260421T000643Z
DESCRIPTION:
DTSTART:20170626T160000Z
DTEND:20170626T190000Z
LOCATION:TBA
SUMMARY:Nerd Night #2
END:VEVENT
BEGIN:VEVENT
UID:30356335-3062-4830-b630-366234396131
DTSTAMP:20260421T000643Z
DESCRIPTION:
DTSTART:20170629T080000Z
DTEND:20170629T100000Z
LOCATION:HS II in E 1 3
SUMMARY:Lecture
END:VEVENT
BEGIN:VEVENT
UID:34386137-3837-4637-b761-383935663262
DTSTAMP:20260421T000643Z
DESCRIPTION:
DTSTART:20170706T080000Z
DTEND:20170706T100000Z
LOCATION:HS II in E 1 3
SUMMARY:Lecture
END:VEVENT
BEGIN:VEVENT
UID:34616561-3065-4539-a566-363330386462
DTSTAMP:20260421T000643Z
DESCRIPTION:
DTSTART:20170713T080000Z
DTEND:20170713T100000Z
LOCATION:HS II in E 1 3
SUMMARY:Lecture
END:VEVENT
BEGIN:VEVENT
UID:33666439-3134-4239-b261-633231613532
DTSTAMP:20260421T000643Z
DESCRIPTION:
DTSTART:20170720T080000Z
DTEND:20170720T100000Z
LOCATION:HS II in E 1 3
SUMMARY:Lecture
END:VEVENT
BEGIN:VEVENT
UID:37353932-3737-4039-b936-363661333536
DTSTAMP:20260421T000643Z
DESCRIPTION:
DTSTART:20170727T080000Z
DTEND:20170727T100000Z
LOCATION:HS II in E 1 3
SUMMARY:Lecture
END:VEVENT
BEGIN:VEVENT
UID:39373632-3663-4235-b132-653932343365
DTSTAMP:20260421T000643Z
DESCRIPTION:90 minutes exam. Please be there at 2pm sharp.
DTSTART:20170802T120000Z
DTEND:20170802T140000Z
LOCATION:Günther Hotz Lecture Hall in E2.2.
SUMMARY:Final Exam
END:VEVENT
BEGIN:VEVENT
UID:66613538-6462-4233-a562-346666653262
DTSTAMP:20260421T000643Z
DESCRIPTION:90 minutes exam. Please be there at 10 am sharp!
DTSTART:20170921T080000Z
DTEND:20170921T100000Z
LOCATION:HS II in E2.5
SUMMARY:Re-Exam
END:VEVENT
END:VCALENDAR
