BEGIN:VCALENDAR
VERSION:2.0
PRODID:-//127.0.1.1//NONSGML kigkonsult.se iCalcreator 2.41.92//
CALSCALE:GREGORIAN
METHOD:PUBLISH
UID:31326561-3235-4034-b566-626364666431
X-WR-CALNAME:Data Networks Calendar
X-WR-CALDESC:Events of the lecture Data Networks
X-WR-TIMEZONE:Europe/Berlin
BEGIN:VEVENT
UID:61393635-3738-4561-b664-626336316237
DTSTAMP:20260421T224246Z
DESCRIPTION:
DTSTART:20150505T081500Z
DTEND:20150505T100000Z
LOCATION:E1 3\, SR 016
SUMMARY:Dn: Tutorial 1
END:VEVENT
BEGIN:VEVENT
UID:66356435-6231-4632-a134-393131346638
DTSTAMP:20260421T224246Z
DESCRIPTION:
DTSTART:20150505T121500Z
DTEND:20150505T140000Z
LOCATION:E1 3\, SR 016
SUMMARY:Dn: Tutorial 2
END:VEVENT
BEGIN:VEVENT
UID:33643665-3938-4836-b231-633231666265
DTSTAMP:20260421T224246Z
DESCRIPTION:
DTSTART:20150505T141500Z
DTEND:20150505T160000Z
LOCATION:E1 3\, SR 016
SUMMARY:Dn: Tutorial 3
END:VEVENT
BEGIN:VEVENT
UID:32303962-6236-4131-b530-383363376639
DTSTAMP:20260421T224246Z
DESCRIPTION:
DTSTART:20150506T081500Z
DTEND:20150506T100000Z
LOCATION:E2 5\, SR 4 (U.16)
SUMMARY:Dn: Tutorial 4
END:VEVENT
BEGIN:VEVENT
UID:66386665-6336-4732-a135-343839626434
DTSTAMP:20260421T224246Z
DESCRIPTION:
DTSTART:20150512T081500Z
DTEND:20150512T100000Z
LOCATION:E1 3\, SR 016
SUMMARY:Dn: Tutorial 1
END:VEVENT
BEGIN:VEVENT
UID:32353061-6132-4265-b262-313936346563
DTSTAMP:20260421T224246Z
DESCRIPTION:
DTSTART:20150512T121500Z
DTEND:20150512T140000Z
LOCATION:E1 3\, SR 016
SUMMARY:Dn: Tutorial 2
END:VEVENT
BEGIN:VEVENT
UID:35326139-3332-4530-a561-333863383732
DTSTAMP:20260421T224246Z
DESCRIPTION:
DTSTART:20150512T141500Z
DTEND:20150512T160000Z
LOCATION:E1 3\, SR 016
SUMMARY:Dn: Tutorial 3
END:VEVENT
BEGIN:VEVENT
UID:66646363-6633-4732-a638-653432383432
DTSTAMP:20260421T224246Z
DESCRIPTION:
DTSTART:20150513T081500Z
DTEND:20150513T100000Z
LOCATION:E2 5\, SR 4 (U.16)
SUMMARY:Dn: Tutorial 4
END:VEVENT
BEGIN:VEVENT
UID:36343036-3230-4330-b261-336131643062
DTSTAMP:20260421T224246Z
DESCRIPTION:
DTSTART:20150519T081500Z
DTEND:20150519T100000Z
LOCATION:E1 3\, SR 016
SUMMARY:Dn: Tutorial 1
END:VEVENT
BEGIN:VEVENT
UID:66653265-3437-4666-b233-616639346237
DTSTAMP:20260421T224246Z
DESCRIPTION:
DTSTART:20150519T121500Z
DTEND:20150519T140000Z
LOCATION:E1 3\, SR 016
SUMMARY:Dn: Tutorial 2
END:VEVENT
BEGIN:VEVENT
UID:30383666-6132-4264-a237-663561346631
DTSTAMP:20260421T224246Z
DESCRIPTION:
DTSTART:20150519T141500Z
DTEND:20150519T160000Z
LOCATION:E1 3\, SR 016
SUMMARY:Dn: Tutorial 3
END:VEVENT
BEGIN:VEVENT
UID:32393338-6464-4331-b462-303036303862
DTSTAMP:20260421T224246Z
DESCRIPTION:
DTSTART:20150520T081500Z
DTEND:20150520T100000Z
LOCATION:E2 5\, SR 4 (U.16)
SUMMARY:Dn: Tutorial 4
END:VEVENT
BEGIN:VEVENT
UID:65383863-3365-4333-b233-653266336133
DTSTAMP:20260421T224246Z
DESCRIPTION:
DTSTART:20150526T081500Z
DTEND:20150526T100000Z
LOCATION:E1 3\, SR 016
SUMMARY:Dn: Tutorial 1
END:VEVENT
BEGIN:VEVENT
UID:62373130-6462-4833-b832-343536393230
DTSTAMP:20260421T224246Z
DESCRIPTION:
DTSTART:20150526T121500Z
DTEND:20150526T140000Z
LOCATION:E1 3\, SR 016
SUMMARY:Dn: Tutorial 2
END:VEVENT
BEGIN:VEVENT
UID:33613230-6364-4935-a638-356432633635
DTSTAMP:20260421T224246Z
DESCRIPTION:
DTSTART:20150526T141500Z
DTEND:20150526T160000Z
LOCATION:E1 3\, SR 016
SUMMARY:Dn: Tutorial 3
END:VEVENT
BEGIN:VEVENT
UID:35363736-3237-4230-b532-616263653736
DTSTAMP:20260421T224246Z
DESCRIPTION:
DTSTART:20150527T081500Z
DTEND:20150527T100000Z
LOCATION:E2 5\, SR 4 (U.16)
SUMMARY:Dn: Tutorial 4
END:VEVENT
BEGIN:VEVENT
UID:34663332-3435-4165-b039-303739383564
DTSTAMP:20260421T224246Z
DESCRIPTION:
DTSTART:20150609T081500Z
DTEND:20150609T100000Z
LOCATION:E1 3\, SR 016
SUMMARY:Dn: Tutorial 1
END:VEVENT
BEGIN:VEVENT
UID:61666636-3961-4336-b239-373331303235
DTSTAMP:20260421T224246Z
DESCRIPTION:
DTSTART:20150609T121500Z
DTEND:20150609T140000Z
LOCATION:E1 3\, SR 016
SUMMARY:Dn: Tutorial 2
END:VEVENT
BEGIN:VEVENT
UID:30396435-6332-4666-a263-303761656665
DTSTAMP:20260421T224246Z
DESCRIPTION:
DTSTART:20150609T141500Z
DTEND:20150609T160000Z
LOCATION:E1 3\, SR 016
SUMMARY:Dn: Tutorial 3
END:VEVENT
BEGIN:VEVENT
UID:62653366-3938-4530-a237-616539383232
DTSTAMP:20260421T224246Z
DESCRIPTION:
DTSTART:20150610T081500Z
DTEND:20150610T100000Z
LOCATION:E2 5\, SR 4 (U.16)
SUMMARY:Dn: Tutorial 4
END:VEVENT
BEGIN:VEVENT
UID:65356662-3139-4261-a435-616335306535
DTSTAMP:20260421T224246Z
DESCRIPTION:
DTSTART:20150623T081500Z
DTEND:20150623T100000Z
LOCATION:E1 3\, SR 016
SUMMARY:Dn: Tutorial 1
END:VEVENT
BEGIN:VEVENT
UID:65373730-3266-4661-b166-653363363864
DTSTAMP:20260421T224246Z
DESCRIPTION:
DTSTART:20150623T121500Z
DTEND:20150623T140000Z
LOCATION:E1 3\, SR 016
SUMMARY:Dn: Tutorial 2
END:VEVENT
BEGIN:VEVENT
UID:38616136-6461-4237-b335-363662346666
DTSTAMP:20260421T224246Z
DESCRIPTION:
DTSTART:20150623T141500Z
DTEND:20150623T160000Z
LOCATION:E1 3\, SR 016
SUMMARY:Dn: Tutorial 3
END:VEVENT
BEGIN:VEVENT
UID:30663664-3463-4633-a664-393636353466
DTSTAMP:20260421T224246Z
DESCRIPTION:
DTSTART:20150624T081500Z
DTEND:20150624T100000Z
LOCATION:E2 5\, SR 4 (U.16)
SUMMARY:Dn: Tutorial 4
END:VEVENT
BEGIN:VEVENT
UID:30343163-3032-4630-b433-613336373139
DTSTAMP:20260421T224246Z
DESCRIPTION:
DTSTART:20150630T081500Z
DTEND:20150630T100000Z
LOCATION:E1 3\, SR 016
SUMMARY:Dn: Tutorial 1
END:VEVENT
BEGIN:VEVENT
UID:62306165-3039-4563-a138-306435633563
DTSTAMP:20260421T224246Z
DESCRIPTION:
DTSTART:20150630T121500Z
DTEND:20150630T140000Z
LOCATION:E1 3\, SR 016
SUMMARY:Dn: Tutorial 2
END:VEVENT
BEGIN:VEVENT
UID:30383162-6234-4562-a433-353536636464
DTSTAMP:20260421T224246Z
DESCRIPTION:
DTSTART:20150630T141500Z
DTEND:20150630T160000Z
LOCATION:E1 3\, SR 016
SUMMARY:Dn: Tutorial 3
END:VEVENT
BEGIN:VEVENT
UID:39386635-3831-4262-a666-613662366137
DTSTAMP:20260421T224246Z
DESCRIPTION:
DTSTART:20150701T081500Z
DTEND:20150701T100000Z
LOCATION:E2 5\, SR 4 (U.16)
SUMMARY:Dn: Tutorial 4
END:VEVENT
BEGIN:VEVENT
UID:61373365-6430-4566-b966-653130613435
DTSTAMP:20260421T224246Z
DESCRIPTION:
DTSTART:20150707T081500Z
DTEND:20150707T100000Z
LOCATION:E1 3\, SR 016
SUMMARY:Dn: Tutorial 1
END:VEVENT
BEGIN:VEVENT
UID:61653233-3733-4335-a132-613163353938
DTSTAMP:20260421T224246Z
DESCRIPTION:
DTSTART:20150707T121500Z
DTEND:20150707T140000Z
LOCATION:E1 3\, SR 016
SUMMARY:Dn: Tutorial 2
END:VEVENT
BEGIN:VEVENT
UID:35666132-3363-4235-b038-366333663166
DTSTAMP:20260421T224246Z
DESCRIPTION:
DTSTART:20150707T141500Z
DTEND:20150707T160000Z
LOCATION:E1 3\, SR 016
SUMMARY:Dn: Tutorial 3
END:VEVENT
BEGIN:VEVENT
UID:38363337-3530-4335-b732-396333623930
DTSTAMP:20260421T224246Z
DESCRIPTION:
DTSTART:20150708T081500Z
DTEND:20150708T100000Z
LOCATION:E2 5\, SR 4 (U.16)
SUMMARY:Dn: Tutorial 4
END:VEVENT
BEGIN:VEVENT
UID:39646236-3939-4435-b934-636235366261
DTSTAMP:20260421T224246Z
DESCRIPTION:
DTSTART:20150714T081500Z
DTEND:20150714T100000Z
LOCATION:E1 3\, SR 016
SUMMARY:Dn: Tutorial 1
END:VEVENT
BEGIN:VEVENT
UID:66336131-3062-4733-b734-383865346263
DTSTAMP:20260421T224246Z
DESCRIPTION:
DTSTART:20150714T121500Z
DTEND:20150714T140000Z
LOCATION:E1 3\, SR 016
SUMMARY:Dn: Tutorial 2
END:VEVENT
BEGIN:VEVENT
UID:64353465-3062-4438-a630-646435626264
DTSTAMP:20260421T224246Z
DESCRIPTION:
DTSTART:20150714T141500Z
DTEND:20150714T160000Z
LOCATION:E1 3\, SR 016
SUMMARY:Dn: Tutorial 3
END:VEVENT
BEGIN:VEVENT
UID:62396564-6536-4264-a265-353239613063
DTSTAMP:20260421T224246Z
DESCRIPTION:
DTSTART:20150715T081500Z
DTEND:20150715T100000Z
LOCATION:E2 5\, SR 4 (U.16)
SUMMARY:Dn: Tutorial 4
END:VEVENT
BEGIN:VEVENT
UID:32633136-3035-4166-b037-653163343034
DTSTAMP:20260421T224246Z
DESCRIPTION:
DTSTART:20150721T081500Z
DTEND:20150721T100000Z
LOCATION:E1 3\, SR 016
SUMMARY:Dn: Tutorial 1
END:VEVENT
BEGIN:VEVENT
UID:31353839-3565-4462-b530-663039626438
DTSTAMP:20260421T224246Z
DESCRIPTION:
DTSTART:20150721T121500Z
DTEND:20150721T140000Z
LOCATION:E1 3\, SR 016
SUMMARY:Dn: Tutorial 2
END:VEVENT
BEGIN:VEVENT
UID:61323432-3331-4134-a133-633464326232
DTSTAMP:20260421T224246Z
DESCRIPTION:
DTSTART:20150721T141500Z
DTEND:20150721T160000Z
LOCATION:E1 3\, SR 016
SUMMARY:Dn: Tutorial 3
END:VEVENT
BEGIN:VEVENT
UID:36613434-3934-4631-b935-373933353333
DTSTAMP:20260421T224246Z
DESCRIPTION:
DTSTART:20150722T081500Z
DTEND:20150722T100000Z
LOCATION:E2 5\, SR 4 (U.16)
SUMMARY:Dn: Tutorial 4
END:VEVENT
BEGIN:VEVENT
UID:38623738-3063-4336-b138-393631656163
DTSTAMP:20260421T224246Z
DESCRIPTION:
DTSTART:20150728T081500Z
DTEND:20150728T100000Z
LOCATION:E1 3\, SR 016
SUMMARY:Dn: Tutorial 1
END:VEVENT
BEGIN:VEVENT
UID:34383562-3439-4063-b862-613065313065
DTSTAMP:20260421T224246Z
DESCRIPTION:
DTSTART:20150728T121500Z
DTEND:20150728T140000Z
LOCATION:E1 3\, SR 016
SUMMARY:Dn: Tutorial 2
END:VEVENT
BEGIN:VEVENT
UID:35336363-3539-4834-b464-343539333437
DTSTAMP:20260421T224246Z
DESCRIPTION:
DTSTART:20150728T141500Z
DTEND:20150728T160000Z
LOCATION:E1 3\, SR 016
SUMMARY:Dn: Tutorial 3
END:VEVENT
BEGIN:VEVENT
UID:33306637-3462-4462-b861-653631323834
DTSTAMP:20260421T224246Z
DESCRIPTION:
DTSTART:20150729T081500Z
DTEND:20150729T100000Z
LOCATION:E2 5\, SR 4 (U.16)
SUMMARY:Dn: Tutorial 4
END:VEVENT
END:VCALENDAR
