BEGIN:VCALENDAR
VERSION:2.0
PRODID:-//127.0.1.1//NONSGML kigkonsult.se iCalcreator 2.41.92//
CALSCALE:GREGORIAN
METHOD:PUBLISH
UID:30636439-3966-4833-b932-336632393136
X-WR-CALNAME:Data Networks Calendar
X-WR-CALDESC:Events of the lecture Data Networks
X-WR-TIMEZONE:Europe/Berlin
BEGIN:VEVENT
UID:65643762-6231-4766-b464-303333313535
DTSTAMP:20260421T224141Z
DESCRIPTION:
DTSTART:20150505T081500Z
DTEND:20150505T100000Z
LOCATION:E1 3\, SR 016
SUMMARY:Tutorial 1
END:VEVENT
BEGIN:VEVENT
UID:62393133-3165-4534-b732-316461653761
DTSTAMP:20260421T224141Z
DESCRIPTION:
DTSTART:20150505T121500Z
DTEND:20150505T140000Z
LOCATION:E1 3\, SR 016
SUMMARY:Tutorial 2
END:VEVENT
BEGIN:VEVENT
UID:35613063-3634-4532-a538-393330346436
DTSTAMP:20260421T224141Z
DESCRIPTION:
DTSTART:20150505T141500Z
DTEND:20150505T160000Z
LOCATION:E1 3\, SR 016
SUMMARY:Tutorial 3
END:VEVENT
BEGIN:VEVENT
UID:66616331-6230-4462-b632-633035346362
DTSTAMP:20260421T224141Z
DESCRIPTION:
DTSTART:20150506T081500Z
DTEND:20150506T100000Z
LOCATION:E2 5\, SR 4 (U.16)
SUMMARY:Tutorial 4
END:VEVENT
BEGIN:VEVENT
UID:31616163-3237-4334-b231-396264643662
DTSTAMP:20260421T224141Z
DESCRIPTION:
DTSTART:20150512T081500Z
DTEND:20150512T100000Z
LOCATION:E1 3\, SR 016
SUMMARY:Tutorial 1
END:VEVENT
BEGIN:VEVENT
UID:61396335-3636-4639-a432-393437366635
DTSTAMP:20260421T224141Z
DESCRIPTION:
DTSTART:20150512T121500Z
DTEND:20150512T140000Z
LOCATION:E1 3\, SR 016
SUMMARY:Tutorial 2
END:VEVENT
BEGIN:VEVENT
UID:32383362-6635-4432-b130-326364633233
DTSTAMP:20260421T224141Z
DESCRIPTION:
DTSTART:20150512T141500Z
DTEND:20150512T160000Z
LOCATION:E1 3\, SR 016
SUMMARY:Tutorial 3
END:VEVENT
BEGIN:VEVENT
UID:34333463-6462-4539-b633-386531616533
DTSTAMP:20260421T224141Z
DESCRIPTION:
DTSTART:20150513T081500Z
DTEND:20150513T100000Z
LOCATION:E2 5\, SR 4 (U.16)
SUMMARY:Tutorial 4
END:VEVENT
BEGIN:VEVENT
UID:62316361-6338-4137-a234-373063376639
DTSTAMP:20260421T224141Z
DESCRIPTION:
DTSTART:20150519T081500Z
DTEND:20150519T100000Z
LOCATION:E1 3\, SR 016
SUMMARY:Tutorial 1
END:VEVENT
BEGIN:VEVENT
UID:35316335-6361-4934-a632-626134313233
DTSTAMP:20260421T224141Z
DESCRIPTION:
DTSTART:20150519T121500Z
DTEND:20150519T140000Z
LOCATION:E1 3\, SR 016
SUMMARY:Tutorial 2
END:VEVENT
BEGIN:VEVENT
UID:34373664-6264-4466-a439-303734666231
DTSTAMP:20260421T224141Z
DESCRIPTION:
DTSTART:20150519T141500Z
DTEND:20150519T160000Z
LOCATION:E1 3\, SR 016
SUMMARY:Tutorial 3
END:VEVENT
BEGIN:VEVENT
UID:62303636-3362-4432-b538-666632666564
DTSTAMP:20260421T224141Z
DESCRIPTION:
DTSTART:20150520T081500Z
DTEND:20150520T100000Z
LOCATION:E2 5\, SR 4 (U.16)
SUMMARY:Tutorial 4
END:VEVENT
BEGIN:VEVENT
UID:36623361-3336-4664-b030-393238326565
DTSTAMP:20260421T224141Z
DESCRIPTION:
DTSTART:20150526T081500Z
DTEND:20150526T100000Z
LOCATION:E1 3\, SR 016
SUMMARY:Tutorial 1
END:VEVENT
BEGIN:VEVENT
UID:64303663-3330-4561-b965-316130353037
DTSTAMP:20260421T224141Z
DESCRIPTION:
DTSTART:20150526T121500Z
DTEND:20150526T140000Z
LOCATION:E1 3\, SR 016
SUMMARY:Tutorial 2
END:VEVENT
BEGIN:VEVENT
UID:37393635-6333-4330-a135-383639366635
DTSTAMP:20260421T224141Z
DESCRIPTION:
DTSTART:20150526T141500Z
DTEND:20150526T160000Z
LOCATION:E1 3\, SR 016
SUMMARY:Tutorial 3
END:VEVENT
BEGIN:VEVENT
UID:65623338-3262-4331-b537-303363356335
DTSTAMP:20260421T224141Z
DESCRIPTION:
DTSTART:20150527T081500Z
DTEND:20150527T100000Z
LOCATION:E2 5\, SR 4 (U.16)
SUMMARY:Tutorial 4
END:VEVENT
BEGIN:VEVENT
UID:39363934-3163-4238-b261-396339326636
DTSTAMP:20260421T224141Z
DESCRIPTION:
DTSTART:20150609T081500Z
DTEND:20150609T100000Z
LOCATION:E1 3\, SR 016
SUMMARY:Tutorial 1
END:VEVENT
BEGIN:VEVENT
UID:34353338-6538-4364-b231-336330346163
DTSTAMP:20260421T224141Z
DESCRIPTION:
DTSTART:20150609T121500Z
DTEND:20150609T140000Z
LOCATION:E1 3\, SR 016
SUMMARY:Tutorial 2
END:VEVENT
BEGIN:VEVENT
UID:61343532-3736-4935-b365-383038316164
DTSTAMP:20260421T224141Z
DESCRIPTION:
DTSTART:20150609T141500Z
DTEND:20150609T160000Z
LOCATION:E1 3\, SR 016
SUMMARY:Tutorial 3
END:VEVENT
BEGIN:VEVENT
UID:66343833-3737-4534-b161-623331353331
DTSTAMP:20260421T224141Z
DESCRIPTION:
DTSTART:20150610T081500Z
DTEND:20150610T100000Z
LOCATION:E2 5\, SR 4 (U.16)
SUMMARY:Tutorial 4
END:VEVENT
BEGIN:VEVENT
UID:39653435-3364-4234-b163-333933323330
DTSTAMP:20260421T224141Z
DESCRIPTION:
DTSTART:20150623T081500Z
DTEND:20150623T100000Z
LOCATION:E1 3\, SR 016
SUMMARY:Tutorial 1
END:VEVENT
BEGIN:VEVENT
UID:30656236-6539-4365-b032-306332303136
DTSTAMP:20260421T224141Z
DESCRIPTION:
DTSTART:20150623T121500Z
DTEND:20150623T140000Z
LOCATION:E1 3\, SR 016
SUMMARY:Tutorial 2
END:VEVENT
BEGIN:VEVENT
UID:64316535-3536-4763-b131-373333393234
DTSTAMP:20260421T224141Z
DESCRIPTION:
DTSTART:20150623T141500Z
DTEND:20150623T160000Z
LOCATION:E1 3\, SR 016
SUMMARY:Tutorial 3
END:VEVENT
BEGIN:VEVENT
UID:30646331-6364-4563-b364-326230306261
DTSTAMP:20260421T224141Z
DESCRIPTION:
DTSTART:20150624T081500Z
DTEND:20150624T100000Z
LOCATION:E2 5\, SR 4 (U.16)
SUMMARY:Tutorial 4
END:VEVENT
BEGIN:VEVENT
UID:63336532-6632-4033-a236-323665326635
DTSTAMP:20260421T224141Z
DESCRIPTION:
DTSTART:20150630T081500Z
DTEND:20150630T100000Z
LOCATION:E1 3\, SR 016
SUMMARY:Tutorial 1
END:VEVENT
BEGIN:VEVENT
UID:62323564-3266-4939-b133-353437376630
DTSTAMP:20260421T224141Z
DESCRIPTION:
DTSTART:20150630T121500Z
DTEND:20150630T140000Z
LOCATION:E1 3\, SR 016
SUMMARY:Tutorial 2
END:VEVENT
BEGIN:VEVENT
UID:38346638-3961-4438-b133-616231333262
DTSTAMP:20260421T224141Z
DESCRIPTION:
DTSTART:20150630T141500Z
DTEND:20150630T160000Z
LOCATION:E1 3\, SR 016
SUMMARY:Tutorial 3
END:VEVENT
BEGIN:VEVENT
UID:64393733-3432-4137-a266-303338346637
DTSTAMP:20260421T224141Z
DESCRIPTION:
DTSTART:20150701T081500Z
DTEND:20150701T100000Z
LOCATION:E2 5\, SR 4 (U.16)
SUMMARY:Tutorial 4
END:VEVENT
BEGIN:VEVENT
UID:31303736-3231-4062-a337-306661646335
DTSTAMP:20260421T224141Z
DESCRIPTION:
DTSTART:20150707T081500Z
DTEND:20150707T100000Z
LOCATION:E1 3\, SR 016
SUMMARY:Tutorial 1
END:VEVENT
BEGIN:VEVENT
UID:62663266-6365-4661-a136-663733393535
DTSTAMP:20260421T224141Z
DESCRIPTION:
DTSTART:20150707T121500Z
DTEND:20150707T140000Z
LOCATION:E1 3\, SR 016
SUMMARY:Tutorial 2
END:VEVENT
BEGIN:VEVENT
UID:31616330-6138-4330-a438-623435633963
DTSTAMP:20260421T224141Z
DESCRIPTION:
DTSTART:20150707T141500Z
DTEND:20150707T160000Z
LOCATION:E1 3\, SR 016
SUMMARY:Tutorial 3
END:VEVENT
BEGIN:VEVENT
UID:32313834-6461-4235-b166-383838653835
DTSTAMP:20260421T224141Z
DESCRIPTION:
DTSTART:20150708T081500Z
DTEND:20150708T100000Z
LOCATION:E2 5\, SR 4 (U.16)
SUMMARY:Tutorial 4
END:VEVENT
BEGIN:VEVENT
UID:30333735-3166-4238-b035-663037666138
DTSTAMP:20260421T224141Z
DESCRIPTION:
DTSTART:20150714T081500Z
DTEND:20150714T100000Z
LOCATION:E1 3\, SR 016
SUMMARY:Tutorial 1
END:VEVENT
BEGIN:VEVENT
UID:33616164-3636-4136-b736-306531303739
DTSTAMP:20260421T224141Z
DESCRIPTION:
DTSTART:20150714T121500Z
DTEND:20150714T140000Z
LOCATION:E1 3\, SR 016
SUMMARY:Tutorial 2
END:VEVENT
BEGIN:VEVENT
UID:61613932-6438-4431-b366-613534316133
DTSTAMP:20260421T224141Z
DESCRIPTION:
DTSTART:20150714T141500Z
DTEND:20150714T160000Z
LOCATION:E1 3\, SR 016
SUMMARY:Tutorial 3
END:VEVENT
BEGIN:VEVENT
UID:64336532-3563-4765-b330-343864623561
DTSTAMP:20260421T224141Z
DESCRIPTION:
DTSTART:20150715T081500Z
DTEND:20150715T100000Z
LOCATION:E2 5\, SR 4 (U.16)
SUMMARY:Tutorial 4
END:VEVENT
BEGIN:VEVENT
UID:34343631-3764-4466-b538-653634636335
DTSTAMP:20260421T224141Z
DESCRIPTION:
DTSTART:20150721T081500Z
DTEND:20150721T100000Z
LOCATION:E1 3\, SR 016
SUMMARY:Tutorial 1
END:VEVENT
BEGIN:VEVENT
UID:37613031-6234-4335-a261-326561323132
DTSTAMP:20260421T224141Z
DESCRIPTION:
DTSTART:20150721T121500Z
DTEND:20150721T140000Z
LOCATION:E1 3\, SR 016
SUMMARY:Tutorial 2
END:VEVENT
BEGIN:VEVENT
UID:39653964-3234-4032-b137-396135656335
DTSTAMP:20260421T224141Z
DESCRIPTION:
DTSTART:20150721T141500Z
DTEND:20150721T160000Z
LOCATION:E1 3\, SR 016
SUMMARY:Tutorial 3
END:VEVENT
BEGIN:VEVENT
UID:63363931-3034-4365-b263-646631356134
DTSTAMP:20260421T224141Z
DESCRIPTION:
DTSTART:20150722T081500Z
DTEND:20150722T100000Z
LOCATION:E2 5\, SR 4 (U.16)
SUMMARY:Tutorial 4
END:VEVENT
BEGIN:VEVENT
UID:31343836-3165-4331-a532-633261633361
DTSTAMP:20260421T224141Z
DESCRIPTION:
DTSTART:20150728T081500Z
DTEND:20150728T100000Z
LOCATION:E1 3\, SR 016
SUMMARY:Tutorial 1
END:VEVENT
BEGIN:VEVENT
UID:34383665-3139-4063-b531-336634343461
DTSTAMP:20260421T224141Z
DESCRIPTION:
DTSTART:20150728T121500Z
DTEND:20150728T140000Z
LOCATION:E1 3\, SR 016
SUMMARY:Tutorial 2
END:VEVENT
BEGIN:VEVENT
UID:39333833-3731-4161-b165-333037393962
DTSTAMP:20260421T224141Z
DESCRIPTION:
DTSTART:20150728T141500Z
DTEND:20150728T160000Z
LOCATION:E1 3\, SR 016
SUMMARY:Tutorial 3
END:VEVENT
BEGIN:VEVENT
UID:33313762-3231-4436-b230-393263646135
DTSTAMP:20260421T224141Z
DESCRIPTION:
DTSTART:20150729T081500Z
DTEND:20150729T100000Z
LOCATION:E2 5\, SR 4 (U.16)
SUMMARY:Tutorial 4
END:VEVENT
END:VCALENDAR
