BEGIN:VCALENDAR
VERSION:2.0
PRODID:-//127.0.1.1//NONSGML kigkonsult.se iCalcreator 2.41.92//
CALSCALE:GREGORIAN
METHOD:PUBLISH
UID:34636438-3738-4735-b536-666235323638
X-WR-CALNAME:Data Networks Calendar
X-WR-CALDESC:Events of the lecture Data Networks
X-WR-TIMEZONE:Europe/Berlin
BEGIN:VEVENT
UID:61386137-6230-4230-b033-623261373634
DTSTAMP:20260421T224246Z
DESCRIPTION:
DTSTART:20150422T121500Z
DTEND:20150422T140000Z
LOCATION:E1 3\, HS 002
SUMMARY:Dn: Lecture
END:VEVENT
BEGIN:VEVENT
UID:30393633-3663-4633-b033-346363316137
DTSTAMP:20260421T224246Z
DESCRIPTION:
DTSTART:20150427T121500Z
DTEND:20150427T140000Z
LOCATION:E2 5\, HS II
SUMMARY:Dn: Lecture
END:VEVENT
BEGIN:VEVENT
UID:65623439-3838-4532-b734-613762656331
DTSTAMP:20260421T224246Z
DESCRIPTION:
DTSTART:20150429T121500Z
DTEND:20150429T140000Z
LOCATION:E1 3\, HS 002
SUMMARY:Dn: Lecture
END:VEVENT
BEGIN:VEVENT
UID:30636532-3663-4234-b231-373439643436
DTSTAMP:20260421T224246Z
DESCRIPTION:
DTSTART:20150504T121500Z
DTEND:20150504T140000Z
LOCATION:E2 5\, HS II
SUMMARY:Dn: Lecture
END:VEVENT
BEGIN:VEVENT
UID:30643433-3838-4633-a330-643062376166
DTSTAMP:20260421T224246Z
DESCRIPTION:
DTSTART:20150506T121500Z
DTEND:20150506T140000Z
LOCATION:E1 3\, HS 002
SUMMARY:Dn: Lecture
END:VEVENT
BEGIN:VEVENT
UID:66633937-6438-4036-a264-613837373235
DTSTAMP:20260421T224246Z
DESCRIPTION:
DTSTART:20150511T121500Z
DTEND:20150511T140000Z
LOCATION:E2 5\, HS II
SUMMARY:Dn: Lecture
END:VEVENT
BEGIN:VEVENT
UID:36663161-3662-4163-b063-633334666162
DTSTAMP:20260421T224246Z
DESCRIPTION:
DTSTART:20150513T121500Z
DTEND:20150513T140000Z
LOCATION:E1 3\, HS 002
SUMMARY:Dn: Lecture
END:VEVENT
BEGIN:VEVENT
UID:33663238-3734-4337-b231-613939656439
DTSTAMP:20260421T224246Z
DESCRIPTION:
DTSTART:20150518T121500Z
DTEND:20150518T140000Z
LOCATION:E2 5\, HS II
SUMMARY:Dn: Lecture
END:VEVENT
BEGIN:VEVENT
UID:37393331-3434-4639-b736-613961396535
DTSTAMP:20260421T224246Z
DESCRIPTION:
DTSTART:20150520T121500Z
DTEND:20150520T140000Z
LOCATION:E1 3\, HS 002
SUMMARY:Dn: Lecture
END:VEVENT
BEGIN:VEVENT
UID:39643736-3163-4833-b431-356532393365
DTSTAMP:20260421T224246Z
DESCRIPTION:
DTSTART:20150527T121500Z
DTEND:20150527T140000Z
LOCATION:E1 3\, HS 002
SUMMARY:Dn: Lecture
END:VEVENT
BEGIN:VEVENT
UID:64323138-3264-4365-b436-396536383538
DTSTAMP:20260421T224246Z
DESCRIPTION:
DTSTART:20150601T121500Z
DTEND:20150601T140000Z
LOCATION:E2 5\, HS II
SUMMARY:Dn: Lecture
END:VEVENT
BEGIN:VEVENT
UID:36316137-3433-4937-b861-346537636264
DTSTAMP:20260421T224246Z
DESCRIPTION:
DTSTART:20150603T121500Z
DTEND:20150603T140000Z
LOCATION:E1 3\, HS 002
SUMMARY:Dn: Lecture
END:VEVENT
BEGIN:VEVENT
UID:33386266-3462-4534-a131-626631633236
DTSTAMP:20260421T224246Z
DESCRIPTION:
DTSTART:20150608T121500Z
DTEND:20150608T140000Z
LOCATION:E2 5\, HS II
SUMMARY:Dn: Lecture
END:VEVENT
BEGIN:VEVENT
UID:39636233-3764-4164-a535-663464383036
DTSTAMP:20260421T224246Z
DESCRIPTION:
DTSTART:20150615T121500Z
DTEND:20150615T140000Z
LOCATION:E2 5\, HS II
SUMMARY:Dn: Lecture
END:VEVENT
BEGIN:VEVENT
UID:36343836-3131-4961-b335-653761373638
DTSTAMP:20260421T224246Z
DESCRIPTION:
DTSTART:20150617T121500Z
DTEND:20150617T140000Z
LOCATION:E1 3\, HS 002
SUMMARY:Dn: Lecture
END:VEVENT
BEGIN:VEVENT
UID:38616433-3638-4232-b235-373461333136
DTSTAMP:20260421T224246Z
DESCRIPTION:
DTSTART:20150622T121500Z
DTEND:20150622T140000Z
LOCATION:E2 5\, HS II
SUMMARY:Dn: Lecture
END:VEVENT
BEGIN:VEVENT
UID:32613731-6536-4636-a162-626533333235
DTSTAMP:20260421T224246Z
DESCRIPTION:
DTSTART:20150624T121500Z
DTEND:20150624T140000Z
LOCATION:E1 3\, HS 002
SUMMARY:Dn: Lecture
END:VEVENT
BEGIN:VEVENT
UID:34643664-3366-4262-b239-323964323037
DTSTAMP:20260421T224246Z
DESCRIPTION:
DTSTART:20150629T121500Z
DTEND:20150629T140000Z
LOCATION:E2 5\, HS II
SUMMARY:Dn: Lecture
END:VEVENT
BEGIN:VEVENT
UID:66616661-6364-4966-a339-356235666230
DTSTAMP:20260421T224246Z
DESCRIPTION:
DTSTART:20150701T121500Z
DTEND:20150701T140000Z
LOCATION:E1 3\, HS 002
SUMMARY:Dn: Lecture
END:VEVENT
BEGIN:VEVENT
UID:31333861-6563-4730-a363-633162633134
DTSTAMP:20260421T224246Z
DESCRIPTION:
DTSTART:20150706T121500Z
DTEND:20150706T140000Z
LOCATION:E2 5\, HS II
SUMMARY:Dn: Lecture
END:VEVENT
BEGIN:VEVENT
UID:39663633-6364-4661-b131-353534343131
DTSTAMP:20260421T224246Z
DESCRIPTION:
DTSTART:20150708T121500Z
DTEND:20150708T140000Z
LOCATION:E1 3\, HS 002
SUMMARY:Dn: Lecture
END:VEVENT
BEGIN:VEVENT
UID:35666664-3962-4731-a333-316131336565
DTSTAMP:20260421T224246Z
DESCRIPTION:
DTSTART:20150713T121500Z
DTEND:20150713T140000Z
LOCATION:E2 5\, HS II
SUMMARY:Dn: Lecture
END:VEVENT
BEGIN:VEVENT
UID:61666662-6632-4033-b537-623733666332
DTSTAMP:20260421T224246Z
DESCRIPTION:
DTSTART:20150715T121500Z
DTEND:20150715T140000Z
LOCATION:E1 3\, HS 002
SUMMARY:Dn: Lecture
END:VEVENT
BEGIN:VEVENT
UID:32333461-3561-4038-a462-353366303563
DTSTAMP:20260421T224246Z
DESCRIPTION:
DTSTART:20150720T121500Z
DTEND:20150720T140000Z
LOCATION:E2 5\, HS II
SUMMARY:Dn: Lecture
END:VEVENT
BEGIN:VEVENT
UID:64313265-6631-4731-a130-633964386638
DTSTAMP:20260421T224246Z
DESCRIPTION:
DTSTART:20150722T121500Z
DTEND:20150722T140000Z
LOCATION:E1 3\, HS 002
SUMMARY:Dn: Lecture
END:VEVENT
BEGIN:VEVENT
UID:65646465-6665-4233-b234-373332383932
DTSTAMP:20260421T224246Z
DESCRIPTION:
DTSTART:20150727T121500Z
DTEND:20150727T140000Z
LOCATION:E2 5\, HS II
SUMMARY:Dn: Lecture
END:VEVENT
END:VCALENDAR
