BEGIN:VCALENDAR
VERSION:2.0
PRODID:-//127.0.1.1//NONSGML kigkonsult.se iCalcreator 2.41.92//
CALSCALE:GREGORIAN
METHOD:PUBLISH
UID:65376634-6432-4433-b235-373232333138
X-WR-CALNAME:Data Networks Calendar
X-WR-CALDESC:Events of the lecture Data Networks
X-WR-TIMEZONE:Europe/Berlin
BEGIN:VEVENT
UID:33623538-3762-4862-b135-626166666561
DTSTAMP:20260421T224143Z
DESCRIPTION:
DTSTART:20150422T121500Z
DTEND:20150422T140000Z
LOCATION:E1 3\, HS 002
SUMMARY:Lecture
END:VEVENT
BEGIN:VEVENT
UID:31626164-3136-4839-a631-326439363666
DTSTAMP:20260421T224143Z
DESCRIPTION:
DTSTART:20150427T121500Z
DTEND:20150427T140000Z
LOCATION:E2 5\, HS II
SUMMARY:Lecture
END:VEVENT
BEGIN:VEVENT
UID:30303864-6363-4432-a362-656435363466
DTSTAMP:20260421T224143Z
DESCRIPTION:
DTSTART:20150429T121500Z
DTEND:20150429T140000Z
LOCATION:E1 3\, HS 002
SUMMARY:Lecture
END:VEVENT
BEGIN:VEVENT
UID:35633130-6432-4361-a234-663832323666
DTSTAMP:20260421T224143Z
DESCRIPTION:
DTSTART:20150504T121500Z
DTEND:20150504T140000Z
LOCATION:E2 5\, HS II
SUMMARY:Lecture
END:VEVENT
BEGIN:VEVENT
UID:62613039-3764-4464-b965-633062353830
DTSTAMP:20260421T224143Z
DESCRIPTION:
DTSTART:20150506T121500Z
DTEND:20150506T140000Z
LOCATION:E1 3\, HS 002
SUMMARY:Lecture
END:VEVENT
BEGIN:VEVENT
UID:37653337-3031-4264-a230-353638386264
DTSTAMP:20260421T224143Z
DESCRIPTION:
DTSTART:20150511T121500Z
DTEND:20150511T140000Z
LOCATION:E2 5\, HS II
SUMMARY:Lecture
END:VEVENT
BEGIN:VEVENT
UID:37656564-6331-4561-a439-373264393031
DTSTAMP:20260421T224143Z
DESCRIPTION:
DTSTART:20150513T121500Z
DTEND:20150513T140000Z
LOCATION:E1 3\, HS 002
SUMMARY:Lecture
END:VEVENT
BEGIN:VEVENT
UID:33623938-6162-4164-a436-666438616261
DTSTAMP:20260421T224143Z
DESCRIPTION:
DTSTART:20150518T121500Z
DTEND:20150518T140000Z
LOCATION:E2 5\, HS II
SUMMARY:Lecture
END:VEVENT
BEGIN:VEVENT
UID:66636364-6562-4361-b537-326139386134
DTSTAMP:20260421T224143Z
DESCRIPTION:
DTSTART:20150520T121500Z
DTEND:20150520T140000Z
LOCATION:E1 3\, HS 002
SUMMARY:Lecture
END:VEVENT
BEGIN:VEVENT
UID:37646131-3436-4364-b566-333564353562
DTSTAMP:20260421T224143Z
DESCRIPTION:
DTSTART:20150527T121500Z
DTEND:20150527T140000Z
LOCATION:E1 3\, HS 002
SUMMARY:Lecture
END:VEVENT
BEGIN:VEVENT
UID:30326162-3662-4135-b038-323365663866
DTSTAMP:20260421T224143Z
DESCRIPTION:
DTSTART:20150601T121500Z
DTEND:20150601T140000Z
LOCATION:E2 5\, HS II
SUMMARY:Lecture
END:VEVENT
BEGIN:VEVENT
UID:39663936-6238-4733-b239-353334373663
DTSTAMP:20260421T224143Z
DESCRIPTION:
DTSTART:20150603T121500Z
DTEND:20150603T140000Z
LOCATION:E1 3\, HS 002
SUMMARY:Lecture
END:VEVENT
BEGIN:VEVENT
UID:62626166-6362-4038-b431-393230356237
DTSTAMP:20260421T224143Z
DESCRIPTION:
DTSTART:20150608T121500Z
DTEND:20150608T140000Z
LOCATION:E2 5\, HS II
SUMMARY:Lecture
END:VEVENT
BEGIN:VEVENT
UID:62633136-3964-4132-a335-376134373266
DTSTAMP:20260421T224143Z
DESCRIPTION:
DTSTART:20150615T121500Z
DTEND:20150615T140000Z
LOCATION:E2 5\, HS II
SUMMARY:Lecture
END:VEVENT
BEGIN:VEVENT
UID:30633532-3166-4233-b738-633136613666
DTSTAMP:20260421T224143Z
DESCRIPTION:
DTSTART:20150617T121500Z
DTEND:20150617T140000Z
LOCATION:E1 3\, HS 002
SUMMARY:Lecture
END:VEVENT
BEGIN:VEVENT
UID:32636538-3635-4131-b831-383637646535
DTSTAMP:20260421T224143Z
DESCRIPTION:
DTSTART:20150622T121500Z
DTEND:20150622T140000Z
LOCATION:E2 5\, HS II
SUMMARY:Lecture
END:VEVENT
BEGIN:VEVENT
UID:34666363-6433-4134-a632-323662393030
DTSTAMP:20260421T224143Z
DESCRIPTION:
DTSTART:20150624T121500Z
DTEND:20150624T140000Z
LOCATION:E1 3\, HS 002
SUMMARY:Lecture
END:VEVENT
BEGIN:VEVENT
UID:61326564-3062-4233-a537-353066313961
DTSTAMP:20260421T224143Z
DESCRIPTION:
DTSTART:20150629T121500Z
DTEND:20150629T140000Z
LOCATION:E2 5\, HS II
SUMMARY:Lecture
END:VEVENT
BEGIN:VEVENT
UID:66666261-6163-4631-b863-356561666462
DTSTAMP:20260421T224143Z
DESCRIPTION:
DTSTART:20150701T121500Z
DTEND:20150701T140000Z
LOCATION:E1 3\, HS 002
SUMMARY:Lecture
END:VEVENT
BEGIN:VEVENT
UID:36396438-6331-4430-a537-303837316663
DTSTAMP:20260421T224143Z
DESCRIPTION:
DTSTART:20150706T121500Z
DTEND:20150706T140000Z
LOCATION:E2 5\, HS II
SUMMARY:Lecture
END:VEVENT
BEGIN:VEVENT
UID:63333534-3832-4565-b437-363665323866
DTSTAMP:20260421T224143Z
DESCRIPTION:
DTSTART:20150708T121500Z
DTEND:20150708T140000Z
LOCATION:E1 3\, HS 002
SUMMARY:Lecture
END:VEVENT
BEGIN:VEVENT
UID:62346264-3239-4565-a638-356335386638
DTSTAMP:20260421T224143Z
DESCRIPTION:
DTSTART:20150713T121500Z
DTEND:20150713T140000Z
LOCATION:E2 5\, HS II
SUMMARY:Lecture
END:VEVENT
BEGIN:VEVENT
UID:35343265-6366-4839-a435-323932656565
DTSTAMP:20260421T224143Z
DESCRIPTION:
DTSTART:20150715T121500Z
DTEND:20150715T140000Z
LOCATION:E1 3\, HS 002
SUMMARY:Lecture
END:VEVENT
BEGIN:VEVENT
UID:62616135-6232-4936-a639-363465366135
DTSTAMP:20260421T224143Z
DESCRIPTION:
DTSTART:20150720T121500Z
DTEND:20150720T140000Z
LOCATION:E2 5\, HS II
SUMMARY:Lecture
END:VEVENT
BEGIN:VEVENT
UID:31613835-3361-4737-b030-346335643836
DTSTAMP:20260421T224143Z
DESCRIPTION:
DTSTART:20150722T121500Z
DTEND:20150722T140000Z
LOCATION:E1 3\, HS 002
SUMMARY:Lecture
END:VEVENT
BEGIN:VEVENT
UID:65363765-3432-4562-b364-653866353838
DTSTAMP:20260421T224143Z
DESCRIPTION:
DTSTART:20150727T121500Z
DTEND:20150727T140000Z
LOCATION:E2 5\, HS II
SUMMARY:Lecture
END:VEVENT
END:VCALENDAR
