BEGIN:VCALENDAR
VERSION:2.0
PRODID:-//127.0.1.1//NONSGML kigkonsult.se iCalcreator 2.41.92//
CALSCALE:GREGORIAN
METHOD:PUBLISH
UID:30616132-3062-4137-a339-333564393939
X-WR-CALNAME:Concurrent Programming Calendar
X-WR-CALDESC:Events of the lecture Concurrent Programming
X-WR-TIMEZONE:Europe/Berlin
BEGIN:VEVENT
UID:31336433-3331-4966-a339-666338616535
DTSTAMP:20260425T170504Z
DESCRIPTION:
DTSTART:20250417T120000Z
DTEND:20250417T140000Z
LOCATION:E1 3: SR 015
SUMMARY:Cp: Concurrency Café
END:VEVENT
BEGIN:VEVENT
UID:33653030-6534-4133-a364-616161656431
DTSTAMP:20260425T170504Z
DESCRIPTION:
DTSTART:20250424T120000Z
DTEND:20250424T140000Z
LOCATION:E1 3: SR 015
SUMMARY:Cp: Concurrency Café
END:VEVENT
BEGIN:VEVENT
UID:39623537-6432-4266-a233-613936396534
DTSTAMP:20260425T170504Z
DESCRIPTION:
DTSTART:20250425T120000Z
DTEND:20250425T140000Z
LOCATION:E1 3: SR 015
SUMMARY:Cp: Concurrency Café
END:VEVENT
BEGIN:VEVENT
UID:39306166-3033-4931-b964-326532633130
DTSTAMP:20260425T170504Z
DESCRIPTION:
DTSTART:20250502T120000Z
DTEND:20250502T140000Z
LOCATION:E1 3: SR 015
SUMMARY:Cp: Concurrency Café
END:VEVENT
BEGIN:VEVENT
UID:63623937-3765-4237-b036-336662356234
DTSTAMP:20260425T170504Z
DESCRIPTION:
DTSTART:20250508T120000Z
DTEND:20250508T140000Z
LOCATION:E1 3: SR 015
SUMMARY:Cp: Concurrency Café
END:VEVENT
BEGIN:VEVENT
UID:63623933-6462-4135-a562-323537303961
DTSTAMP:20260425T170504Z
DESCRIPTION:
DTSTART:20250509T120000Z
DTEND:20250509T140000Z
LOCATION:E1 3: SR 015
SUMMARY:Cp: Concurrency Café
END:VEVENT
BEGIN:VEVENT
UID:37646238-3563-4337-b237-656234656566
DTSTAMP:20260425T170504Z
DESCRIPTION:
DTSTART:20250515T120000Z
DTEND:20250515T140000Z
LOCATION:E1 3: SR 015
SUMMARY:Cp: Concurrency Café
END:VEVENT
BEGIN:VEVENT
UID:36333534-6265-4161-b334-373835643534
DTSTAMP:20260425T170504Z
DESCRIPTION:
DTSTART:20250516T120000Z
DTEND:20250516T160000Z
LOCATION:E1 3: SR 015
SUMMARY:Cp: Concurrency Café XXL
END:VEVENT
BEGIN:VEVENT
UID:30396438-3861-4333-b265-393264653833
DTSTAMP:20260425T170504Z
DESCRIPTION:
DTSTART:20250530T123000Z
DTEND:20250530T133000Z
LOCATION:E1 3: SR 015
SUMMARY:Cp: Midterm exam Inspection
END:VEVENT
BEGIN:VEVENT
UID:31376265-3231-4632-a664-653232326333
DTSTAMP:20260425T170504Z
DESCRIPTION:
DTSTART:20250605T120000Z
DTEND:20250605T140000Z
LOCATION:E1 3: SR 015
SUMMARY:Cp: Concurrency Café
END:VEVENT
BEGIN:VEVENT
UID:62616566-6462-4366-b666-303930666363
DTSTAMP:20260425T170504Z
DESCRIPTION:
DTSTART:20250606T120000Z
DTEND:20250606T140000Z
LOCATION:E1 3: SR 015
SUMMARY:Cp: Concurrency Café
END:VEVENT
BEGIN:VEVENT
UID:65316166-3030-4036-b237-366437383465
DTSTAMP:20260425T170504Z
DESCRIPTION:
DTSTART:20250612T120000Z
DTEND:20250612T140000Z
LOCATION:E1 3: SR 015
SUMMARY:Cp: Concurrency Café
END:VEVENT
BEGIN:VEVENT
UID:34373263-6337-4332-a564-633734393663
DTSTAMP:20260425T170504Z
DESCRIPTION:
DTSTART:20250613T120000Z
DTEND:20250613T140000Z
LOCATION:E1 3: SR 015
SUMMARY:Cp: Concurrency Café
END:VEVENT
BEGIN:VEVENT
UID:33656365-6233-4631-a662-306539613433
DTSTAMP:20260425T170504Z
DESCRIPTION:
DTSTART:20250620T120000Z
DTEND:20250620T140000Z
LOCATION:E1 3: SR 015
SUMMARY:Cp: Concurrency Café
END:VEVENT
BEGIN:VEVENT
UID:33373434-3632-4031-a663-346561323866
DTSTAMP:20260425T170504Z
DESCRIPTION:
DTSTART:20250626T120000Z
DTEND:20250626T140000Z
LOCATION:E1 3: SR 015
SUMMARY:Cp: Concurrency Café
END:VEVENT
BEGIN:VEVENT
UID:64323464-3461-4838-a435-643361653564
DTSTAMP:20260425T170504Z
DESCRIPTION:
DTSTART:20250627T120000Z
DTEND:20250627T140000Z
LOCATION:E1 3: SR 015
SUMMARY:Cp: Concurrency Café
END:VEVENT
BEGIN:VEVENT
UID:32356663-3131-4633-a164-386238666636
DTSTAMP:20260425T170504Z
DESCRIPTION:
DTSTART:20250703T120000Z
DTEND:20250703T140000Z
LOCATION:E1 3: SR 015
SUMMARY:Cp: Concurrency Café
END:VEVENT
BEGIN:VEVENT
UID:36633130-3234-4239-b136-626662303330
DTSTAMP:20260425T170504Z
DESCRIPTION:
DTSTART:20250704T120000Z
DTEND:20250704T140000Z
LOCATION:E1 3: SR 015
SUMMARY:Cp: Concurrency Café
END:VEVENT
BEGIN:VEVENT
UID:35623630-3533-4063-a366-616637653636
DTSTAMP:20260425T170504Z
DESCRIPTION:
DTSTART:20250731T120000Z
DTEND:20250731T160000Z
LOCATION:E1 3: SR 015
SUMMARY:Cp: Concurrency Café XXL
END:VEVENT
END:VCALENDAR
