BEGIN:VCALENDAR
VERSION:2.0
PRODID:-//127.0.1.1//NONSGML kigkonsult.se iCalcreator 2.41.92//
CALSCALE:GREGORIAN
METHOD:PUBLISH
UID:31343631-3236-4162-b031-323662383534
X-WR-CALNAME:Concurrent Programming Calendar
X-WR-CALDESC:Events of the lecture Concurrent Programming
X-WR-TIMEZONE:Europe/Berlin
BEGIN:VEVENT
UID:65643533-3230-4031-a133-373635653738
DTSTAMP:20260425T170344Z
DESCRIPTION:
DTSTART:20250520T080000Z
DTEND:20250520T100000Z
LOCATION:GHH and E1 3: HS 002
SUMMARY:Cp: Mid term
END:VEVENT
BEGIN:VEVENT
UID:65346635-3637-4866-a661-383464303036
DTSTAMP:20260425T170344Z
DESCRIPTION:
DTSTART:20250715T080000Z
DTEND:20250715T100000Z
LOCATION:GHH\, E1 3: LH002
SUMMARY:Cp: Midterm Re-Exam
END:VEVENT
BEGIN:VEVENT
UID:62386438-3235-4336-b836-316433336166
DTSTAMP:20260425T170344Z
DESCRIPTION:
DTSTART:20250804T080000Z
DTEND:20250804T100000Z
LOCATION:GHH
SUMMARY:Cp: Final Exam
END:VEVENT
BEGIN:VEVENT
UID:39623537-6564-4537-b336-616432346332
DTSTAMP:20260425T170344Z
DESCRIPTION:
DTSTART:20250929T080000Z
DTEND:20250929T100000Z
SUMMARY:Cp: Final Re-Exam
END:VEVENT
END:VCALENDAR
