BEGIN:VCALENDAR
VERSION:2.0
PRODID:-//127.0.1.1//NONSGML kigkonsult.se iCalcreator 2.41.92//
CALSCALE:GREGORIAN
METHOD:PUBLISH
UID:61633561-6233-4362-b464-663635303262
X-WR-CALNAME:Concurrent Programming Calendar
X-WR-CALDESC:Events of the lecture Concurrent Programming
X-WR-TIMEZONE:Europe/Berlin
BEGIN:VEVENT
UID:65616338-6561-4134-a331-616331326166
DTSTAMP:20260425T170344Z
DESCRIPTION:
DTSTART;VALUE=DATE:20250421
DTEND;VALUE=DATE:20250422
SUMMARY:Cp: Colloquium A
END:VEVENT
BEGIN:VEVENT
UID:30386433-3631-4431-b835-343961646266
DTSTAMP:20260425T170344Z
DESCRIPTION:
DTSTART;VALUE=DATE:20250422
DTEND;VALUE=DATE:20250423
SUMMARY:Cp: Colloquium A
END:VEVENT
BEGIN:VEVENT
UID:66623666-3639-4430-b765-313066376562
DTSTAMP:20260425T170344Z
DESCRIPTION:
DTSTART;VALUE=DATE:20250428
DTEND;VALUE=DATE:20250429
SUMMARY:Cp: Colloquium B
END:VEVENT
BEGIN:VEVENT
UID:33366336-6632-4134-b062-333137303138
DTSTAMP:20260425T170344Z
DESCRIPTION:
DTSTART;VALUE=DATE:20250429
DTEND;VALUE=DATE:20250430
SUMMARY:Cp: Colloquium B
END:VEVENT
BEGIN:VEVENT
UID:33303937-3336-4163-b462-653062383862
DTSTAMP:20260425T170344Z
DESCRIPTION:
DTSTART;VALUE=DATE:20250505
DTEND;VALUE=DATE:20250506
SUMMARY:Cp: Colloquium C
END:VEVENT
BEGIN:VEVENT
UID:64333966-3063-4364-b936-326565633939
DTSTAMP:20260425T170344Z
DESCRIPTION:
DTSTART;VALUE=DATE:20250506
DTEND;VALUE=DATE:20250507
SUMMARY:Cp: Colloquium C
END:VEVENT
BEGIN:VEVENT
UID:31386632-3837-4231-b362-336436363135
DTSTAMP:20260425T170344Z
DESCRIPTION:
DTSTART;VALUE=DATE:20250512
DTEND;VALUE=DATE:20250513
SUMMARY:Cp: Colloquium D
END:VEVENT
BEGIN:VEVENT
UID:61373266-3433-4132-b933-323736353766
DTSTAMP:20260425T170344Z
DESCRIPTION:
DTSTART;VALUE=DATE:20250513
DTEND;VALUE=DATE:20250514
SUMMARY:Cp: Colloquium D
END:VEVENT
BEGIN:VEVENT
UID:30663938-3836-4337-b962-306336363131
DTSTAMP:20260425T170344Z
DESCRIPTION:
DTSTART;VALUE=DATE:20250602
DTEND;VALUE=DATE:20250603
SUMMARY:Cp: Colloquium E
END:VEVENT
BEGIN:VEVENT
UID:31306538-3961-4631-b537-396565386238
DTSTAMP:20260425T170344Z
DESCRIPTION:
DTSTART;VALUE=DATE:20250603
DTEND;VALUE=DATE:20250604
SUMMARY:Cp: Colloquium E
END:VEVENT
BEGIN:VEVENT
UID:37643962-6163-4662-b163-663830373137
DTSTAMP:20260425T170344Z
DESCRIPTION:
DTSTART;VALUE=DATE:20250609
DTEND;VALUE=DATE:20250610
SUMMARY:Cp: Colloquium F
END:VEVENT
BEGIN:VEVENT
UID:36633363-6263-4336-b061-396663353238
DTSTAMP:20260425T170344Z
DESCRIPTION:
DTSTART;VALUE=DATE:20250610
DTEND;VALUE=DATE:20250611
SUMMARY:Cp: Colloquium F
END:VEVENT
BEGIN:VEVENT
UID:64663639-3361-4136-b730-633030333235
DTSTAMP:20260425T170344Z
DESCRIPTION:
DTSTART;VALUE=DATE:20250623
DTEND;VALUE=DATE:20250624
SUMMARY:Cp: Colloquium G
END:VEVENT
BEGIN:VEVENT
UID:32303030-6662-4135-b133-626634386236
DTSTAMP:20260425T170344Z
DESCRIPTION:
DTSTART;VALUE=DATE:20250624
DTEND;VALUE=DATE:20250625
SUMMARY:Cp: Colloquium G
END:VEVENT
BEGIN:VEVENT
UID:64623933-3565-4065-a234-636133303963
DTSTAMP:20260425T170344Z
DESCRIPTION:
DTSTART;VALUE=DATE:20250630
DTEND;VALUE=DATE:20250701
SUMMARY:Cp: Colloquium H
END:VEVENT
BEGIN:VEVENT
UID:31653638-3964-4139-b164-613137616161
DTSTAMP:20260425T170344Z
DESCRIPTION:
DTSTART;VALUE=DATE:20250701
DTEND;VALUE=DATE:20250702
SUMMARY:Cp: Colloquium H
END:VEVENT
END:VCALENDAR
