BEGIN:VCALENDAR
VERSION:2.0
PRODID:-//127.0.1.1//NONSGML kigkonsult.se iCalcreator 2.41.92//
CALSCALE:GREGORIAN
METHOD:PUBLISH
UID:62383636-3931-4232-a639-313365313831
X-WR-CALNAME:Concurrent Programming Calendar
X-WR-CALDESC:Events of the lecture Concurrent Programming
X-WR-TIMEZONE:Europe/Berlin
BEGIN:VEVENT
UID:63323162-6539-4532-b432-646336373730
DTSTAMP:20260425T170344Z
DESCRIPTION:
DTSTART:20250707T215900Z
DTEND:20250707T215900Z
SUMMARY:Cp: Milestone Α
END:VEVENT
BEGIN:VEVENT
UID:35386663-6439-4132-b563-336630396162
DTSTAMP:20260425T170344Z
DESCRIPTION:
DTSTART:20250728T215900Z
DTEND:20250728T215900Z
SUMMARY:Cp: Milestone Ω
END:VEVENT
BEGIN:VEVENT
UID:34633232-3634-4636-a166-353131643063
DTSTAMP:20260425T170344Z
DESCRIPTION:
DTSTART;VALUE=DATE:20250806
DTEND;VALUE=DATE:20250807
LOCATION:E1 1\, Room 407
SUMMARY:Cp: Project Defence
END:VEVENT
END:VCALENDAR
