BEGIN:VCALENDAR
VERSION:2.0
PRODID:-//127.0.1.1//NONSGML kigkonsult.se iCalcreator 2.41.92//
CALSCALE:GREGORIAN
METHOD:PUBLISH
UID:35393038-6639-4761-a634-373938663636
X-WR-CALNAME:Concurrent Programming Calendar
X-WR-CALDESC:Events of the lecture Concurrent Programming
X-WR-TIMEZONE:Europe/Berlin
BEGIN:VEVENT
UID:62663432-6635-4638-b535-323866663332
DTSTAMP:20260425T170344Z
DESCRIPTION:
DTSTART:20250423T061500Z
DTEND:20250423T080000Z
LOCATION:E1 3: SR 014\, SR 015\, SR 016
SUMMARY:Cp: Tutorial A
END:VEVENT
BEGIN:VEVENT
UID:36636332-6137-4436-a530-383936653135
DTSTAMP:20260425T170344Z
DESCRIPTION:
DTSTART:20250423T081500Z
DTEND:20250423T100000Z
LOCATION:E1 3: SR 014\, SR 015\, SR 016
SUMMARY:Cp: Tutorial A
END:VEVENT
BEGIN:VEVENT
UID:38633232-3730-4239-b535-646437646537
DTSTAMP:20260425T170344Z
DESCRIPTION:
DTSTART:20250430T061500Z
DTEND:20250430T080000Z
LOCATION:E1 3: SR 014\, SR 015\, SR 016
SUMMARY:Cp: Tutorial B
END:VEVENT
BEGIN:VEVENT
UID:37636138-6662-4237-b230-623031663738
DTSTAMP:20260425T170344Z
DESCRIPTION:
DTSTART:20250430T081500Z
DTEND:20250430T100000Z
LOCATION:E1 3: SR 014\, SR 015\, SR 016
SUMMARY:Cp: Tutorial B
END:VEVENT
BEGIN:VEVENT
UID:61623166-3031-4164-b865-356132643730
DTSTAMP:20260425T170344Z
DESCRIPTION:
DTSTART:20250507T061500Z
DTEND:20250507T080000Z
LOCATION:E1 3: SR 014\, SR 015\, SR 016
SUMMARY:Cp: Tutorial C
END:VEVENT
BEGIN:VEVENT
UID:38333038-3931-4838-b334-376438333539
DTSTAMP:20260425T170344Z
DESCRIPTION:
DTSTART:20250507T081500Z
DTEND:20250507T100000Z
LOCATION:E1 3: SR 014\, SR 015\, SR 016
SUMMARY:Cp: Tutorial C
END:VEVENT
BEGIN:VEVENT
UID:62633130-6565-4161-b964-306134623939
DTSTAMP:20260425T170344Z
DESCRIPTION:
DTSTART:20250514T061500Z
DTEND:20250514T080000Z
LOCATION:E1 3: SR 014\, SR 015\, SR 016
SUMMARY:Cp: Tutorial D
END:VEVENT
BEGIN:VEVENT
UID:39613162-3234-4561-a431-343763393336
DTSTAMP:20260425T170344Z
DESCRIPTION:
DTSTART:20250514T081500Z
DTEND:20250514T100000Z
LOCATION:E1 3: SR 014\, SR 015\, SR 016
SUMMARY:Cp: Tutorial D
END:VEVENT
BEGIN:VEVENT
UID:37653032-6538-4966-a436-623836643439
DTSTAMP:20260425T170344Z
DESCRIPTION:
DTSTART:20250604T061500Z
DTEND:20250604T080000Z
LOCATION:E1 3: SR 014\, SR 015\, SR 016
SUMMARY:Cp: Tutorial E
END:VEVENT
BEGIN:VEVENT
UID:36323265-3461-4331-b764-333330656132
DTSTAMP:20260425T170344Z
DESCRIPTION:
DTSTART:20250604T081500Z
DTEND:20250604T100000Z
LOCATION:E1 3: SR 014\, SR 015\, SR 016
SUMMARY:Cp: Tutorial E
END:VEVENT
BEGIN:VEVENT
UID:37646263-3330-4633-b134-383639353136
DTSTAMP:20260425T170344Z
DESCRIPTION:
DTSTART:20250611T061500Z
DTEND:20250611T080000Z
LOCATION:E1 3: SR 014\, SR 015\, SR 016
SUMMARY:Cp: Tutorial F
END:VEVENT
BEGIN:VEVENT
UID:32623132-6531-4736-b666-376361333366
DTSTAMP:20260425T170344Z
DESCRIPTION:
DTSTART:20250611T081500Z
DTEND:20250611T100000Z
LOCATION:E1 3: SR 014\, SR 015\, SR 016
SUMMARY:Cp: Tutorial F
END:VEVENT
BEGIN:VEVENT
UID:65383337-3133-4534-b337-376634333535
DTSTAMP:20260425T170344Z
DESCRIPTION:
DTSTART:20250625T061500Z
DTEND:20250625T080000Z
LOCATION:E1 3: SR 014\, SR 015\, SR 016
SUMMARY:Cp: Tutorial G
END:VEVENT
BEGIN:VEVENT
UID:35373537-3632-4164-b465-333166623839
DTSTAMP:20260425T170344Z
DESCRIPTION:
DTSTART:20250625T081500Z
DTEND:20250625T100000Z
LOCATION:E1 3: SR 014\, SR 015\, SR 016
SUMMARY:Cp: Tutorial G
END:VEVENT
BEGIN:VEVENT
UID:34633732-3432-4163-b437-333139623035
DTSTAMP:20260425T170344Z
DESCRIPTION:
DTSTART:20250702T061500Z
DTEND:20250702T080000Z
LOCATION:E1 3: SR 014\, SR 015\, SR 016
SUMMARY:Cp: Tutorial H
END:VEVENT
BEGIN:VEVENT
UID:62643766-6461-4531-a261-396137326164
DTSTAMP:20260425T170344Z
DESCRIPTION:
DTSTART:20250702T081500Z
DTEND:20250702T100000Z
LOCATION:E1 3: SR 014\, SR 015\, SR 016
SUMMARY:Cp: Tutorial H
END:VEVENT
END:VCALENDAR
